BEGIN:VCALENDAR
VERSION:2.0
PRODID:-//PielCanela - ECPv6.15.20//NONSGML v1.0//EN
CALSCALE:GREGORIAN
METHOD:PUBLISH
X-ORIGINAL-URL:https://pielcaneladancers.com
X-WR-CALDESC:Events for PielCanela
REFRESH-INTERVAL;VALUE=DURATION:PT1H
X-Robots-Tag:noindex
X-PUBLISHED-TTL:PT1H
BEGIN:VTIMEZONE
TZID:UTC
BEGIN:STANDARD
TZOFFSETFROM:+0000
TZOFFSETTO:+0000
TZNAME:UTC
DTSTART:20230101T000000
END:STANDARD
END:VTIMEZONE
BEGIN:VEVENT
DTSTART;TZID=UTC:20240627T183000
DTEND;TZID=UTC:20240627T193000
DTSTAMP:20260423T063517
CREATED:20240520T170847Z
LAST-MODIFIED:20240624T233841Z
UID:10009869-1719513000-1719516600@pielcaneladancers.com
SUMMARY:Swing: Levels 2 and 3
DESCRIPTION:Curriculum Class: 6 week series: Every Thursday\, May 30 – July 4
URL:https://pielcaneladancers.com/event/swing-levels-2-and-3-5/2024-06-27/
LOCATION:Room 411\, located on 4th Floor of Pearl Studios:\, 500 8th Ave. between 35/36 Streets\, NYC\, NY\, 10018\, United States
CATEGORIES:Level 2 Advance Beginner,Level 3 Intermediate
ATTACH;FMTTYPE=image/jpeg:https://pielcaneladancers.com/wp-content/uploads/2024/05/Ron_Thursdays.jpg
END:VEVENT
BEGIN:VEVENT
DTSTART;TZID=UTC:20240627T183000
DTEND;TZID=UTC:20240627T193000
DTSTAMP:20260423T063517
CREATED:20240520T171622Z
LAST-MODIFIED:20240624T022806Z
UID:10009893-1719513000-1719516600@pielcaneladancers.com
SUMMARY:Salsa "On 2": Level 1
DESCRIPTION:Curriculum Class: 6 week series: Every Thursday\, May 30 – July 4
URL:https://pielcaneladancers.com/event/salsa-on-2-level-1-21/2024-06-27/
LOCATION:Room 402\, located on 4th Floor of Pearl Studios:\, 500 8th Ave. between 35/36 Streets\, NYC\, NY\, 10018\, United States
CATEGORIES:Level 1 Beginner
END:VEVENT
BEGIN:VEVENT
DTSTART;TZID=UTC:20240627T183000
DTEND;TZID=UTC:20240627T193000
DTSTAMP:20260423T063517
CREATED:20240520T171744Z
LAST-MODIFIED:20240624T234110Z
UID:10009917-1719513000-1719516600@pielcaneladancers.com
SUMMARY:Salsa "On 2": Level 2
DESCRIPTION:Curriculum Class: 6 week series: Every Thursday\, May 30 – July 4
URL:https://pielcaneladancers.com/event/salsa-on-2-level-2-17/2024-06-27/
LOCATION:Room 405\, located on 4th Floor of Pearl Studios:\, 500 8th Ave. between 35/36 Streets\, NYC\, NY\, 10018\, United States
CATEGORIES:Level 2 Advance Beginner
END:VEVENT
BEGIN:VEVENT
DTSTART;TZID=UTC:20240627T183000
DTEND;TZID=UTC:20240627T193000
DTSTAMP:20260423T063517
CREATED:20240620T170756Z
LAST-MODIFIED:20240620T170758Z
UID:10009943-1719513000-1719516600@pielcaneladancers.com
SUMMARY:Bachata: Level 3
DESCRIPTION:Curriculum Class: 6 week series: Every Thursday\, May 30 – July 4
URL:https://pielcaneladancers.com/event/bachata-level-3-5-2/2024-06-27/
CATEGORIES:Level 3 Intermediate
END:VEVENT
BEGIN:VEVENT
DTSTART;TZID=UTC:20240627T193000
DTEND;TZID=UTC:20240627T203000
DTSTAMP:20260423T063517
CREATED:20240516T132738Z
LAST-MODIFIED:20240625T191111Z
UID:10010087-1719516600-1719520200@pielcaneladancers.com
SUMMARY:Flamenco: Level 1
DESCRIPTION:Curriculum Class: 4 week series: Thursdays\, June 6 – 27
URL:https://pielcaneladancers.com/event/flamenco-level-1-4/2024-06-27/
LOCATION:Room 407\, located on 4th Floor of Pearl Studios:\, 500 8th Ave. between 35/36 Streets\, NYC\, NY\, 10018\, United States
CATEGORIES:Level 1 Beginner
ATTACH;FMTTYPE=image/jpeg:https://pielcaneladancers.com/wp-content/uploads/2024/05/Gisele_Flamenco-1.jpg
END:VEVENT
BEGIN:VEVENT
DTSTART;TZID=UTC:20240627T193000
DTEND;TZID=UTC:20240627T203000
DTSTAMP:20260423T063517
CREATED:20240520T170928Z
LAST-MODIFIED:20240624T233916Z
UID:10009881-1719516600-1719520200@pielcaneladancers.com
SUMMARY:Hustle: Level 2 and 3
DESCRIPTION:Curriculum Class: 6 week series: Every Thursday\, May 30 – July 4
URL:https://pielcaneladancers.com/event/hustle-level-2-and-3-5/2024-06-27/
LOCATION:Room 411\, located on 4th Floor of Pearl Studios:\, 500 8th Ave. between 35/36 Streets\, NYC\, NY\, 10018\, United States
CATEGORIES:Level 2 Advance Beginner,Level 3 Intermediate
END:VEVENT
BEGIN:VEVENT
DTSTART;TZID=UTC:20240627T193000
DTEND;TZID=UTC:20240627T203000
DTSTAMP:20260423T063517
CREATED:20240520T171653Z
LAST-MODIFIED:20240624T023200Z
UID:10009905-1719516600-1719520200@pielcaneladancers.com
SUMMARY:Bachata: Level 1
DESCRIPTION:Curriculum Class: 6 week series: Every Thursday\, May 30 – July 4
URL:https://pielcaneladancers.com/event/bachata-level-1-18/2024-06-27/
LOCATION:Room 402\, located on 4th Floor of Pearl Studios:\, 500 8th Ave. between 35/36 Streets\, NYC\, NY\, 10018\, United States
CATEGORIES:Level 1 Beginner
END:VEVENT
BEGIN:VEVENT
DTSTART;TZID=UTC:20240627T193000
DTEND;TZID=UTC:20240627T203000
DTSTAMP:20260423T063517
CREATED:20240520T171812Z
LAST-MODIFIED:20240624T234157Z
UID:10009929-1719516600-1719520200@pielcaneladancers.com
SUMMARY:Bachata: Level 2
DESCRIPTION:Curriculum Class: 6 week series: Every Thursday\, May 30 – July 4
URL:https://pielcaneladancers.com/event/bachata-level-2-17/2024-06-27/
LOCATION:Room 405\, located on 4th Floor of Pearl Studios:\, 500 8th Ave. between 35/36 Streets\, NYC\, NY\, 10018\, United States
CATEGORIES:Level 2 Advance Beginner
END:VEVENT
BEGIN:VEVENT
DTSTART;TZID=UTC:20240627T193000
DTEND;TZID=UTC:20240627T203000
DTSTAMP:20260423T063517
CREATED:20240620T170836Z
LAST-MODIFIED:20240620T170837Z
UID:10009955-1719516600-1719520200@pielcaneladancers.com
SUMMARY:Salsa "On 2": Level 3
DESCRIPTION:Curriculum Class: 6 week series: Every Thursday\, May 30 – July 4
URL:https://pielcaneladancers.com/event/salsa-on-2-level-3-6-2/2024-06-27/
LOCATION:Room 411\, located on 4th Floor of Pearl Studios:\, 500 8th Ave. between 35/36 Streets\, NYC\, NY\, 10018\, United States
CATEGORIES:Level 3 Intermediate
END:VEVENT
BEGIN:VEVENT
DTSTART;TZID=UTC:20240627T203000
DTEND;TZID=UTC:20240627T213000
DTSTAMP:20260423T063517
CREATED:20240516T132835Z
LAST-MODIFIED:20240625T191201Z
UID:10010091-1719520200-1719523800@pielcaneladancers.com
SUMMARY:Pilates
DESCRIPTION:Curriculum Class: 4 week series: Thursdays\, June 6 – 27
URL:https://pielcaneladancers.com/event/pilates-5/2024-06-27/
LOCATION:Room 407\, located on 4th Floor of Pearl Studios:\, 500 8th Ave. between 35/36 Streets\, NYC\, NY\, 10018\, United States
CATEGORIES:Open Level Class
ATTACH;FMTTYPE=image/jpeg:https://pielcaneladancers.com/wp-content/uploads/2024/05/Gisele_Pilates-1.jpg
END:VEVENT
BEGIN:VEVENT
DTSTART;TZID=UTC:20240627T203000
DTEND;TZID=UTC:20240627T213000
DTSTAMP:20260423T063517
CREATED:20240610T163527Z
LAST-MODIFIED:20240704T152322Z
UID:10010138-1719520200-1719523800@pielcaneladancers.com
SUMMARY:Afrocuban
DESCRIPTION:Open Level Class: 4 week series: Every Thursday\, June 13 – July 4
URL:https://pielcaneladancers.com/event/afrocuban-4/2024-06-27/
LOCATION:Room 402\, located on 4th Floor of Pearl Studios:\, 500 8th Ave. between 35/36 Streets\, NYC\, NY\, 10018\, United States
CATEGORIES:Open Level Class
END:VEVENT
END:VCALENDAR