BEGIN:VCALENDAR
VERSION:2.0
PRODID:-//PielCanela - ECPv6.15.20//NONSGML v1.0//EN
CALSCALE:GREGORIAN
METHOD:PUBLISH
X-ORIGINAL-URL:https://pielcaneladancers.com
X-WR-CALDESC:Events for PielCanela
REFRESH-INTERVAL;VALUE=DURATION:PT1H
X-Robots-Tag:noindex
X-PUBLISHED-TTL:PT1H
BEGIN:VTIMEZONE
TZID:UTC
BEGIN:STANDARD
TZOFFSETFROM:+0000
TZOFFSETTO:+0000
TZNAME:UTC
DTSTART:20230101T000000
END:STANDARD
END:VTIMEZONE
BEGIN:VTIMEZONE
TZID:America/New_York
BEGIN:DAYLIGHT
TZOFFSETFROM:-0500
TZOFFSETTO:-0400
TZNAME:EDT
DTSTART:20230312T070000
END:DAYLIGHT
BEGIN:STANDARD
TZOFFSETFROM:-0400
TZOFFSETTO:-0500
TZNAME:EST
DTSTART:20231105T060000
END:STANDARD
BEGIN:DAYLIGHT
TZOFFSETFROM:-0500
TZOFFSETTO:-0400
TZNAME:EDT
DTSTART:20240310T070000
END:DAYLIGHT
BEGIN:STANDARD
TZOFFSETFROM:-0400
TZOFFSETTO:-0500
TZNAME:EST
DTSTART:20241103T060000
END:STANDARD
BEGIN:DAYLIGHT
TZOFFSETFROM:-0500
TZOFFSETTO:-0400
TZNAME:EDT
DTSTART:20250309T070000
END:DAYLIGHT
BEGIN:STANDARD
TZOFFSETFROM:-0400
TZOFFSETTO:-0500
TZNAME:EST
DTSTART:20251102T060000
END:STANDARD
END:VTIMEZONE
BEGIN:VEVENT
DTSTART;TZID=UTC:20240710T183000
DTEND;TZID=UTC:20240710T193000
DTSTAMP:20260421T125648
CREATED:20240625T202953Z
LAST-MODIFIED:20240722T200313Z
UID:10010446-1720636200-1720639800@pielcaneladancers.com
SUMMARY:Heels: Level 1
DESCRIPTION:Open Class: 4 week series: Wednesdays\, July 10 – 31
URL:https://pielcaneladancers.com/event/heels-level-1-7/2024-07-10/
LOCATION:Room 411\, located on 4th Floor of Pearl Studios:\, 500 8th Ave. between 35/36 Streets\, NYC\, NY\, 10018\, United States
CATEGORIES:Level 1 Beginner
ATTACH;FMTTYPE=image/jpeg:https://pielcaneladancers.com/wp-content/uploads/2024/06/Heber_Heels-2.jpg
END:VEVENT
BEGIN:VEVENT
DTSTART;TZID=UTC:20240710T183000
DTEND;TZID=UTC:20240710T193000
DTSTAMP:20260421T125648
CREATED:20240625T203120Z
LAST-MODIFIED:20240722T200833Z
UID:10010462-1720636200-1720639800@pielcaneladancers.com
SUMMARY:Zumba
DESCRIPTION:Open Class: 4 week series: Wednesdays\, July 10 – 31
URL:https://pielcaneladancers.com/event/zumba-6/2024-07-10/
LOCATION:Room 405\, located on 4th Floor of Pearl Studios:\, 500 8th Ave. between 35/36 Streets\, NYC\, NY\, 10018\, United States
CATEGORIES:Open Level Class
ATTACH;FMTTYPE=image/jpeg:https://pielcaneladancers.com/wp-content/uploads/2024/06/Anyelina_Wednesdays-1.jpg
END:VEVENT
BEGIN:VEVENT
DTSTART;TZID=America/New_York:20240710T193000
DTEND;TZID=America/New_York:20240710T203000
DTSTAMP:20260421T125648
CREATED:20240625T195228Z
LAST-MODIFIED:20240807T125842Z
UID:10010379-1720639800-1720643400@pielcaneladancers.com
SUMMARY:Kizomba: Level 1
DESCRIPTION:Curriculum Class: 6 week series: Every Wednesday\, July 3 – Aug 7
URL:https://pielcaneladancers.com/event/kizomba-level-1-5/2024-07-10/
LOCATION:Room 302\, located on 3rd Floor of Pearl Studios:\, 500 8th Ave. between 35/36 Streets\, NYC\, NY\, 10018\, United States
CATEGORIES:Level 1 Beginner
ATTACH;FMTTYPE=image/jpeg:https://pielcaneladancers.com/wp-content/uploads/2024/06/Steve_Kizomba.jpg
END:VEVENT
BEGIN:VEVENT
DTSTART;TZID=UTC:20240710T193000
DTEND;TZID=UTC:20240710T203000
DTSTAMP:20260421T125648
CREATED:20240625T203026Z
LAST-MODIFIED:20240722T200414Z
UID:10010454-1720639800-1720643400@pielcaneladancers.com
SUMMARY:Heels: Level 2
DESCRIPTION:Open Class: 4 week series: Wednesdays\, July 10 – 31
URL:https://pielcaneladancers.com/event/heels-level-2-7/2024-07-10/
LOCATION:Room 411\, located on 4th Floor of Pearl Studios:\, 500 8th Ave. between 35/36 Streets\, NYC\, NY\, 10018\, United States
CATEGORIES:Level 2 Advance Beginner
ATTACH;FMTTYPE=image/jpeg:https://pielcaneladancers.com/wp-content/uploads/2024/06/Heber_Heels-2.jpg
END:VEVENT
BEGIN:VEVENT
DTSTART;TZID=America/New_York:20240710T193000
DTEND;TZID=America/New_York:20240710T203000
DTSTAMP:20260421T125648
CREATED:20240625T203159Z
LAST-MODIFIED:20240722T200920Z
UID:10010470-1720639800-1720643400@pielcaneladancers.com
SUMMARY:Dembow
DESCRIPTION:Open Class: 4 week series: Wednesdays\, July 10 – 31
URL:https://pielcaneladancers.com/event/dembow-6/2024-07-10/
LOCATION:Room 405\, located on 4th Floor of Pearl Studios:\, 500 8th Ave. between 35/36 Streets\, NYC\, NY\, 10018\, United States
CATEGORIES:Open Level Class
ATTACH;FMTTYPE=image/jpeg:https://pielcaneladancers.com/wp-content/uploads/2024/06/Anyelina_Wednesdays-1.jpg
END:VEVENT
BEGIN:VEVENT
DTSTART;TZID=UTC:20240710T193000
DTEND;TZID=UTC:20240710T203000
DTSTAMP:20260421T125648
CREATED:20240807T124043Z
LAST-MODIFIED:20240807T124043Z
UID:10011017-1720639800-1720643400@pielcaneladancers.com
SUMMARY:Heels: Level 2
DESCRIPTION:Open Class: 4 week series: Wednesdays\, Aug 7 – 28
URL:https://pielcaneladancers.com/event/heels-level-2-8/2024-07-10/
LOCATION:Room 405\, located on 4th Floor of Pearl Studios:\, 500 8th Ave. between 35/36 Streets\, NYC\, NY\, 10018\, United States
CATEGORIES:Level 2 Advance Beginner
ATTACH;FMTTYPE=image/jpeg:https://pielcaneladancers.com/wp-content/uploads/2024/08/Heber_Heels.jpg
END:VEVENT
BEGIN:VEVENT
DTSTART;TZID=America/New_York:20240710T203000
DTEND;TZID=America/New_York:20240710T213000
DTSTAMP:20260421T125648
CREATED:20240625T195308Z
LAST-MODIFIED:20240807T125912Z
UID:10010391-1720643400-1720647000@pielcaneladancers.com
SUMMARY:Kizomba: Level 2
DESCRIPTION:Curriculum Class: 6 week series: Every Wednesday\, July 3 – Aug 7
URL:https://pielcaneladancers.com/event/kizomba-level-2-5/2024-07-10/
LOCATION:Room 302\, located on 3rd Floor of Pearl Studios:\, 500 8th Ave. between 35/36 Streets\, NYC\, NY\, 10018\, United States
CATEGORIES:Level 2 Advance Beginner
ATTACH;FMTTYPE=image/jpeg:https://pielcaneladancers.com/wp-content/uploads/2024/06/Steve_Kizomba.jpg
END:VEVENT
BEGIN:VEVENT
DTSTART;TZID=America/New_York:20240710T203000
DTEND;TZID=America/New_York:20240710T213000
DTSTAMP:20260421T125648
CREATED:20240625T203255Z
LAST-MODIFIED:20240722T201010Z
UID:10010478-1720643400-1720647000@pielcaneladancers.com
SUMMARY:Reggeaton
DESCRIPTION:Open Class: 4 week series: Wednesdays\, July 10 – 31
URL:https://pielcaneladancers.com/event/reggeaton/2024-07-10/
LOCATION:Room 405\, located on 4th Floor of Pearl Studios:\, 500 8th Ave. between 35/36 Streets\, NYC\, NY\, 10018\, United States
CATEGORIES:Open Level Class
ATTACH;FMTTYPE=image/jpeg:https://pielcaneladancers.com/wp-content/uploads/2024/06/Anyelina_Wednesdays-1.jpg
END:VEVENT
END:VCALENDAR