BEGIN:VCALENDAR
VERSION:2.0
PRODID:-//PielCanela - ECPv6.15.20//NONSGML v1.0//EN
CALSCALE:GREGORIAN
METHOD:PUBLISH
X-ORIGINAL-URL:https://pielcaneladancers.com
X-WR-CALDESC:Events for PielCanela
REFRESH-INTERVAL;VALUE=DURATION:PT1H
X-Robots-Tag:noindex
X-PUBLISHED-TTL:PT1H
BEGIN:VTIMEZONE
TZID:UTC
BEGIN:STANDARD
TZOFFSETFROM:+0000
TZOFFSETTO:+0000
TZNAME:UTC
DTSTART:20230101T000000
END:STANDARD
END:VTIMEZONE
BEGIN:VTIMEZONE
TZID:America/New_York
BEGIN:DAYLIGHT
TZOFFSETFROM:-0500
TZOFFSETTO:-0400
TZNAME:EDT
DTSTART:20230312T070000
END:DAYLIGHT
BEGIN:STANDARD
TZOFFSETFROM:-0400
TZOFFSETTO:-0500
TZNAME:EST
DTSTART:20231105T060000
END:STANDARD
BEGIN:DAYLIGHT
TZOFFSETFROM:-0500
TZOFFSETTO:-0400
TZNAME:EDT
DTSTART:20240310T070000
END:DAYLIGHT
BEGIN:STANDARD
TZOFFSETFROM:-0400
TZOFFSETTO:-0500
TZNAME:EST
DTSTART:20241103T060000
END:STANDARD
BEGIN:DAYLIGHT
TZOFFSETFROM:-0500
TZOFFSETTO:-0400
TZNAME:EDT
DTSTART:20250309T070000
END:DAYLIGHT
BEGIN:STANDARD
TZOFFSETFROM:-0400
TZOFFSETTO:-0500
TZNAME:EST
DTSTART:20251102T060000
END:STANDARD
END:VTIMEZONE
BEGIN:VEVENT
DTSTART;TZID=UTC:20240814T183000
DTEND;TZID=UTC:20240814T193000
DTSTAMP:20260421T095526
CREATED:20240709T162818Z
LAST-MODIFIED:20240821T223344Z
UID:10010699-1723660200-1723663800@pielcaneladancers.com
SUMMARY:Bachata Level 1
DESCRIPTION:Curriculum Class: 6 week series: Every Tuesday\, July 17 – Aug 21
URL:https://pielcaneladancers.com/event/bachata-level-1-21/2024-08-14/
LOCATION:Room 408\, located on 4th Floor of Pearl Studios:\, 500 8th Ave. between 35/36 Streets\, NYC\, NY\, 10018\, United States
CATEGORIES:Level 1 Beginner
ATTACH;FMTTYPE=image/jpeg:https://pielcaneladancers.com/wp-content/uploads/2024/07/Lou_Wednesdays.jpg
END:VEVENT
BEGIN:VEVENT
DTSTART;TZID=UTC:20240814T183000
DTEND;TZID=UTC:20240814T193000
DTSTAMP:20260421T095526
CREATED:20240709T163016Z
LAST-MODIFIED:20240821T223240Z
UID:10010735-1723660200-1723663800@pielcaneladancers.com
SUMMARY:Bachata: Level 3
DESCRIPTION:Curriculum Class: 6 week series: Every Tuesday\, July 17 – Aug 21
URL:https://pielcaneladancers.com/event/bachata-level-3-7/2024-08-14/
LOCATION:Room 415\, located on 4th Floor of Pearl Studios:\, 500 8th Ave. between 35/36 Streets\, NYC\, NY\, 10018\, United States
CATEGORIES:Level 3 Intermediate
ATTACH;FMTTYPE=image/jpeg:https://pielcaneladancers.com/wp-content/uploads/2024/07/Joe_Wednesdays.jpg
END:VEVENT
BEGIN:VEVENT
DTSTART;TZID=UTC:20240814T183000
DTEND;TZID=UTC:20240814T193000
DTSTAMP:20260421T095526
CREATED:20240807T123946Z
LAST-MODIFIED:20240807T123946Z
UID:10011022-1723660200-1723663800@pielcaneladancers.com
SUMMARY:Heels: Level 1
DESCRIPTION:Open Class: 4 week series: Wednesdays\, Aug 7 – 28
URL:https://pielcaneladancers.com/event/heels-level-1-8/2024-08-14/
LOCATION:Room 405\, located on 4th Floor of Pearl Studios:\, 500 8th Ave. between 35/36 Streets\, NYC\, NY\, 10018\, United States
CATEGORIES:Level 1 Beginner
ATTACH;FMTTYPE=image/jpeg:https://pielcaneladancers.com/wp-content/uploads/2024/08/Heber_Heels.jpg
END:VEVENT
BEGIN:VEVENT
DTSTART;TZID=UTC:20240814T183000
DTEND;TZID=UTC:20240814T193000
DTSTAMP:20260421T095526
CREATED:20240807T124606Z
LAST-MODIFIED:20240807T125423Z
UID:10011029-1723660200-1723663800@pielcaneladancers.com
SUMMARY:Zumba
DESCRIPTION:Open Class: 4 week series: Wednesdays\, Aug 7 – 28
URL:https://pielcaneladancers.com/event/zumba-7/2024-08-14/
LOCATION:Room 407\, located on 4th Floor of Pearl Studios:\, 500 8th Ave. between 35/36 Streets\, NYC\, NY\, 10018\, United States
CATEGORIES:Open Level Class
ATTACH;FMTTYPE=image/jpeg:https://pielcaneladancers.com/wp-content/uploads/2024/08/Anyelina_Wednesdays.jpg
END:VEVENT
BEGIN:VEVENT
DTSTART;TZID=UTC:20240814T193000
DTEND;TZID=UTC:20240814T203000
DTSTAMP:20260421T095526
CREATED:20240709T162858Z
LAST-MODIFIED:20240821T223358Z
UID:10010711-1723663800-1723667400@pielcaneladancers.com
SUMMARY:Bachata: Level 2
DESCRIPTION:Curriculum Class: 6 week series: Every Tuesday\, July 17 – Aug 21
URL:https://pielcaneladancers.com/event/bachata-level-2-20/2024-08-14/
LOCATION:Room 408\, located on 4th Floor of Pearl Studios:\, 500 8th Ave. between 35/36 Streets\, NYC\, NY\, 10018\, United States
CATEGORIES:Level 2 Advance Beginner
ATTACH;FMTTYPE=image/jpeg:https://pielcaneladancers.com/wp-content/uploads/2024/07/Lou_Wednesdays.jpg
END:VEVENT
BEGIN:VEVENT
DTSTART;TZID=UTC:20240814T193000
DTEND;TZID=UTC:20240814T203000
DTSTAMP:20260421T095526
CREATED:20240709T163051Z
LAST-MODIFIED:20240814T172209Z
UID:10010747-1723663800-1723667400@pielcaneladancers.com
SUMMARY:Bachata: Level 4
DESCRIPTION:Curriculum Class: 6 week series: Every Tuesday\, July 17 – Aug 21
URL:https://pielcaneladancers.com/event/bachata-level-4-6/2024-08-14/
LOCATION:Room 408\, located on 4th Floor of Pearl Studios:\, 500 8th Ave. between 35/36 Streets\, NYC\, NY\, 10018\, United States
CATEGORIES:Level 4 Advance Intermediate
ATTACH;FMTTYPE=image/jpeg:https://pielcaneladancers.com/wp-content/uploads/2024/07/Joe_Wednesdays.jpg
END:VEVENT
BEGIN:VEVENT
DTSTART;TZID=UTC:20240814T193000
DTEND;TZID=UTC:20240814T203000
DTSTAMP:20260421T095526
CREATED:20240807T124117Z
LAST-MODIFIED:20240813T163848Z
UID:10011156-1723663800-1723667400@pielcaneladancers.com
SUMMARY:Heels: Level 2
DESCRIPTION:Open Class: 4 week series: Wednesdays\, Aug 7 – 28
URL:https://pielcaneladancers.com/event/heels-level-2-8-2/2024-08-14/
LOCATION:Room 405\, located on 4th Floor of Pearl Studios:\, 500 8th Ave. between 35/36 Streets\, NYC\, NY\, 10018\, United States
CATEGORIES:Level 2 Advance Beginner
ATTACH;FMTTYPE=image/jpeg:https://pielcaneladancers.com/wp-content/uploads/2024/08/Heber_Heels.jpg
END:VEVENT
BEGIN:VEVENT
DTSTART;TZID=America/New_York:20240814T193000
DTEND;TZID=America/New_York:20240814T203000
DTSTAMP:20260421T095526
CREATED:20240807T124716Z
LAST-MODIFIED:20240807T124716Z
UID:10011036-1723663800-1723667400@pielcaneladancers.com
SUMMARY:Dembow
DESCRIPTION:Open Class: 4 week series: Wednesdays\, Aug 7 – 28
URL:https://pielcaneladancers.com/event/dembow-7/2024-08-14/
LOCATION:Room 407\, located on 4th Floor of Pearl Studios:\, 500 8th Ave. between 35/36 Streets\, NYC\, NY\, 10018\, United States
CATEGORIES:Open Level Class
ATTACH;FMTTYPE=image/jpeg:https://pielcaneladancers.com/wp-content/uploads/2024/08/Anyelina_Wednesdays.jpg
END:VEVENT
BEGIN:VEVENT
DTSTART;TZID=UTC:20240814T203000
DTEND;TZID=UTC:20240814T213000
DTSTAMP:20260421T095526
CREATED:20240709T162936Z
LAST-MODIFIED:20240815T001929Z
UID:10010723-1723667400-1723671000@pielcaneladancers.com
SUMMARY:Bachata Partnerwork: Level 2.5
DESCRIPTION:Curriculum Class: 6 week series: Every Tuesday\, July 17 – Aug 21
URL:https://pielcaneladancers.com/event/bachata-partnerwork-level-2-5-5/2024-08-14/
LOCATION:Room 408\, located on 4th Floor of Pearl Studios:\, 500 8th Ave. between 35/36 Streets\, NYC\, NY\, 10018\, United States
CATEGORIES:Level 2 Advance Beginner
ATTACH;FMTTYPE=image/jpeg:https://pielcaneladancers.com/wp-content/uploads/2024/07/Lou_Wednesdays.jpg
END:VEVENT
BEGIN:VEVENT
DTSTART;TZID=UTC:20240814T203000
DTEND;TZID=UTC:20240814T213000
DTSTAMP:20260421T095526
CREATED:20240709T163125Z
LAST-MODIFIED:20240814T172217Z
UID:10010759-1723667400-1723671000@pielcaneladancers.com
SUMMARY:Bachata: Level 5
DESCRIPTION:Curriculum Class: 6 week series: Every Tuesday\, July 17 – Aug 21
URL:https://pielcaneladancers.com/event/bachata-level-5-5/2024-08-14/
LOCATION:Room 408\, located on 4th Floor of Pearl Studios:\, 500 8th Ave. between 35/36 Streets\, NYC\, NY\, 10018\, United States
CATEGORIES:Level 5 Advanced
ATTACH;FMTTYPE=image/jpeg:https://pielcaneladancers.com/wp-content/uploads/2024/07/Joe_Wednesdays.jpg
END:VEVENT
BEGIN:VEVENT
DTSTART;TZID=America/New_York:20240814T203000
DTEND;TZID=America/New_York:20240814T213000
DTSTAMP:20260421T095526
CREATED:20240807T124917Z
LAST-MODIFIED:20240807T124917Z
UID:10011044-1723667400-1723671000@pielcaneladancers.com
SUMMARY:Reggaeton
DESCRIPTION:Open Class: 4 week series: Wednesdays\, Aug 7 – 28
URL:https://pielcaneladancers.com/event/reggaeton-14/2024-08-14/
LOCATION:Room 407\, located on 4th Floor of Pearl Studios:\, 500 8th Ave. between 35/36 Streets\, NYC\, NY\, 10018\, United States
CATEGORIES:Open Level Class
ATTACH;FMTTYPE=image/jpeg:https://pielcaneladancers.com/wp-content/uploads/2024/08/Anyelina_Wednesdays.jpg
END:VEVENT
END:VCALENDAR