BEGIN:VCALENDAR
VERSION:2.0
PRODID:-//PielCanela - ECPv6.15.20//NONSGML v1.0//EN
CALSCALE:GREGORIAN
METHOD:PUBLISH
X-ORIGINAL-URL:https://pielcaneladancers.com
X-WR-CALDESC:Events for PielCanela
REFRESH-INTERVAL;VALUE=DURATION:PT1H
X-Robots-Tag:noindex
X-PUBLISHED-TTL:PT1H
BEGIN:VTIMEZONE
TZID:America/New_York
BEGIN:DAYLIGHT
TZOFFSETFROM:-0500
TZOFFSETTO:-0400
TZNAME:EDT
DTSTART:20230312T070000
END:DAYLIGHT
BEGIN:STANDARD
TZOFFSETFROM:-0400
TZOFFSETTO:-0500
TZNAME:EST
DTSTART:20231105T060000
END:STANDARD
BEGIN:DAYLIGHT
TZOFFSETFROM:-0500
TZOFFSETTO:-0400
TZNAME:EDT
DTSTART:20240310T070000
END:DAYLIGHT
BEGIN:STANDARD
TZOFFSETFROM:-0400
TZOFFSETTO:-0500
TZNAME:EST
DTSTART:20241103T060000
END:STANDARD
BEGIN:DAYLIGHT
TZOFFSETFROM:-0500
TZOFFSETTO:-0400
TZNAME:EDT
DTSTART:20250309T070000
END:DAYLIGHT
BEGIN:STANDARD
TZOFFSETFROM:-0400
TZOFFSETTO:-0500
TZNAME:EST
DTSTART:20251102T060000
END:STANDARD
END:VTIMEZONE
BEGIN:VTIMEZONE
TZID:UTC
BEGIN:STANDARD
TZOFFSETFROM:+0000
TZOFFSETTO:+0000
TZNAME:UTC
DTSTART:20230101T000000
END:STANDARD
END:VTIMEZONE
BEGIN:VEVENT
DTSTART;TZID=America/New_York:20240920T183000
DTEND;TZID=America/New_York:20240920T193000
DTSTAMP:20260421T143603
CREATED:20240814T201807Z
LAST-MODIFIED:20240923T164935Z
UID:10011559-1726857000-1726860600@pielcaneladancers.com
SUMMARY:Swing: Level 1
DESCRIPTION:Curriculum Class: 6 week series: Every Friday\, Aug 23 – Sept 27
URL:https://pielcaneladancers.com/event/swing-level-1-6/2024-09-20/
LOCATION:Room 407\, located on 4th Floor of Pearl Studios:\, 500 8th Ave. between 35/36 Streets\, NYC\, NY\, 10018\, United States
CATEGORIES:Level 1 Beginner
ATTACH;FMTTYPE=image/jpeg:https://pielcaneladancers.com/wp-content/uploads/2024/08/Ron_Fridays.jpg
END:VEVENT
BEGIN:VEVENT
DTSTART;TZID=America/New_York:20240920T183000
DTEND;TZID=America/New_York:20240920T193000
DTSTAMP:20260421T143603
CREATED:20240820T190101Z
LAST-MODIFIED:20240920T221942Z
UID:10011946-1726857000-1726860600@pielcaneladancers.com
SUMMARY:Reggaeton
DESCRIPTION:Open Class: 4 week series: Fridays\, Aug 23 – Sept 13
URL:https://pielcaneladancers.com/event/reggaeton-15/2024-09-20/
LOCATION:Room 402\, located on 4th Floor of Pearl Studios:\, 500 8th Ave. between 35/36 Streets\, NYC\, NY\, 10018\, United States
CATEGORIES:Open Level Class
ATTACH;FMTTYPE=image/jpeg:https://pielcaneladancers.com/wp-content/uploads/2024/08/Sophia_Fridays.jpg
END:VEVENT
BEGIN:VEVENT
DTSTART;TZID=UTC:20240920T183000
DTEND;TZID=UTC:20240920T193000
DTSTAMP:20260421T143603
CREATED:20240822T203547Z
LAST-MODIFIED:20240905T160852Z
UID:10011514-1726857000-1726860600@pielcaneladancers.com
SUMMARY:Salsa "On 2": Level 1
DESCRIPTION:Curriculum Class: 6 week series: Every Friday\, Sept 6 – Oct 11
URL:https://pielcaneladancers.com/event/salsa-on-2-level-1-32/2024-09-20/
LOCATION:Room 407\, located on 4th Floor of Pearl Studios:\, 500 8th Ave. between 35/36 Streets\, NYC\, NY\, 10018\, United States
CATEGORIES:Level 1 Beginner
ATTACH;FMTTYPE=image/jpeg:https://pielcaneladancers.com/wp-content/uploads/2024/08/Raj_Fridays.jpg
END:VEVENT
BEGIN:VEVENT
DTSTART;TZID=UTC:20240920T183000
DTEND;TZID=UTC:20240920T193000
DTSTAMP:20260421T143603
CREATED:20240822T203757Z
LAST-MODIFIED:20240905T160900Z
UID:10011520-1726857000-1726860600@pielcaneladancers.com
SUMMARY:Salsa "On 2": Level 2
DESCRIPTION:Curriculum Class: 6 week series: Every Friday\, Sept 6 – Oct 11
URL:https://pielcaneladancers.com/event/salsa-on-2-level-2-28/2024-09-20/
LOCATION:Room 405\, located on 4th Floor of Pearl Studios:\, 500 8th Ave. between 35/36 Streets\, NYC\, NY\, 10018\, United States
CATEGORIES:Level 2 Advance Beginner
ATTACH;FMTTYPE=image/jpeg:https://pielcaneladancers.com/wp-content/uploads/2024/08/Elena_Fridays.jpg
END:VEVENT
BEGIN:VEVENT
DTSTART;TZID=America/New_York:20240920T183000
DTEND;TZID=America/New_York:20240920T203000
DTSTAMP:20260421T143603
CREATED:20240905T172208Z
LAST-MODIFIED:20241122T170604Z
UID:10011781-1726857000-1726864200@pielcaneladancers.com
SUMMARY:Salsa Student Team
DESCRIPTION:
URL:https://pielcaneladancers.com/event/salsa-student-team/2024-09-20/
END:VEVENT
BEGIN:VEVENT
DTSTART;TZID=America/New_York:20240920T193000
DTEND;TZID=America/New_York:20240920T203000
DTSTAMP:20260421T143603
CREATED:20240814T201755Z
LAST-MODIFIED:20240923T164952Z
UID:10011220-1726860600-1726864200@pielcaneladancers.com
SUMMARY:Hustle: Level 1
DESCRIPTION:Curriculum Class: 6 week series: Every Friday\, Aug 23 – Sept 27
URL:https://pielcaneladancers.com/event/hustle-level-1-6/2024-09-20/
LOCATION:Room 407\, located on 4th Floor of Pearl Studios:\, 500 8th Ave. between 35/36 Streets\, NYC\, NY\, 10018\, United States
CATEGORIES:Level 1 Beginner
ATTACH;FMTTYPE=image/jpeg:https://pielcaneladancers.com/wp-content/uploads/2024/08/Ron_Fridays.jpg
END:VEVENT
BEGIN:VEVENT
DTSTART;TZID=America/New_York:20240920T193000
DTEND;TZID=America/New_York:20240920T203000
DTSTAMP:20260421T143603
CREATED:20240820T190243Z
LAST-MODIFIED:20240920T221900Z
UID:10011945-1726860600-1726864200@pielcaneladancers.com
SUMMARY:Hip Hop
DESCRIPTION:Open Class: 4 week series: Fridays\, Aug 23 – Sept 20
URL:https://pielcaneladancers.com/event/hip-hop-19/2024-09-20/
LOCATION:Room 402\, located on 4th Floor of Pearl Studios:\, 500 8th Ave. between 35/36 Streets\, NYC\, NY\, 10018\, United States
CATEGORIES:Open Level Class
ATTACH;FMTTYPE=image/jpeg:https://pielcaneladancers.com/wp-content/uploads/2024/08/Sophia_Fridays.jpg
END:VEVENT
BEGIN:VEVENT
DTSTART;TZID=UTC:20240920T193000
DTEND;TZID=UTC:20240920T203000
DTSTAMP:20260421T143603
CREATED:20240822T203931Z
LAST-MODIFIED:20241001T171855Z
UID:10011538-1726860600-1726864200@pielcaneladancers.com
SUMMARY:Bachata: Level 1
DESCRIPTION:Curriculum Class: 6 week series: Every Friday\, Sept 6 – Oct 11
URL:https://pielcaneladancers.com/event/bachata-level-1-26/2024-09-20/
LOCATION:Room 407\, located on 4th Floor of Pearl Studios:\, 500 8th Ave. between 35/36 Streets\, NYC\, NY\, 10018\, United States
CATEGORIES:Level 1 Beginner
ATTACH;FMTTYPE=image/jpeg:https://pielcaneladancers.com/wp-content/uploads/2024/08/Raj_Fridays.jpg
END:VEVENT
BEGIN:VEVENT
DTSTART;TZID=UTC:20240920T193000
DTEND;TZID=UTC:20240920T203000
DTSTAMP:20260421T143603
CREATED:20240822T204019Z
LAST-MODIFIED:20240905T160939Z
UID:10011544-1726860600-1726864200@pielcaneladancers.com
SUMMARY:Bachata: Level 2
DESCRIPTION:Curriculum Class: 6 week series: Every Friday\, Sept 6 – Oct 11
URL:https://pielcaneladancers.com/event/bachata-level-2-25/2024-09-20/
LOCATION:Room 405\, located on 4th Floor of Pearl Studios:\, 500 8th Ave. between 35/36 Streets\, NYC\, NY\, 10018\, United States
CATEGORIES:Level 2 Advance Beginner
ATTACH;FMTTYPE=image/jpeg:https://pielcaneladancers.com/wp-content/uploads/2024/08/Elena_Fridays.jpg
END:VEVENT
BEGIN:VEVENT
DTSTART;TZID=America/New_York:20240920T203000
DTEND;TZID=America/New_York:20240920T223000
DTSTAMP:20260421T143603
CREATED:20240913T012343Z
LAST-MODIFIED:20241206T210044Z
UID:10011947-1726864200-1726871400@pielcaneladancers.com
SUMMARY:Practica: Salsa\, Bachata and more
DESCRIPTION:Every Friday 8:30-10:30pm\, a chance to practice your new moves
URL:https://pielcaneladancers.com/event/practica-salsa-bachata-and-more-10/2024-09-20/
LOCATION:Room 412\, located on 4th Floor of Pearl Studios:\, 500 8th Ave. between 35/36 Streets\, NYC\, NY\, 10018\, United States
CATEGORIES:Level 2 Advance Beginner
ATTACH;FMTTYPE=image/webp:https://pielcaneladancers.com/wp-content/uploads/2024/09/F3E149BD-18A5-4FC9-91E0-46D998DE84A5_1024x1024.png-2.webp
END:VEVENT
END:VCALENDAR