BEGIN:VCALENDAR
VERSION:2.0
PRODID:-//PielCanela - ECPv6.15.20//NONSGML v1.0//EN
CALSCALE:GREGORIAN
METHOD:PUBLISH
X-WR-CALNAME:PielCanela
X-ORIGINAL-URL:https://pielcaneladancers.com
X-WR-CALDESC:Events for PielCanela
REFRESH-INTERVAL;VALUE=DURATION:PT1H
X-Robots-Tag:noindex
X-PUBLISHED-TTL:PT1H
BEGIN:VTIMEZONE
TZID:UTC
BEGIN:STANDARD
TZOFFSETFROM:+0000
TZOFFSETTO:+0000
TZNAME:UTC
DTSTART:20230101T000000
END:STANDARD
END:VTIMEZONE
BEGIN:VTIMEZONE
TZID:America/New_York
BEGIN:DAYLIGHT
TZOFFSETFROM:-0500
TZOFFSETTO:-0400
TZNAME:EDT
DTSTART:20230312T070000
END:DAYLIGHT
BEGIN:STANDARD
TZOFFSETFROM:-0400
TZOFFSETTO:-0500
TZNAME:EST
DTSTART:20231105T060000
END:STANDARD
BEGIN:DAYLIGHT
TZOFFSETFROM:-0500
TZOFFSETTO:-0400
TZNAME:EDT
DTSTART:20240310T070000
END:DAYLIGHT
BEGIN:STANDARD
TZOFFSETFROM:-0400
TZOFFSETTO:-0500
TZNAME:EST
DTSTART:20241103T060000
END:STANDARD
BEGIN:DAYLIGHT
TZOFFSETFROM:-0500
TZOFFSETTO:-0400
TZNAME:EDT
DTSTART:20250309T070000
END:DAYLIGHT
BEGIN:STANDARD
TZOFFSETFROM:-0400
TZOFFSETTO:-0500
TZNAME:EST
DTSTART:20251102T060000
END:STANDARD
END:VTIMEZONE
BEGIN:VEVENT
DTSTART;TZID=UTC:20241002T183000
DTEND;TZID=UTC:20241002T193000
DTSTAMP:20260421T174503
CREATED:20240822T183959Z
LAST-MODIFIED:20241001T171600Z
UID:10011410-1727893800-1727897400@pielcaneladancers.com
SUMMARY:Bachata: Level 3
DESCRIPTION:Curriculum Class: 6 week series: Every Tuesday\, Aug 28 – Oct 2
URL:https://pielcaneladancers.com/event/bachata-level-3-9/2024-10-02/
LOCATION:Room 407\, located on 4th Floor of Pearl Studios:\, 500 8th Ave. between 35/36 Streets\, NYC\, NY\, 10018\, United States
CATEGORIES:Level 3 Intermediate
ATTACH;FMTTYPE=image/jpeg:https://pielcaneladancers.com/wp-content/uploads/2024/08/Joe_Wednesdays.jpg
END:VEVENT
BEGIN:VEVENT
DTSTART;TZID=UTC:20241002T183000
DTEND;TZID=UTC:20241002T193000
DTSTAMP:20260421T174503
CREATED:20240905T170006Z
LAST-MODIFIED:20241001T171349Z
UID:10011688-1727893800-1727897400@pielcaneladancers.com
SUMMARY:Zumba
DESCRIPTION:Open Class: 4 week series: Wednesdays\, Sept 11 – Oct 2
URL:https://pielcaneladancers.com/event/zumba-8/2024-10-02/
LOCATION:Room 405\, located on 4th Floor of Pearl Studios:\, 500 8th Ave. between 35/36 Streets\, NYC\, NY\, 10018\, United States
CATEGORIES:Open Level Class
ATTACH;FMTTYPE=image/jpeg:https://pielcaneladancers.com/wp-content/uploads/2024/09/Anyelina_Wednesdays.jpg
END:VEVENT
BEGIN:VEVENT
DTSTART;TZID=UTC:20241002T183000
DTEND;TZID=UTC:20241002T193000
DTSTAMP:20260421T174503
CREATED:20240927T211739Z
LAST-MODIFIED:20241016T200747Z
UID:10012171-1727893800-1727897400@pielcaneladancers.com
SUMMARY:Heels: Level 1
DESCRIPTION:Open Class: 4 week series: Wednesdays\, Oct 2 – 23
URL:https://pielcaneladancers.com/event/heels-level-1-10/2024-10-02/
LOCATION:Room 411\, located on 4th Floor of Pearl Studios:\, 500 8th Ave. between 35/36 Streets\, NYC\, NY\, 10018\, United States
ATTACH;FMTTYPE=image/jpeg:https://pielcaneladancers.com/wp-content/uploads/2024/09/Heber_Heels.jpg
END:VEVENT
BEGIN:VEVENT
DTSTART;TZID=UTC:20241002T193000
DTEND;TZID=UTC:20241002T203000
DTSTAMP:20260421T174503
CREATED:20240822T183650Z
LAST-MODIFIED:20241001T171524Z
UID:10011371-1727897400-1727901000@pielcaneladancers.com
SUMMARY:Bachata: Level 2
DESCRIPTION:Curriculum Class: 6 week series: Every Tuesday\, Aug 28 – Oct 2
URL:https://pielcaneladancers.com/event/bachata-level-2-24/2024-10-02/
LOCATION:Room 411\, located on 4th Floor of Pearl Studios:\, 500 8th Ave. between 35/36 Streets\, NYC\, NY\, 10018\, United States
CATEGORIES:Level 2 Advance Beginner
ATTACH;FMTTYPE=image/jpeg:https://pielcaneladancers.com/wp-content/uploads/2024/08/Lou_Wednesdays.jpg
END:VEVENT
BEGIN:VEVENT
DTSTART;TZID=UTC:20241002T193000
DTEND;TZID=UTC:20241002T203000
DTSTAMP:20260421T174503
CREATED:20240822T184048Z
LAST-MODIFIED:20241001T171607Z
UID:10011416-1727897400-1727901000@pielcaneladancers.com
SUMMARY:Bachata: Level 4
DESCRIPTION:Curriculum Class: 6 week series: Every Tuesday\, Aug 28 – Oct 2
URL:https://pielcaneladancers.com/event/bachata-level-4-7/2024-10-02/
LOCATION:Room 407\, located on 4th Floor of Pearl Studios:\, 500 8th Ave. between 35/36 Streets\, NYC\, NY\, 10018\, United States
CATEGORIES:Level 4 Advance Intermediate
ATTACH;FMTTYPE=image/jpeg:https://pielcaneladancers.com/wp-content/uploads/2024/08/Joe_Wednesdays.jpg
END:VEVENT
BEGIN:VEVENT
DTSTART;TZID=America/New_York:20241002T193000
DTEND;TZID=America/New_York:20241002T203000
DTSTAMP:20260421T174503
CREATED:20240905T170409Z
LAST-MODIFIED:20241001T171356Z
UID:10011704-1727897400-1727901000@pielcaneladancers.com
SUMMARY:Dembow
DESCRIPTION:Open Class: 4 week series: Wednesdays\, Sept 11 – Oct 2
URL:https://pielcaneladancers.com/event/dembow-8/2024-10-02/
LOCATION:Room 405\, located on 4th Floor of Pearl Studios:\, 500 8th Ave. between 35/36 Streets\, NYC\, NY\, 10018\, United States
CATEGORIES:Open Level Class
ATTACH;FMTTYPE=image/jpeg:https://pielcaneladancers.com/wp-content/uploads/2024/09/Anyelina_Wednesdays.jpg
END:VEVENT
BEGIN:VEVENT
DTSTART;TZID=UTC:20241002T193000
DTEND;TZID=UTC:20241002T203000
DTSTAMP:20260421T174503
CREATED:20240927T211842Z
LAST-MODIFIED:20241016T200753Z
UID:10012167-1727897400-1727901000@pielcaneladancers.com
SUMMARY:Heels: Level 2
DESCRIPTION:Open Class: 4 week series: Wednesdays\, Oct 2 – 24
URL:https://pielcaneladancers.com/event/heels-level-2-10/2024-10-02/
LOCATION:Room 411\, located on 4th Floor of Pearl Studios:\, 500 8th Ave. between 35/36 Streets\, NYC\, NY\, 10018\, United States
ATTACH;FMTTYPE=image/jpeg:https://pielcaneladancers.com/wp-content/uploads/2024/09/Heber_Heels.jpg
END:VEVENT
BEGIN:VEVENT
DTSTART;TZID=America/New_York:20241002T193000
DTEND;TZID=America/New_York:20241002T203000
DTSTAMP:20260421T174503
CREATED:20241001T165154Z
LAST-MODIFIED:20241106T202647Z
UID:10011197-1727897400-1727901000@pielcaneladancers.com
SUMMARY:Kizomba: Level 1
DESCRIPTION:Curriculum Class: 6 week series: Every Wednesday\, Aug 28 – Oct 2
URL:https://pielcaneladancers.com/event/kizomba-level-1-6-2/
LOCATION:Room 403\, located on 4th Floor of Pearl Studios:\, 500 8th Ave. between 35/36 Streets\, NYC\, NY\, 10018\, United States
CATEGORIES:Level 1 Beginner
ATTACH;FMTTYPE=image/jpeg:https://pielcaneladancers.com/wp-content/uploads/2024/08/Steve_Kizomba-2.jpg
END:VEVENT
BEGIN:VEVENT
DTSTART;TZID=UTC:20241002T203000
DTEND;TZID=UTC:20241002T213000
DTSTAMP:20260421T174503
CREATED:20240822T183717Z
LAST-MODIFIED:20240911T212252Z
UID:10011377-1727901000-1727904600@pielcaneladancers.com
SUMMARY:Bachata Partnerwork: Level 2.5
DESCRIPTION:Curriculum Class: 6 week series: Every Tuesday\, Aug 28 – Oct 2
URL:https://pielcaneladancers.com/event/bachata-partnerwork-level-2-5-6/2024-10-02/
LOCATION:Room 402\, located on 4th Floor of Pearl Studios:\, 500 8th Ave. between 35/36 Streets\, NYC\, NY\, 10018\, United States
CATEGORIES:Level 2 Advance Beginner
ATTACH;FMTTYPE=image/jpeg:https://pielcaneladancers.com/wp-content/uploads/2024/08/Lou_Wednesdays.jpg
END:VEVENT
BEGIN:VEVENT
DTSTART;TZID=UTC:20241002T203000
DTEND;TZID=UTC:20241002T213000
DTSTAMP:20260421T174503
CREATED:20240822T184118Z
LAST-MODIFIED:20240911T212145Z
UID:10011709-1727901000-1727904600@pielcaneladancers.com
SUMMARY:Bachata: Level 5
DESCRIPTION:Curriculum Class: 6 week series: Every Tuesday\, Aug 28 – Oct 2
URL:https://pielcaneladancers.com/event/bachata-level-5-6/2024-10-02/
CATEGORIES:Level 5 Advanced
ATTACH;FMTTYPE=image/jpeg:https://pielcaneladancers.com/wp-content/uploads/2024/08/Joe_Wednesdays.jpg
END:VEVENT
BEGIN:VEVENT
DTSTART;TZID=America/New_York:20241002T203000
DTEND;TZID=America/New_York:20241002T213000
DTSTAMP:20260421T174503
CREATED:20240905T170130Z
LAST-MODIFIED:20241001T171403Z
UID:10011696-1727901000-1727904600@pielcaneladancers.com
SUMMARY:Reggaeton
DESCRIPTION:Open Class: 4 week series: Wednesdays\, Sept 11 – Oct 2
URL:https://pielcaneladancers.com/event/reggaeton-16/2024-10-02/
LOCATION:Room 405\, located on 4th Floor of Pearl Studios:\, 500 8th Ave. between 35/36 Streets\, NYC\, NY\, 10018\, United States
CATEGORIES:Open Level Class
ATTACH;FMTTYPE=image/jpeg:https://pielcaneladancers.com/wp-content/uploads/2024/09/Anyelina_Wednesdays.jpg
END:VEVENT
BEGIN:VEVENT
DTSTART;TZID=America/New_York:20241002T203000
DTEND;TZID=America/New_York:20241002T213000
DTSTAMP:20260421T174503
CREATED:20241001T165201Z
LAST-MODIFIED:20241106T202654Z
UID:10011203-1727901000-1727904600@pielcaneladancers.com
SUMMARY:Kizomba: Level 2
DESCRIPTION:Curriculum Class: 6 week series: Every Wednesday\, Aug 28 – Oct 2
URL:https://pielcaneladancers.com/event/kizomba-level-2-6-2/
LOCATION:Room 403\, located on 4th Floor of Pearl Studios:\, 500 8th Ave. between 35/36 Streets\, NYC\, NY\, 10018\, United States
CATEGORIES:Level 2 Advance Beginner
ATTACH;FMTTYPE=image/jpeg:https://pielcaneladancers.com/wp-content/uploads/2024/08/Steve_Kizomba-2.jpg
END:VEVENT
BEGIN:VEVENT
DTSTART;TZID=America/New_York:20241002T213000
DTEND;TZID=America/New_York:20241002T223000
DTSTAMP:20260421T174503
CREATED:20240905T173211Z
LAST-MODIFIED:20241113T183413Z
UID:10011880-1727904600-1727908200@pielcaneladancers.com
SUMMARY:Bachata Pro Team
DESCRIPTION:
URL:https://pielcaneladancers.com/event/bachata-pro-team/2024-10-02/
LOCATION:Room 411\, located on 4th Floor of Pearl Studios:\, 500 8th Ave. between 35/36 Streets\, NYC\, NY\, 10018\, United States
END:VEVENT
END:VCALENDAR