BEGIN:VCALENDAR
VERSION:2.0
PRODID:-//PielCanela - ECPv6.15.20//NONSGML v1.0//EN
CALSCALE:GREGORIAN
METHOD:PUBLISH
X-ORIGINAL-URL:https://pielcaneladancers.com
X-WR-CALDESC:Events for PielCanela
REFRESH-INTERVAL;VALUE=DURATION:PT1H
X-Robots-Tag:noindex
X-PUBLISHED-TTL:PT1H
BEGIN:VTIMEZONE
TZID:UTC
BEGIN:STANDARD
TZOFFSETFROM:+0000
TZOFFSETTO:+0000
TZNAME:UTC
DTSTART:20230101T000000
END:STANDARD
END:VTIMEZONE
BEGIN:VTIMEZONE
TZID:America/New_York
BEGIN:DAYLIGHT
TZOFFSETFROM:-0500
TZOFFSETTO:-0400
TZNAME:EDT
DTSTART:20230312T070000
END:DAYLIGHT
BEGIN:STANDARD
TZOFFSETFROM:-0400
TZOFFSETTO:-0500
TZNAME:EST
DTSTART:20231105T060000
END:STANDARD
BEGIN:DAYLIGHT
TZOFFSETFROM:-0500
TZOFFSETTO:-0400
TZNAME:EDT
DTSTART:20240310T070000
END:DAYLIGHT
BEGIN:STANDARD
TZOFFSETFROM:-0400
TZOFFSETTO:-0500
TZNAME:EST
DTSTART:20241103T060000
END:STANDARD
BEGIN:DAYLIGHT
TZOFFSETFROM:-0500
TZOFFSETTO:-0400
TZNAME:EDT
DTSTART:20250309T070000
END:DAYLIGHT
BEGIN:STANDARD
TZOFFSETFROM:-0400
TZOFFSETTO:-0500
TZNAME:EST
DTSTART:20251102T060000
END:STANDARD
END:VTIMEZONE
BEGIN:VEVENT
DTSTART;TZID=UTC:20241030T183000
DTEND;TZID=UTC:20241030T193000
DTSTAMP:20260421T142458
CREATED:20241001T181025Z
LAST-MODIFIED:20241009T212240Z
UID:10012322-1730313000-1730316600@pielcaneladancers.com
SUMMARY:Zumba
DESCRIPTION:Open Class: 4 week series: Wednesdays\, Oct 9 – 30
URL:https://pielcaneladancers.com/event/zumba-9/2024-10-30/
LOCATION:Room 405\, located on 4th Floor of Pearl Studios:\, 500 8th Ave. between 35/36 Streets\, NYC\, NY\, 10018\, United States
CATEGORIES:Open Level Class
ATTACH;FMTTYPE=image/jpeg:https://pielcaneladancers.com/wp-content/uploads/2024/10/Anyelina_Wednesdays.jpg
END:VEVENT
BEGIN:VEVENT
DTSTART;TZID=UTC:20241030T183000
DTEND;TZID=UTC:20241030T193000
DTSTAMP:20260421T142458
CREATED:20241014T154838Z
LAST-MODIFIED:20241107T185608Z
UID:10012443-1730313000-1730316600@pielcaneladancers.com
SUMMARY:Bachata Level 1
DESCRIPTION:Curriculum Class: 6 week series: Every Wednesday\, Oct 16 – Nov 13
URL:https://pielcaneladancers.com/event/bachata-level-1-25-2/2024-10-30/
LOCATION:Room 405\, located on 4th Floor of Pearl Studios:\, 500 8th Ave. between 35/36 Streets\, NYC\, NY\, 10018\, United States
CATEGORIES:Level 1 Beginner
ATTACH;FMTTYPE=image/jpeg:https://pielcaneladancers.com/wp-content/uploads/2024/10/Joe_Wednesdays.jpg
END:VEVENT
BEGIN:VEVENT
DTSTART;TZID=UTC:20241030T183000
DTEND;TZID=UTC:20241030T193000
DTSTAMP:20260421T142458
CREATED:20241014T155132Z
LAST-MODIFIED:20241107T185706Z
UID:10012426-1730313000-1730316600@pielcaneladancers.com
SUMMARY:Bachata: Level 3
DESCRIPTION:Curriculum Class: 6 week series: Every Wednesday\, Oct 16 – Nov 13
URL:https://pielcaneladancers.com/event/bachata-level-3-10/2024-10-30/
LOCATION:Room 402\, located on 4th Floor of Pearl Studios:\, 500 8th Ave. between 35/36 Streets\, NYC\, NY\, 10018\, United States
CATEGORIES:Level 3 Intermediate
ATTACH;FMTTYPE=image/jpeg:https://pielcaneladancers.com/wp-content/uploads/2024/10/Lou_Wednesdays.jpg
END:VEVENT
BEGIN:VEVENT
DTSTART;TZID=UTC:20241030T183000
DTEND;TZID=UTC:20241030T193000
DTSTAMP:20260421T142458
CREATED:20241027T135312Z
LAST-MODIFIED:20241106T014003Z
UID:10012174-1730313000-1730316600@pielcaneladancers.com
SUMMARY:Heels: Level 1
DESCRIPTION:Open Class: 4 week series: Wednesdays\, Oct 30 – Nov 20
URL:https://pielcaneladancers.com/event/heels-level-1-10-2/2024-10-30/
LOCATION:Room 411\, located on 4th Floor of Pearl Studios:\, 500 8th Ave. between 35/36 Streets\, NYC\, NY\, 10018\, United States
ATTACH;FMTTYPE=image/jpeg:https://pielcaneladancers.com/wp-content/uploads/2024/09/Heber_Heels-1.jpg
END:VEVENT
BEGIN:VEVENT
DTSTART;TZID=UTC:20241030T183000
DTEND;TZID=UTC:20241030T193000
DTSTAMP:20260421T142458
CREATED:20241027T135958Z
LAST-MODIFIED:20241120T222316Z
UID:10012653-1730313000-1730316600@pielcaneladancers.com
SUMMARY:Flamenco: Level 1
DESCRIPTION:Curriculum Class: 4 week series: Wednesdays\, Oct 30 – Nov 20
URL:https://pielcaneladancers.com/event/flamenco-level-1-5/2024-10-30/
CATEGORIES:Level 1 Beginner
ATTACH;FMTTYPE=image/jpeg:https://pielcaneladancers.com/wp-content/uploads/2024/10/Gisele_Flamenco.jpg
END:VEVENT
BEGIN:VEVENT
DTSTART;TZID=America/New_York:20241030T193000
DTEND;TZID=America/New_York:20241030T203000
DTSTAMP:20260421T142458
CREATED:20241001T165059Z
LAST-MODIFIED:20241113T183044Z
UID:10012200-1730316600-1730320200@pielcaneladancers.com
SUMMARY:Kizomba: Level 1
DESCRIPTION:Curriculum Class: 6 week series: Every Wednesday\, Oct 9 – Nov 13
URL:https://pielcaneladancers.com/event/kizomba-level-1-7/2024-10-30/
LOCATION:Room 410\, located on 4th Floor of Pearl Studios:\, 500 8th Ave. between 35/36 Streets\, NYC\, NY\, 10018\, United States
ATTACH;FMTTYPE=image/jpeg:https://pielcaneladancers.com/wp-content/uploads/2024/10/Steve_Kizomba.jpg
END:VEVENT
BEGIN:VEVENT
DTSTART;TZID=America/New_York:20241030T193000
DTEND;TZID=America/New_York:20241030T203000
DTSTAMP:20260421T142458
CREATED:20241001T181051Z
LAST-MODIFIED:20241009T212313Z
UID:10012326-1730316600-1730320200@pielcaneladancers.com
SUMMARY:Dembow
DESCRIPTION:Open Class: 4 week series: Wednesdays\, Oct 9 – 30
URL:https://pielcaneladancers.com/event/dembow-9/2024-10-30/
LOCATION:Room 405\, located on 4th Floor of Pearl Studios:\, 500 8th Ave. between 35/36 Streets\, NYC\, NY\, 10018\, United States
CATEGORIES:Open Level Class
ATTACH;FMTTYPE=image/jpeg:https://pielcaneladancers.com/wp-content/uploads/2024/10/Anyelina_Wednesdays-1.jpg
END:VEVENT
BEGIN:VEVENT
DTSTART;TZID=UTC:20241030T193000
DTEND;TZID=UTC:20241030T203000
DTSTAMP:20260421T142458
CREATED:20241014T154945Z
LAST-MODIFIED:20241107T185625Z
UID:10012402-1730316600-1730320200@pielcaneladancers.com
SUMMARY:Bachata: Level 2
DESCRIPTION:Curriculum Class: 6 week series: Every Wednesday\, Oct 16 – Nov 13
URL:https://pielcaneladancers.com/event/bachata-level-2-27/2024-10-30/
LOCATION:Room 405\, located on 4th Floor of Pearl Studios:\, 500 8th Ave. between 35/36 Streets\, NYC\, NY\, 10018\, United States
CATEGORIES:Level 2 Advance Beginner
ATTACH;FMTTYPE=image/jpeg:https://pielcaneladancers.com/wp-content/uploads/2024/10/Joe_Wednesdays.jpg
END:VEVENT
BEGIN:VEVENT
DTSTART;TZID=UTC:20241030T193000
DTEND;TZID=UTC:20241030T203000
DTSTAMP:20260421T142458
CREATED:20241014T155405Z
LAST-MODIFIED:20241107T185744Z
UID:10012455-1730316600-1730320200@pielcaneladancers.com
SUMMARY:Bachata: Level 3.5
DESCRIPTION:Curriculum Class: 6 week series: Every Wednesday\, Oct 16 – Nov 13
URL:https://pielcaneladancers.com/event/bachata-level-3-5-3/2024-10-30/
LOCATION:Room 402\, located on 4th Floor of Pearl Studios:\, 500 8th Ave. between 35/36 Streets\, NYC\, NY\, 10018\, United States
CATEGORIES:Level 3 Intermediate
ATTACH;FMTTYPE=image/jpeg:https://pielcaneladancers.com/wp-content/uploads/2024/10/Lou_Wednesdays.jpg
END:VEVENT
BEGIN:VEVENT
DTSTART;TZID=UTC:20241030T193000
DTEND;TZID=UTC:20241030T203000
DTSTAMP:20260421T142458
CREATED:20241027T135237Z
LAST-MODIFIED:20241106T014017Z
UID:10012170-1730316600-1730320200@pielcaneladancers.com
SUMMARY:Heels: Level 2
DESCRIPTION:Open Class: 4 week series: Wednesdays\, Oct 30 – Nov 20
URL:https://pielcaneladancers.com/event/heels-level-2-10-2/2024-10-30/
LOCATION:Room 411\, located on 4th Floor of Pearl Studios:\, 500 8th Ave. between 35/36 Streets\, NYC\, NY\, 10018\, United States
ATTACH;FMTTYPE=image/jpeg:https://pielcaneladancers.com/wp-content/uploads/2024/09/Heber_Heels-1.jpg
END:VEVENT
BEGIN:VEVENT
DTSTART;TZID=UTC:20241030T193000
DTEND;TZID=UTC:20241030T203000
DTSTAMP:20260421T142458
CREATED:20241027T140055Z
LAST-MODIFIED:20241106T202615Z
UID:10012657-1730316600-1730320200@pielcaneladancers.com
SUMMARY:Pilates
DESCRIPTION:Curriculum Class: 4 week series: Wednesdays\, Oct 30 – Nov 20
URL:https://pielcaneladancers.com/event/pilates-6/2024-10-30/
LOCATION:Room 415\, located on 4th Floor of Pearl Studios:\, 500 8th Ave. between 35/36 Streets\, NYC\, NY\, 10018\, United States
CATEGORIES:Open Level Class
ATTACH;FMTTYPE=image/jpeg:https://pielcaneladancers.com/wp-content/uploads/2024/10/Gisele_Pilates.jpg
END:VEVENT
BEGIN:VEVENT
DTSTART;TZID=America/New_York:20241030T203000
DTEND;TZID=America/New_York:20241030T213000
DTSTAMP:20260421T142458
CREATED:20241001T165121Z
LAST-MODIFIED:20241113T183053Z
UID:10012206-1730320200-1730323800@pielcaneladancers.com
SUMMARY:Kizomba: Level 2
DESCRIPTION:Curriculum Class: 6 week series: Every Wednesday\, Oct 9 – Nov 13
URL:https://pielcaneladancers.com/event/kizomba-level-2-7/2024-10-30/
LOCATION:Room 410\, located on 4th Floor of Pearl Studios:\, 500 8th Ave. between 35/36 Streets\, NYC\, NY\, 10018\, United States
ATTACH;FMTTYPE=image/jpeg:https://pielcaneladancers.com/wp-content/uploads/2024/10/Steve_Kizomba.jpg
END:VEVENT
BEGIN:VEVENT
DTSTART;TZID=America/New_York:20241030T203000
DTEND;TZID=America/New_York:20241030T213000
DTSTAMP:20260421T142458
CREATED:20241001T181137Z
LAST-MODIFIED:20241009T212341Z
UID:10012334-1730320200-1730323800@pielcaneladancers.com
SUMMARY:Reggaeton
DESCRIPTION:Open Class: 4 week series: Wednesdays\, Oct 9 – 30
URL:https://pielcaneladancers.com/event/reggaeton-18/2024-10-30/
LOCATION:Room 405\, located on 4th Floor of Pearl Studios:\, 500 8th Ave. between 35/36 Streets\, NYC\, NY\, 10018\, United States
CATEGORIES:Open Level Class
ATTACH;FMTTYPE=image/jpeg:https://pielcaneladancers.com/wp-content/uploads/2024/10/Anyelina_Wednesdays-1.jpg
END:VEVENT
BEGIN:VEVENT
DTSTART;TZID=UTC:20241030T203000
DTEND;TZID=UTC:20241030T213000
DTSTAMP:20260421T142458
CREATED:20241014T155029Z
LAST-MODIFIED:20241107T185651Z
UID:10012498-1730320200-1730323800@pielcaneladancers.com
SUMMARY:Bachata: Level 4
DESCRIPTION:Curriculum Class: 6 week series: Every Wednesday\, Oct 16 – Nov 13
URL:https://pielcaneladancers.com/event/bachata-level-4-8/2024-10-30/
LOCATION:Room 405\, located on 4th Floor of Pearl Studios:\, 500 8th Ave. between 35/36 Streets\, NYC\, NY\, 10018\, United States
CATEGORIES:Level 4 Advance Intermediate
ATTACH;FMTTYPE=image/jpeg:https://pielcaneladancers.com/wp-content/uploads/2024/10/Joe_Wednesdays.jpg
END:VEVENT
BEGIN:VEVENT
DTSTART;TZID=UTC:20241030T203000
DTEND;TZID=UTC:20241030T213000
DTSTAMP:20260421T142458
CREATED:20241014T155225Z
LAST-MODIFIED:20241107T185815Z
UID:10012849-1730320200-1730323800@pielcaneladancers.com
SUMMARY:Bachata Partnerwork: Level 2.5
DESCRIPTION:Curriculum Class: 6 week series: Every Wednesday\, Oct 16 – Nov 13
URL:https://pielcaneladancers.com/event/bachata-partnerwork-level-2-5-7/2024-10-30/
LOCATION:Room 402\, located on 4th Floor of Pearl Studios:\, 500 8th Ave. between 35/36 Streets\, NYC\, NY\, 10018\, United States
CATEGORIES:Level 2 Advance Beginner
ATTACH;FMTTYPE=image/jpeg:https://pielcaneladancers.com/wp-content/uploads/2024/10/Lou_Wednesdays.jpg
END:VEVENT
BEGIN:VEVENT
DTSTART;TZID=America/New_York:20241030T213000
DTEND;TZID=America/New_York:20241030T223000
DTSTAMP:20260421T142458
CREATED:20240905T173211Z
LAST-MODIFIED:20241113T183413Z
UID:10011888-1730323800-1730327400@pielcaneladancers.com
SUMMARY:Bachata Pro Team
DESCRIPTION:
URL:https://pielcaneladancers.com/event/bachata-pro-team/2024-10-30/
LOCATION:Room 411\, located on 4th Floor of Pearl Studios:\, 500 8th Ave. between 35/36 Streets\, NYC\, NY\, 10018\, United States
END:VEVENT
END:VCALENDAR