BEGIN:VCALENDAR
VERSION:2.0
PRODID:-//PielCanela - ECPv6.15.20//NONSGML v1.0//EN
CALSCALE:GREGORIAN
METHOD:PUBLISH
X-WR-CALNAME:PielCanela
X-ORIGINAL-URL:https://pielcaneladancers.com
X-WR-CALDESC:Events for PielCanela
REFRESH-INTERVAL;VALUE=DURATION:PT1H
X-Robots-Tag:noindex
X-PUBLISHED-TTL:PT1H
BEGIN:VTIMEZONE
TZID:UTC
BEGIN:STANDARD
TZOFFSETFROM:+0000
TZOFFSETTO:+0000
TZNAME:UTC
DTSTART:20230101T000000
END:STANDARD
END:VTIMEZONE
BEGIN:VTIMEZONE
TZID:America/New_York
BEGIN:DAYLIGHT
TZOFFSETFROM:-0500
TZOFFSETTO:-0400
TZNAME:EDT
DTSTART:20230312T070000
END:DAYLIGHT
BEGIN:STANDARD
TZOFFSETFROM:-0400
TZOFFSETTO:-0500
TZNAME:EST
DTSTART:20231105T060000
END:STANDARD
BEGIN:DAYLIGHT
TZOFFSETFROM:-0500
TZOFFSETTO:-0400
TZNAME:EDT
DTSTART:20240310T070000
END:DAYLIGHT
BEGIN:STANDARD
TZOFFSETFROM:-0400
TZOFFSETTO:-0500
TZNAME:EST
DTSTART:20241103T060000
END:STANDARD
BEGIN:DAYLIGHT
TZOFFSETFROM:-0500
TZOFFSETTO:-0400
TZNAME:EDT
DTSTART:20250309T070000
END:DAYLIGHT
BEGIN:STANDARD
TZOFFSETFROM:-0400
TZOFFSETTO:-0500
TZNAME:EST
DTSTART:20251102T060000
END:STANDARD
END:VTIMEZONE
BEGIN:VEVENT
DTSTART;TZID=UTC:20241105T183000
DTEND;TZID=UTC:20241105T193000
DTSTAMP:20260421T125213
CREATED:20241022T171122Z
LAST-MODIFIED:20241122T173130Z
UID:10012574-1730831400-1730835000@pielcaneladancers.com
SUMMARY:Salsa "On 2": Level 1
DESCRIPTION:Curriculum Class: 6 week series: Every Tuesday\, Oct 22 – Nov 26
URL:https://pielcaneladancers.com/event/salsa-on-2-level-1-37/2024-11-05/
LOCATION:Room 405\, located on 4th Floor of Pearl Studios:\, 500 8th Ave. between 35/36 Streets\, NYC\, NY\, 10018\, United States
CATEGORIES:Level 1 Beginner
ATTACH;FMTTYPE=image/jpeg:https://pielcaneladancers.com/wp-content/uploads/2024/10/Joe_Tuesdays.jpg
END:VEVENT
BEGIN:VEVENT
DTSTART;TZID=UTC:20241105T183000
DTEND;TZID=UTC:20241105T193000
DTSTAMP:20260421T125213
CREATED:20241022T171822Z
LAST-MODIFIED:20241105T184427Z
UID:10012582-1730831400-1730835000@pielcaneladancers.com
SUMMARY:BellyDance: Level 1
DESCRIPTION:Curriculum Class: 4 week series: Tuesdays\, Oct 22 – Nov 12
URL:https://pielcaneladancers.com/event/bellydance-level-1-5/2024-11-05/
LOCATION:Room 410\, located on 4th Floor of Pearl Studios:\, 500 8th Ave. between 35/36 Streets\, NYC\, NY\, 10018\, United States
ATTACH;FMTTYPE=image/jpeg:https://pielcaneladancers.com/wp-content/uploads/2024/10/Anyelina_Tuesdays.jpg
END:VEVENT
BEGIN:VEVENT
DTSTART;TZID=America/New_York:20241105T183000
DTEND;TZID=America/New_York:20241105T193000
DTSTAMP:20260421T125213
CREATED:20241022T174252Z
LAST-MODIFIED:20241122T165150Z
UID:10012604-1730831400-1730835000@pielcaneladancers.com
SUMMARY:Pachanga: Level 1.5
DESCRIPTION:Curriculum Class: 6 week series: Every Tuesday\, Oct 22 – Nov 26
URL:https://pielcaneladancers.com/event/pachanga-level-1-5-3/2024-11-05/
LOCATION:Room 405\, located on 4th Floor of Pearl Studios:\, 500 8th Ave. between 35/36 Streets\, NYC\, NY\, 10018\, United States
CATEGORIES:Level 1 Beginner
ATTACH;FMTTYPE=image/jpeg:https://pielcaneladancers.com/wp-content/uploads/2024/10/Bianca_Tuesdays.jpg
END:VEVENT
BEGIN:VEVENT
DTSTART;TZID=UTC:20241105T183000
DTEND;TZID=UTC:20241105T193000
DTSTAMP:20260421T125213
CREATED:20241022T174421Z
LAST-MODIFIED:20241122T165250Z
UID:10012619-1730831400-1730835000@pielcaneladancers.com
SUMMARY:Salsa Ladies Styling:  Level 1.5
DESCRIPTION:Curriculum Class: 6 week series: Every Tuesday\, Oct 22 – Nov 26
URL:https://pielcaneladancers.com/event/salsa-ladies-styling-level-1-5-8/2024-11-05/
LOCATION:Room 403\, located on 4th Floor of Pearl Studios:\, 500 8th Ave. between 35/36 Streets\, NYC\, NY\, 10018\, United States
CATEGORIES:Level 1 Beginner
ATTACH;FMTTYPE=image/jpeg:https://pielcaneladancers.com/wp-content/uploads/2024/10/Veronica_Tuesdays.jpg
END:VEVENT
BEGIN:VEVENT
DTSTART;TZID=UTC:20241105T183000
DTEND;TZID=UTC:20241105T193000
DTSTAMP:20260421T125213
CREATED:20241031T200834Z
LAST-MODIFIED:20241210T212659Z
UID:10012718-1730831400-1730835000@pielcaneladancers.com
SUMMARY:Brazilian Zouk: Level 1
DESCRIPTION:Curriculum Class: 6 week series: Every Tuesday\, Nov 5 – Dec 10
URL:https://pielcaneladancers.com/event/brazilian-zouk-level-1-11/2024-11-05/
LOCATION:Room 405\, located on 4th Floor of Pearl Studios:\, 500 8th Ave. between 35/36 Streets\, NYC\, NY\, 10018\, United States
CATEGORIES:Level 1 Beginner
ATTACH;FMTTYPE=image/jpeg:https://pielcaneladancers.com/wp-content/uploads/2024/10/Vinnie_Zouk_Tuesdays.jpg
END:VEVENT
BEGIN:VEVENT
DTSTART;TZID=America/New_York:20241105T183000
DTEND;TZID=America/New_York:20241105T193000
DTSTAMP:20260421T125213
CREATED:20241031T201221Z
LAST-MODIFIED:20241203T180513Z
UID:10012730-1730831400-1730835000@pielcaneladancers.com
SUMMARY:Merengue: Level 1
DESCRIPTION:Open Class: 4 week series: Tuesdays\, Nov 12 – Dec 3
URL:https://pielcaneladancers.com/event/merengue-level-1-10/2024-11-05/
LOCATION:Room 405\, located on 4th Floor of Pearl Studios:\, 500 8th Ave. between 35/36 Streets\, NYC\, NY\, 10018\, United States
CATEGORIES:Level 1 Beginner
ATTACH;FMTTYPE=image/jpeg:https://pielcaneladancers.com/wp-content/uploads/2024/10/Elizabeth_Merengue-2.jpg
END:VEVENT
BEGIN:VEVENT
DTSTART;TZID=UTC:20241105T193000
DTEND;TZID=UTC:20241105T203000
DTSTAMP:20260421T125213
CREATED:20241016T173818Z
LAST-MODIFIED:20241122T173137Z
UID:10012492-1730835000-1730838600@pielcaneladancers.com
SUMMARY:Salsa "On 2": Level 2
DESCRIPTION:Curriculum Class: 6 week series: Every Tuesday\, Oct 22 – Nov 26
URL:https://pielcaneladancers.com/event/salsa-on-2-level-2-31/2024-11-05/
LOCATION:Room 405\, located on 4th Floor of Pearl Studios:\, 500 8th Ave. between 35/36 Streets\, NYC\, NY\, 10018\, United States
CATEGORIES:Level 2 Advance Beginner
ATTACH;FMTTYPE=image/jpeg:https://pielcaneladancers.com/wp-content/uploads/2024/10/Joe_Tuesdays.jpg
END:VEVENT
BEGIN:VEVENT
DTSTART;TZID=America/New_York:20241105T193000
DTEND;TZID=America/New_York:20241105T203000
DTSTAMP:20260421T125213
CREATED:20241022T172121Z
LAST-MODIFIED:20241105T184452Z
UID:10012588-1730835000-1730838600@pielcaneladancers.com
SUMMARY:Reggaeton
DESCRIPTION:Open Class: 4 week series: Tuesdays\, Oct 22 – Nov 12
URL:https://pielcaneladancers.com/event/reggaeton-19/2024-11-05/
LOCATION:Room 410\, located on 4th Floor of Pearl Studios:\, 500 8th Ave. between 35/36 Streets\, NYC\, NY\, 10018\, United States
CATEGORIES:Open Level Class
ATTACH;FMTTYPE=image/jpeg:https://pielcaneladancers.com/wp-content/uploads/2024/10/Anyelina_Tuesdays.jpg
END:VEVENT
BEGIN:VEVENT
DTSTART;TZID=UTC:20241105T193000
DTEND;TZID=UTC:20241105T203000
DTSTAMP:20260421T125213
CREATED:20241022T174452Z
LAST-MODIFIED:20241122T165233Z
UID:10012623-1730835000-1730838600@pielcaneladancers.com
SUMMARY:Salsa Ladies Styling: Level 2.5
DESCRIPTION:Curriculum Class: 6 week series: Every Tuesday\, Oct 22 – Nov 26
URL:https://pielcaneladancers.com/event/salsa-ladies-styling-level-2-5-6/2024-11-05/
LOCATION:Room 405\, located on 4th Floor of Pearl Studios:\, 500 8th Ave. between 35/36 Streets\, NYC\, NY\, 10018\, United States
CATEGORIES:Level 2 Advance Beginner
ATTACH;FMTTYPE=image/jpeg:https://pielcaneladancers.com/wp-content/uploads/2024/10/Bianca_Tuesdays.jpg
END:VEVENT
BEGIN:VEVENT
DTSTART;TZID=UTC:20241105T193000
DTEND;TZID=UTC:20241105T203000
DTSTAMP:20260421T125213
CREATED:20241031T200808Z
LAST-MODIFIED:20241210T212653Z
UID:10012712-1730835000-1730838600@pielcaneladancers.com
SUMMARY:Brazilian Zouk: Level 2
DESCRIPTION:Curriculum Class: 6 week series: Every Tuesday\, Nov 5 – Dec 10
URL:https://pielcaneladancers.com/event/brazilian-zouk-level-2-8/2024-11-05/
LOCATION:Room 405\, located on 4th Floor of Pearl Studios:\, 500 8th Ave. between 35/36 Streets\, NYC\, NY\, 10018\, United States
CATEGORIES:Level 2 Advance Beginner
ATTACH;FMTTYPE=image/jpeg:https://pielcaneladancers.com/wp-content/uploads/2024/10/Vinnie_Zouk_Tuesdays.jpg
END:VEVENT
BEGIN:VEVENT
DTSTART;TZID=America/New_York:20241105T193000
DTEND;TZID=America/New_York:20241105T203000
DTSTAMP:20260421T125213
CREATED:20241031T201307Z
LAST-MODIFIED:20241203T180448Z
UID:10012734-1730835000-1730838600@pielcaneladancers.com
SUMMARY:Merengue: Level 2
DESCRIPTION:Open Class: 4 week series: Tuesdays\, Nov 12 – Dec 3
URL:https://pielcaneladancers.com/event/merengue-level-2-11/2024-11-05/
LOCATION:Room 405\, located on 4th Floor of Pearl Studios:\, 500 8th Ave. between 35/36 Streets\, NYC\, NY\, 10018\, United States
CATEGORIES:Level 2 Advance Beginner
ATTACH;FMTTYPE=image/jpeg:https://pielcaneladancers.com/wp-content/uploads/2024/10/Elizabeth_Merengue-2.jpg
END:VEVENT
BEGIN:VEVENT
DTSTART;TZID=America/New_York:20241105T203000
DTEND;TZID=America/New_York:20241105T213000
DTSTAMP:20260421T125213
CREATED:20240905T171354Z
LAST-MODIFIED:20240905T173109Z
UID:10011726-1730838600-1730842200@pielcaneladancers.com
SUMMARY:Ladies Advanced Student Team
DESCRIPTION:
URL:https://pielcaneladancers.com/event/ladies-advanced-student-team/2024-11-05/
END:VEVENT
BEGIN:VEVENT
DTSTART;TZID=America/New_York:20241105T203000
DTEND;TZID=America/New_York:20241105T213000
DTSTAMP:20260421T125213
CREATED:20241022T172235Z
LAST-MODIFIED:20241105T184518Z
UID:10012595-1730838600-1730842200@pielcaneladancers.com
SUMMARY:Hip Hop
DESCRIPTION:Open Class: 4 week series: Tuesdays\, Oct 22 – Nov 12
URL:https://pielcaneladancers.com/event/hip-hop-21/2024-11-05/
LOCATION:Room 410\, located on 4th Floor of Pearl Studios:\, 500 8th Ave. between 35/36 Streets\, NYC\, NY\, 10018\, United States
CATEGORIES:Open Level Class
ATTACH;FMTTYPE=image/jpeg:https://pielcaneladancers.com/wp-content/uploads/2024/10/Anyelina_Tuesdays.jpg
END:VEVENT
BEGIN:VEVENT
DTSTART;TZID=UTC:20241105T203000
DTEND;TZID=UTC:20241105T213000
DTSTAMP:20260421T125213
CREATED:20241031T200735Z
LAST-MODIFIED:20241210T212647Z
UID:10012706-1730838600-1730842200@pielcaneladancers.com
SUMMARY:Brazilian Zouk: Level 3
DESCRIPTION:Curriculum Class: 6 week series: Every Tuesday\, Nov 5 – Dec 10
URL:https://pielcaneladancers.com/event/brazilian-zouk-level-3-8/2024-11-05/
LOCATION:Room 405\, located on 4th Floor of Pearl Studios:\, 500 8th Ave. between 35/36 Streets\, NYC\, NY\, 10018\, United States
CATEGORIES:Level 3 Intermediate
ATTACH;FMTTYPE=image/jpeg:https://pielcaneladancers.com/wp-content/uploads/2024/10/Vinnie_Zouk_Tuesdays.jpg
END:VEVENT
BEGIN:VEVENT
DTSTART;TZID=America/New_York:20241105T213000
DTEND;TZID=America/New_York:20241105T223000
DTSTAMP:20260421T125213
CREATED:20240905T173009Z
LAST-MODIFIED:20241122T170533Z
UID:10011827-1730842200-1730845800@pielcaneladancers.com
SUMMARY:Salsa Pro Team
DESCRIPTION:
URL:https://pielcaneladancers.com/event/salsa-pro-team/2024-11-05/
END:VEVENT
END:VCALENDAR