BEGIN:VCALENDAR
VERSION:2.0
PRODID:-//PielCanela - ECPv6.15.20//NONSGML v1.0//EN
CALSCALE:GREGORIAN
METHOD:PUBLISH
X-ORIGINAL-URL:https://pielcaneladancers.com
X-WR-CALDESC:Events for PielCanela
REFRESH-INTERVAL;VALUE=DURATION:PT1H
X-Robots-Tag:noindex
X-PUBLISHED-TTL:PT1H
BEGIN:VTIMEZONE
TZID:America/New_York
BEGIN:DAYLIGHT
TZOFFSETFROM:-0500
TZOFFSETTO:-0400
TZNAME:EDT
DTSTART:20230312T070000
END:DAYLIGHT
BEGIN:STANDARD
TZOFFSETFROM:-0400
TZOFFSETTO:-0500
TZNAME:EST
DTSTART:20231105T060000
END:STANDARD
BEGIN:DAYLIGHT
TZOFFSETFROM:-0500
TZOFFSETTO:-0400
TZNAME:EDT
DTSTART:20240310T070000
END:DAYLIGHT
BEGIN:STANDARD
TZOFFSETFROM:-0400
TZOFFSETTO:-0500
TZNAME:EST
DTSTART:20241103T060000
END:STANDARD
BEGIN:DAYLIGHT
TZOFFSETFROM:-0500
TZOFFSETTO:-0400
TZNAME:EDT
DTSTART:20250309T070000
END:DAYLIGHT
BEGIN:STANDARD
TZOFFSETFROM:-0400
TZOFFSETTO:-0500
TZNAME:EST
DTSTART:20251102T060000
END:STANDARD
END:VTIMEZONE
BEGIN:VTIMEZONE
TZID:UTC
BEGIN:STANDARD
TZOFFSETFROM:+0000
TZOFFSETTO:+0000
TZNAME:UTC
DTSTART:20230101T000000
END:STANDARD
END:VTIMEZONE
BEGIN:VEVENT
DTSTART;TZID=America/New_York:20241111T170000
DTEND;TZID=America/New_York:20241111T230000
DTSTAMP:20260421T125902
CREATED:20241111T195929Z
LAST-MODIFIED:20241111T195929Z
UID:10012979-1731344400-1731366000@pielcaneladancers.com
SUMMARY:VETERAN's DAY: CLOSED
DESCRIPTION:
URL:https://pielcaneladancers.com/event/veterans-day-closed/
ATTACH;FMTTYPE=image/jpeg:https://pielcaneladancers.com/wp-content/uploads/2024/11/Document.jpeg
END:VEVENT
BEGIN:VEVENT
DTSTART;TZID=UTC:20241111T183000
DTEND;TZID=UTC:20241111T193000
DTSTAMP:20260421T125902
CREATED:20240927T205159Z
LAST-MODIFIED:20241118T204322Z
UID:10013094-1731349800-1731353400@pielcaneladancers.com
SUMMARY:Salsa "On 2": Level 1
DESCRIPTION:Curriculum Class: 6 week series: Every Monday\, Sept 30 – Nov 18
URL:https://pielcaneladancers.com/event/salsa-on-2-level-1-33/2024-11-11/
LOCATION:Room 402\, located on 4th Floor of Pearl Studios:\, 500 8th Ave. between 35/36 Streets\, NYC\, NY\, 10018\, United States
CATEGORIES:Level 1 Beginner
ATTACH;FMTTYPE=image/jpeg:https://pielcaneladancers.com/wp-content/uploads/2024/09/Joe_Mondays.jpg
END:VEVENT
BEGIN:VEVENT
DTSTART;TZID=UTC:20241111T183000
DTEND;TZID=UTC:20241111T193000
DTSTAMP:20260421T125902
CREATED:20240927T205346Z
LAST-MODIFIED:20241118T204237Z
UID:10013100-1731349800-1731353400@pielcaneladancers.com
SUMMARY:Salsa "On 2": Level 3
DESCRIPTION:Curriculum Class: 6 week series: Every Monday\, Sept 30 – Nov 18
URL:https://pielcaneladancers.com/event/salsa-on-2-level-3-12/2024-11-11/
LOCATION:Room 405\, located on 4th Floor of Pearl Studios:\, 500 8th Ave. between 35/36 Streets\, NYC\, NY\, 10018\, United States
CATEGORIES:Level 3 Intermediate
ATTACH;FMTTYPE=image/jpeg:https://pielcaneladancers.com/wp-content/uploads/2024/09/Arbaz_Mondays.jpg
END:VEVENT
BEGIN:VEVENT
DTSTART;TZID=UTC:20241111T183000
DTEND;TZID=UTC:20241111T193000
DTSTAMP:20260421T125902
CREATED:20241016T173306Z
LAST-MODIFIED:20241122T164953Z
UID:10013091-1731349800-1731353400@pielcaneladancers.com
SUMMARY:Tango: Level 1
DESCRIPTION:Curriculum Class: 6 week series: Every Monday\, Oct 21 – Nov 25
URL:https://pielcaneladancers.com/event/tango-level-1-8/2024-11-11/
LOCATION:Room 410\, located on 4th Floor of Pearl Studios:\, 500 8th Ave. between 35/36 Streets\, NYC\, NY\, 10018\, United States
CATEGORIES:Level 1 Beginner
ATTACH;FMTTYPE=image/jpeg:https://pielcaneladancers.com/wp-content/uploads/2024/10/Jaime_Tango.jpg
END:VEVENT
BEGIN:VEVENT
DTSTART;TZID=UTC:20241111T193000
DTEND;TZID=UTC:20241111T203000
DTSTAMP:20260421T125902
CREATED:20240927T205232Z
LAST-MODIFIED:20241118T204328Z
UID:10013095-1731353400-1731357000@pielcaneladancers.com
SUMMARY:Salsa "On 2": Level 2
DESCRIPTION:Curriculum Class: 6 week series: Every Monday\, Sept 30 – Nov 18
URL:https://pielcaneladancers.com/event/salsa-on-2-level-2-29/2024-11-11/
LOCATION:Room 402\, located on 4th Floor of Pearl Studios:\, 500 8th Ave. between 35/36 Streets\, NYC\, NY\, 10018\, United States
CATEGORIES:Level 2 Advance Beginner
ATTACH;FMTTYPE=image/jpeg:https://pielcaneladancers.com/wp-content/uploads/2024/09/Joe_Mondays.jpg
END:VEVENT
BEGIN:VEVENT
DTSTART;TZID=UTC:20241111T193000
DTEND;TZID=UTC:20241111T203000
DTSTAMP:20260421T125902
CREATED:20240927T205450Z
LAST-MODIFIED:20241118T204252Z
UID:10013104-1731353400-1731357000@pielcaneladancers.com
SUMMARY:Salsa "On 2": Level 3.5
DESCRIPTION:Curriculum Class: 6 week series: Every Monday\, Sept 30 – Nov 18
URL:https://pielcaneladancers.com/event/salsa-on-2-level-3-5-2/2024-11-11/
LOCATION:Room 405\, located on 4th Floor of Pearl Studios:\, 500 8th Ave. between 35/36 Streets\, NYC\, NY\, 10018\, United States
CATEGORIES:Level 3 Intermediate
ATTACH;FMTTYPE=image/jpeg:https://pielcaneladancers.com/wp-content/uploads/2024/09/Arbaz_Mondays.jpg
END:VEVENT
BEGIN:VEVENT
DTSTART;TZID=UTC:20241111T193000
DTEND;TZID=UTC:20241111T203000
DTSTAMP:20260421T125902
CREATED:20241016T173334Z
LAST-MODIFIED:20241122T165003Z
UID:10013109-1731353400-1731357000@pielcaneladancers.com
SUMMARY:Tango: Level 2
DESCRIPTION:Curriculum Class: 6 week series: Every Monday\, Oct 21 – Nov 25
URL:https://pielcaneladancers.com/event/tango-level-2-8/2024-11-11/
LOCATION:Room 410\, located on 4th Floor of Pearl Studios:\, 500 8th Ave. between 35/36 Streets\, NYC\, NY\, 10018\, United States
CATEGORIES:Level 2 Advance Beginner
ATTACH;FMTTYPE=image/jpeg:https://pielcaneladancers.com/wp-content/uploads/2024/10/Jaime_Tango.jpg
END:VEVENT
BEGIN:VEVENT
DTSTART;TZID=America/New_York:20241111T193000
DTEND;TZID=America/New_York:20241111T203000
DTSTAMP:20260421T125902
CREATED:20241031T200219Z
LAST-MODIFIED:20241209T232840Z
UID:10013110-1731353400-1731357000@pielcaneladancers.com
SUMMARY:Salsa "On1": Level 1
DESCRIPTION:Curriculum Class: 6 week series: Every Monday\, Nov 4 – Dec 16
URL:https://pielcaneladancers.com/event/salsa-on1-level-1-7/2024-11-11/
LOCATION:Room 416\, located on 4th Floor of Pearl Studios:\, 500 8th Ave. between 35/36 Streets\, NYC\, NY\, 10018\, United States
CATEGORIES:Level 1 Beginner
ATTACH;FMTTYPE=image/jpeg:https://pielcaneladancers.com/wp-content/uploads/2024/10/Ed_Mondays.jpg
END:VEVENT
BEGIN:VEVENT
DTSTART;TZID=UTC:20241111T193000
DTEND;TZID=UTC:20241111T203000
DTSTAMP:20260421T125902
CREATED:20241111T200156Z
LAST-MODIFIED:20241111T200157Z
UID:10012478-1731353400-1731357000@pielcaneladancers.com
SUMMARY:Tango: Level 2
DESCRIPTION:Curriculum Class: 6 week series: Every Monday\, Oct 21 – Nov 25
URL:https://pielcaneladancers.com/event/tango-level-2-8-2/
LOCATION:Room 403\, located on 4th Floor of Pearl Studios:\, 500 8th Ave. between 35/36 Streets\, NYC\, NY\, 10018\, United States
CATEGORIES:Level 2 Advance Beginner
ATTACH;FMTTYPE=image/jpeg:https://pielcaneladancers.com/wp-content/uploads/2024/10/Jaime_Tango.jpg
END:VEVENT
BEGIN:VEVENT
DTSTART;TZID=America/New_York:20241111T193000
DTEND;TZID=America/New_York:20241111T203000
DTSTAMP:20260421T125902
CREATED:20241111T200616Z
LAST-MODIFIED:20241111T200616Z
UID:10012679-1731353400-1731357000@pielcaneladancers.com
SUMMARY:Salsa "On1": Level 1
DESCRIPTION:Curriculum Class: 6 week series: Every Monday\, Nov 4 – Dec 9
URL:https://pielcaneladancers.com/event/salsa-on1-level-1-7-2/
LOCATION:Room 407\, located on 4th Floor of Pearl Studios:\, 500 8th Ave. between 35/36 Streets\, NYC\, NY\, 10018\, United States
CATEGORIES:Level 1 Beginner
ATTACH;FMTTYPE=image/jpeg:https://pielcaneladancers.com/wp-content/uploads/2024/10/Ed_Mondays.jpg
END:VEVENT
BEGIN:VEVENT
DTSTART;TZID=UTC:20241111T193000
DTEND;TZID=UTC:20241111T203000
DTSTAMP:20260421T125902
CREATED:20241111T200758Z
LAST-MODIFIED:20241111T200759Z
UID:10012133-1731353400-1731357000@pielcaneladancers.com
SUMMARY:Salsa "On 2": Level 3.5
DESCRIPTION:Curriculum Class: 6 week series: Every Monday\, Sept 30 – Nov 4
URL:https://pielcaneladancers.com/event/salsa-on-2-level-3-5-2-3/
LOCATION:Room 402\, located on 4th Floor of Pearl Studios:\, 500 8th Ave. between 35/36 Streets\, NYC\, NY\, 10018\, United States
CATEGORIES:Level 3 Intermediate
ATTACH;FMTTYPE=image/jpeg:https://pielcaneladancers.com/wp-content/uploads/2024/09/Arbaz_Mondays.jpg
END:VEVENT
BEGIN:VEVENT
DTSTART;TZID=UTC:20241111T203000
DTEND;TZID=UTC:20241111T213000
DTSTAMP:20260421T125902
CREATED:20240927T205257Z
LAST-MODIFIED:20241118T204243Z
UID:10013102-1731357000-1731360600@pielcaneladancers.com
SUMMARY:Salsa "On 2" Partnerwork: Level 2.5
DESCRIPTION:Curriculum Class: 6 week series: Every Monday\, Sept 30 – Nov 18
URL:https://pielcaneladancers.com/event/salsa-on-2-partnerwork-level-2-5-7/2024-11-11/
LOCATION:Room 405\, located on 4th Floor of Pearl Studios:\, 500 8th Ave. between 35/36 Streets\, NYC\, NY\, 10018\, United States
CATEGORIES:Level 2 Advance Beginner
ATTACH;FMTTYPE=image/jpeg:https://pielcaneladancers.com/wp-content/uploads/2024/09/Arbaz_Mondays.jpg
END:VEVENT
BEGIN:VEVENT
DTSTART;TZID=UTC:20241111T203000
DTEND;TZID=UTC:20241111T213000
DTSTAMP:20260421T125902
CREATED:20240927T205414Z
LAST-MODIFIED:20241118T204335Z
UID:10013096-1731357000-1731360600@pielcaneladancers.com
SUMMARY:Salsa "On 2": Level 4
DESCRIPTION:Curriculum Class: 6 week series: Every Monday\, Sept 30 – Nov 18
URL:https://pielcaneladancers.com/event/salsa-on-2-level-4-7/2024-11-11/
LOCATION:Room 402\, located on 4th Floor of Pearl Studios:\, 500 8th Ave. between 35/36 Streets\, NYC\, NY\, 10018\, United States
CATEGORIES:Level 4 Advance Intermediate
ATTACH;FMTTYPE=image/jpeg:https://pielcaneladancers.com/wp-content/uploads/2024/09/Joe_Mondays.jpg
END:VEVENT
BEGIN:VEVENT
DTSTART;TZID=America/New_York:20241111T203000
DTEND;TZID=America/New_York:20241111T213000
DTSTAMP:20260421T125902
CREATED:20241031T200303Z
LAST-MODIFIED:20241209T232848Z
UID:10013112-1731357000-1731360600@pielcaneladancers.com
SUMMARY:Salsa "On1": Level 2
DESCRIPTION:Curriculum Class: 6 week series: Every Monday\, Nov 4 – Dec 16
URL:https://pielcaneladancers.com/event/salsa-on1-level-2-6/2024-11-11/
LOCATION:Room 416\, located on 4th Floor of Pearl Studios:\, 500 8th Ave. between 35/36 Streets\, NYC\, NY\, 10018\, United States
CATEGORIES:Level 2 Advance Beginner
ATTACH;FMTTYPE=image/jpeg:https://pielcaneladancers.com/wp-content/uploads/2024/10/Ed_Mondays-1.jpg
END:VEVENT
BEGIN:VEVENT
DTSTART;TZID=America/New_York:20241111T203000
DTEND;TZID=America/New_York:20241111T213000
DTSTAMP:20260421T125902
CREATED:20241111T200624Z
LAST-MODIFIED:20241111T200625Z
UID:10012685-1731357000-1731360600@pielcaneladancers.com
SUMMARY:Salsa "On1": Level 2
DESCRIPTION:Curriculum Class: 6 week series: Every Monday\, Nov 4 – Dec 9
URL:https://pielcaneladancers.com/event/salsa-on1-level-2-6-2/
LOCATION:Room 407\, located on 4th Floor of Pearl Studios:\, 500 8th Ave. between 35/36 Streets\, NYC\, NY\, 10018\, United States
CATEGORIES:Level 2 Advance Beginner
ATTACH;FMTTYPE=image/jpeg:https://pielcaneladancers.com/wp-content/uploads/2024/10/Ed_Mondays-1.jpg
END:VEVENT
BEGIN:VEVENT
DTSTART;TZID=America/New_York:20241111T213000
DTEND;TZID=America/New_York:20241111T223000
DTSTAMP:20260421T125902
CREATED:20240905T173211Z
LAST-MODIFIED:20241113T183413Z
UID:10011891-1731360600-1731364200@pielcaneladancers.com
SUMMARY:Bachata Pro Team
DESCRIPTION:
URL:https://pielcaneladancers.com/event/bachata-pro-team/2024-11-11/
LOCATION:Room 411\, located on 4th Floor of Pearl Studios:\, 500 8th Ave. between 35/36 Streets\, NYC\, NY\, 10018\, United States
END:VEVENT
END:VCALENDAR