BEGIN:VCALENDAR
VERSION:2.0
PRODID:-//PielCanela - ECPv6.15.20//NONSGML v1.0//EN
CALSCALE:GREGORIAN
METHOD:PUBLISH
X-ORIGINAL-URL:https://pielcaneladancers.com
X-WR-CALDESC:Events for PielCanela
REFRESH-INTERVAL;VALUE=DURATION:PT1H
X-Robots-Tag:noindex
X-PUBLISHED-TTL:PT1H
BEGIN:VTIMEZONE
TZID:UTC
BEGIN:STANDARD
TZOFFSETFROM:+0000
TZOFFSETTO:+0000
TZNAME:UTC
DTSTART:20230101T000000
END:STANDARD
END:VTIMEZONE
BEGIN:VTIMEZONE
TZID:America/New_York
BEGIN:DAYLIGHT
TZOFFSETFROM:-0500
TZOFFSETTO:-0400
TZNAME:EDT
DTSTART:20230312T070000
END:DAYLIGHT
BEGIN:STANDARD
TZOFFSETFROM:-0400
TZOFFSETTO:-0500
TZNAME:EST
DTSTART:20231105T060000
END:STANDARD
BEGIN:DAYLIGHT
TZOFFSETFROM:-0500
TZOFFSETTO:-0400
TZNAME:EDT
DTSTART:20240310T070000
END:DAYLIGHT
BEGIN:STANDARD
TZOFFSETFROM:-0400
TZOFFSETTO:-0500
TZNAME:EST
DTSTART:20241103T060000
END:STANDARD
BEGIN:DAYLIGHT
TZOFFSETFROM:-0500
TZOFFSETTO:-0400
TZNAME:EDT
DTSTART:20250309T070000
END:DAYLIGHT
BEGIN:STANDARD
TZOFFSETFROM:-0400
TZOFFSETTO:-0500
TZNAME:EST
DTSTART:20251102T060000
END:STANDARD
END:VTIMEZONE
BEGIN:VEVENT
DTSTART;TZID=UTC:20241202T183000
DTEND;TZID=UTC:20241202T193000
DTSTAMP:20260420T104956
CREATED:20241107T193411Z
LAST-MODIFIED:20241209T232455Z
UID:10012944-1733164200-1733167800@pielcaneladancers.com
SUMMARY:Salsa "On 2": Level 1
DESCRIPTION:Curriculum Class: 6 week series: Every Monday\, Nov 25 – Dec 30
URL:https://pielcaneladancers.com/event/salsa-on-2-level-1-38/2024-12-02/
LOCATION:Room 405\, located on 4th Floor of Pearl Studios:\, 500 8th Ave. between 35/36 Streets\, NYC\, NY\, 10018\, United States
CATEGORIES:Level 1 Beginner
ATTACH;FMTTYPE=image/jpeg:https://pielcaneladancers.com/wp-content/uploads/2024/11/Joe_Mondays.jpg
END:VEVENT
BEGIN:VEVENT
DTSTART;TZID=UTC:20241202T183000
DTEND;TZID=UTC:20241202T193000
DTSTAMP:20260420T104956
CREATED:20241107T193641Z
LAST-MODIFIED:20241209T232541Z
UID:10012968-1733164200-1733167800@pielcaneladancers.com
SUMMARY:Salsa "On 2": Level 3
DESCRIPTION:Curriculum Class: 6 week series: Every Monday\, Nov 25 – Dec 30
URL:https://pielcaneladancers.com/event/salsa-on-2-level-3-13/2024-12-02/
LOCATION:Room 407\, located on 4th Floor of Pearl Studios:\, 500 8th Ave. between 35/36 Streets\, NYC\, NY\, 10018\, United States
CATEGORIES:Level 3 Intermediate
ATTACH;FMTTYPE=image/jpeg:https://pielcaneladancers.com/wp-content/uploads/2024/11/Arbaz_Mondays.jpg
END:VEVENT
BEGIN:VEVENT
DTSTART;TZID=America/New_York:20241202T193000
DTEND;TZID=America/New_York:20241202T203000
DTSTAMP:20260420T104956
CREATED:20241031T200219Z
LAST-MODIFIED:20241209T232840Z
UID:10012682-1733167800-1733171400@pielcaneladancers.com
SUMMARY:Salsa "On1": Level 1
DESCRIPTION:Curriculum Class: 6 week series: Every Monday\, Nov 4 – Dec 16
URL:https://pielcaneladancers.com/event/salsa-on1-level-1-7/2024-12-02/
LOCATION:Room 416\, located on 4th Floor of Pearl Studios:\, 500 8th Ave. between 35/36 Streets\, NYC\, NY\, 10018\, United States
CATEGORIES:Level 1 Beginner
ATTACH;FMTTYPE=image/jpeg:https://pielcaneladancers.com/wp-content/uploads/2024/10/Ed_Mondays.jpg
END:VEVENT
BEGIN:VEVENT
DTSTART;TZID=UTC:20241202T193000
DTEND;TZID=UTC:20241202T203000
DTSTAMP:20260420T104956
CREATED:20241105T185550Z
LAST-MODIFIED:20241209T232711Z
UID:10012801-1733167800-1733171400@pielcaneladancers.com
SUMMARY:Samba: Level 1
DESCRIPTION:Open Class: 4 week series: Mondays\, Nov 18 – Dec 9
URL:https://pielcaneladancers.com/event/samba-level-1-9/2024-12-02/
LOCATION:Room 411\, located on 4th Floor of Pearl Studios:\, 500 8th Ave. between 35/36 Streets\, NYC\, NY\, 10018\, United States
CATEGORIES:Level 1 Beginner
ATTACH;FMTTYPE=image/jpeg:https://pielcaneladancers.com/wp-content/uploads/2024/11/Eileen_Samba.jpg
END:VEVENT
BEGIN:VEVENT
DTSTART;TZID=UTC:20241202T193000
DTEND;TZID=UTC:20241202T203000
DTSTAMP:20260420T104956
CREATED:20241107T193445Z
LAST-MODIFIED:20241209T232502Z
UID:10012950-1733167800-1733171400@pielcaneladancers.com
SUMMARY:Salsa "On 2": Level 2
DESCRIPTION:Curriculum Class: 6 week series: Every Monday\, Nov 25 – Dec 30
URL:https://pielcaneladancers.com/event/salsa-on-2-level-2-33/2024-12-02/
LOCATION:Room 405\, located on 4th Floor of Pearl Studios:\, 500 8th Ave. between 35/36 Streets\, NYC\, NY\, 10018\, United States
CATEGORIES:Level 2 Advance Beginner
ATTACH;FMTTYPE=image/jpeg:https://pielcaneladancers.com/wp-content/uploads/2024/11/Joe_Mondays.jpg
END:VEVENT
BEGIN:VEVENT
DTSTART;TZID=UTC:20241202T193000
DTEND;TZID=UTC:20241202T203000
DTSTAMP:20260420T104956
CREATED:20241107T193712Z
LAST-MODIFIED:20241209T232548Z
UID:10012974-1733167800-1733171400@pielcaneladancers.com
SUMMARY:Salsa "On 2": Level 3.5
DESCRIPTION:Curriculum Class: 6 week series: Every Monday\, Nov 25 – Dec 30
URL:https://pielcaneladancers.com/event/salsa-on-2-level-3-5-3/2024-12-02/
LOCATION:Room 407\, located on 4th Floor of Pearl Studios:\, 500 8th Ave. between 35/36 Streets\, NYC\, NY\, 10018\, United States
CATEGORIES:Level 3 Intermediate
ATTACH;FMTTYPE=image/jpeg:https://pielcaneladancers.com/wp-content/uploads/2024/11/Arbaz_Mondays.jpg
END:VEVENT
BEGIN:VEVENT
DTSTART;TZID=America/New_York:20241202T203000
DTEND;TZID=America/New_York:20241202T213000
DTSTAMP:20260420T104956
CREATED:20241031T200303Z
LAST-MODIFIED:20241209T232848Z
UID:10012688-1733171400-1733175000@pielcaneladancers.com
SUMMARY:Salsa "On1": Level 2
DESCRIPTION:Curriculum Class: 6 week series: Every Monday\, Nov 4 – Dec 16
URL:https://pielcaneladancers.com/event/salsa-on1-level-2-6/2024-12-02/
LOCATION:Room 416\, located on 4th Floor of Pearl Studios:\, 500 8th Ave. between 35/36 Streets\, NYC\, NY\, 10018\, United States
CATEGORIES:Level 2 Advance Beginner
ATTACH;FMTTYPE=image/jpeg:https://pielcaneladancers.com/wp-content/uploads/2024/10/Ed_Mondays-1.jpg
END:VEVENT
BEGIN:VEVENT
DTSTART;TZID=UTC:20241202T203000
DTEND;TZID=UTC:20241202T213000
DTSTAMP:20260420T104956
CREATED:20241105T185634Z
LAST-MODIFIED:20241209T232716Z
UID:10012805-1733171400-1733175000@pielcaneladancers.com
SUMMARY:Samba: Level 2
DESCRIPTION:Open Class: 4 week series: Mondays\, Nov 18 – Dec 9
URL:https://pielcaneladancers.com/event/samba-level-2-9/2024-12-02/
LOCATION:Room 411\, located on 4th Floor of Pearl Studios:\, 500 8th Ave. between 35/36 Streets\, NYC\, NY\, 10018\, United States
CATEGORIES:Level 2 Advance Beginner
ATTACH;FMTTYPE=image/jpeg:https://pielcaneladancers.com/wp-content/uploads/2024/11/Eileen_Samba.jpg
END:VEVENT
BEGIN:VEVENT
DTSTART;TZID=UTC:20241202T203000
DTEND;TZID=UTC:20241202T213000
DTSTAMP:20260420T104956
CREATED:20241107T193534Z
LAST-MODIFIED:20241209T232508Z
UID:10012956-1733171400-1733175000@pielcaneladancers.com
SUMMARY:Salsa "On 2": Level 4
DESCRIPTION:Curriculum Class: 6 week series: Every Monday\, Nov 25 – Dec 30
URL:https://pielcaneladancers.com/event/salsa-on-2-level-4-8/2024-12-02/
LOCATION:Room 405\, located on 4th Floor of Pearl Studios:\, 500 8th Ave. between 35/36 Streets\, NYC\, NY\, 10018\, United States
CATEGORIES:Level 4 Advance Intermediate
ATTACH;FMTTYPE=image/jpeg:https://pielcaneladancers.com/wp-content/uploads/2024/11/Joe_Mondays.jpg
END:VEVENT
BEGIN:VEVENT
DTSTART;TZID=UTC:20241202T203000
DTEND;TZID=UTC:20241202T213000
DTSTAMP:20260420T104956
CREATED:20241107T193611Z
LAST-MODIFIED:20241209T232600Z
UID:10012962-1733171400-1733175000@pielcaneladancers.com
SUMMARY:Salsa "On 2" Partnerwork: Level 2.5
DESCRIPTION:Curriculum Class: 6 week series: Every Monday\, Nov 25 – Dec 30
URL:https://pielcaneladancers.com/event/salsa-on-2-partnerwork-level-2-5-8/2024-12-02/
LOCATION:Room 407\, located on 4th Floor of Pearl Studios:\, 500 8th Ave. between 35/36 Streets\, NYC\, NY\, 10018\, United States
CATEGORIES:Level 2 Advance Beginner
ATTACH;FMTTYPE=image/jpeg:https://pielcaneladancers.com/wp-content/uploads/2024/11/Arbaz_Mondays.jpg
END:VEVENT
END:VCALENDAR