BEGIN:VCALENDAR
VERSION:2.0
PRODID:-//PielCanela - ECPv6.15.20//NONSGML v1.0//EN
CALSCALE:GREGORIAN
METHOD:PUBLISH
X-ORIGINAL-URL:https://pielcaneladancers.com
X-WR-CALDESC:Events for PielCanela
REFRESH-INTERVAL;VALUE=DURATION:PT1H
X-Robots-Tag:noindex
X-PUBLISHED-TTL:PT1H
BEGIN:VTIMEZONE
TZID:America/New_York
BEGIN:DAYLIGHT
TZOFFSETFROM:-0500
TZOFFSETTO:-0400
TZNAME:EDT
DTSTART:20230312T070000
END:DAYLIGHT
BEGIN:STANDARD
TZOFFSETFROM:-0400
TZOFFSETTO:-0500
TZNAME:EST
DTSTART:20231105T060000
END:STANDARD
BEGIN:DAYLIGHT
TZOFFSETFROM:-0500
TZOFFSETTO:-0400
TZNAME:EDT
DTSTART:20240310T070000
END:DAYLIGHT
BEGIN:STANDARD
TZOFFSETFROM:-0400
TZOFFSETTO:-0500
TZNAME:EST
DTSTART:20241103T060000
END:STANDARD
BEGIN:DAYLIGHT
TZOFFSETFROM:-0500
TZOFFSETTO:-0400
TZNAME:EDT
DTSTART:20250309T070000
END:DAYLIGHT
BEGIN:STANDARD
TZOFFSETFROM:-0400
TZOFFSETTO:-0500
TZNAME:EST
DTSTART:20251102T060000
END:STANDARD
END:VTIMEZONE
BEGIN:VTIMEZONE
TZID:UTC
BEGIN:STANDARD
TZOFFSETFROM:+0000
TZOFFSETTO:+0000
TZNAME:UTC
DTSTART:20230101T000000
END:STANDARD
END:VTIMEZONE
BEGIN:VEVENT
DTSTART;TZID=America/New_York:20241226T183000
DTEND;TZID=America/New_York:20241226T193000
DTSTAMP:20260421T125857
CREATED:20241107T185311Z
LAST-MODIFIED:20241122T170444Z
UID:10012841-1735237800-1735241400@pielcaneladancers.com
SUMMARY:Salsa "On1": Level 1
DESCRIPTION:Curriculum Class: 6 week series: Every Thursday\, Nov 21 – Jan 2
URL:https://pielcaneladancers.com/event/salsa-on1-level-1-8/2024-12-26/
LOCATION:Room 402\, located on 4th Floor of Pearl Studios:\, 500 8th Ave. between 35/36 Streets\, NYC\, NY\, 10018\, United States
CATEGORIES:Level 1 Beginner
ATTACH;FMTTYPE=image/jpeg:https://pielcaneladancers.com/wp-content/uploads/2024/11/Myron_Thursday.jpg
END:VEVENT
BEGIN:VEVENT
DTSTART;TZID=America/New_York:20241226T183000
DTEND;TZID=America/New_York:20241226T193000
DTSTAMP:20260421T125857
CREATED:20241122T190922Z
LAST-MODIFIED:20241122T190922Z
UID:10013132-1735237800-1735241400@pielcaneladancers.com
SUMMARY:Cumbia: Level 1
DESCRIPTION:Curriculum Class: 6 week series: Every Thursday\, Dec 5 – Jan 9
URL:https://pielcaneladancers.com/event/cumbia-level-1-8/2024-12-26/
LOCATION:Room 411\, located on 4th Floor of Pearl Studios:\, 500 8th Ave. between 35/36 Streets\, NYC\, NY\, 10018\, United States
CATEGORIES:Level 1 Beginner
ATTACH;FMTTYPE=image/jpeg:https://pielcaneladancers.com/wp-content/uploads/2024/11/Joe_Cumbia.jpg
END:VEVENT
BEGIN:VEVENT
DTSTART;TZID=America/New_York:20241226T193000
DTEND;TZID=America/New_York:20241226T203000
DTSTAMP:20260421T125857
CREATED:20241107T185339Z
LAST-MODIFIED:20241122T170416Z
UID:10012848-1735241400-1735245000@pielcaneladancers.com
SUMMARY:Cha Cha: Level 1
DESCRIPTION:Curriculum Class: 6 week series: Every Thursday\, Nov 21 – Jan 2
URL:https://pielcaneladancers.com/event/cha-cha-level-1-3/2024-12-26/
LOCATION:Room 402\, located on 4th Floor of Pearl Studios:\, 500 8th Ave. between 35/36 Streets\, NYC\, NY\, 10018\, United States
CATEGORIES:Level 1 Beginner
ATTACH;FMTTYPE=image/jpeg:https://pielcaneladancers.com/wp-content/uploads/2024/11/Myron_Thursday.jpg
END:VEVENT
BEGIN:VEVENT
DTSTART;TZID=America/New_York:20241226T193000
DTEND;TZID=America/New_York:20241226T203000
DTSTAMP:20260421T125857
CREATED:20241122T190954Z
LAST-MODIFIED:20241122T191005Z
UID:10013144-1735241400-1735245000@pielcaneladancers.com
SUMMARY:Cumbia: Level 2
DESCRIPTION:Curriculum Class: 6 week series: Every Thursday\, Dec 5 – Jan 9
URL:https://pielcaneladancers.com/event/cumbia-level-2-7/2024-12-26/
LOCATION:Room 411\, located on 4th Floor of Pearl Studios:\, 500 8th Ave. between 35/36 Streets\, NYC\, NY\, 10018\, United States
CATEGORIES:Level 2 Advance Beginner
ATTACH;FMTTYPE=image/jpeg:https://pielcaneladancers.com/wp-content/uploads/2024/11/Joe_Cumbia.jpg
END:VEVENT
BEGIN:VEVENT
DTSTART;TZID=UTC:20241226T203000
DTEND;TZID=UTC:20241226T213000
DTSTAMP:20260421T125857
CREATED:20241122T191309Z
LAST-MODIFIED:20241122T191309Z
UID:10013153-1735245000-1735248600@pielcaneladancers.com
SUMMARY:Afrocuban
DESCRIPTION:Open Level Class: 4 week series: Thursdays\, Dec 5 – 26
URL:https://pielcaneladancers.com/event/afrocuban-10/2024-12-26/
LOCATION:Room 402\, located on 4th Floor of Pearl Studios:\, 500 8th Ave. between 35/36 Streets\, NYC\, NY\, 10018\, United States
CATEGORIES:Open Level Class
ATTACH;FMTTYPE=image/jpeg:https://pielcaneladancers.com/wp-content/uploads/2024/11/Victor_Afrocuban.jpg
END:VEVENT
END:VCALENDAR