BEGIN:VCALENDAR
VERSION:2.0
PRODID:-//PielCanela - ECPv6.15.20//NONSGML v1.0//EN
CALSCALE:GREGORIAN
METHOD:PUBLISH
X-WR-CALNAME:PielCanela
X-ORIGINAL-URL:https://pielcaneladancers.com
X-WR-CALDESC:Events for PielCanela
REFRESH-INTERVAL;VALUE=DURATION:PT1H
X-Robots-Tag:noindex
X-PUBLISHED-TTL:PT1H
BEGIN:VTIMEZONE
TZID:UTC
BEGIN:STANDARD
TZOFFSETFROM:+0000
TZOFFSETTO:+0000
TZNAME:UTC
DTSTART:20230101T000000
END:STANDARD
END:VTIMEZONE
BEGIN:VEVENT
DTSTART;TZID=UTC:20241230T193000
DTEND;TZID=UTC:20241230T203000
DTSTAMP:20260421T133532
CREATED:20241107T193712Z
LAST-MODIFIED:20241209T232548Z
UID:10012978-1735587000-1735590600@pielcaneladancers.com
SUMMARY:Salsa "On 2": Level 3.5
DESCRIPTION:Curriculum Class: 6 week series: Every Monday\, Nov 25 – Dec 30
URL:https://pielcaneladancers.com/event/salsa-on-2-level-3-5-3/2024-12-30/
LOCATION:Room 407\, located on 4th Floor of Pearl Studios:\, 500 8th Ave. between 35/36 Streets\, NYC\, NY\, 10018\, United States
CATEGORIES:Level 3 Intermediate
ATTACH;FMTTYPE=image/jpeg:https://pielcaneladancers.com/wp-content/uploads/2024/11/Arbaz_Mondays.jpg
END:VEVENT
BEGIN:VEVENT
DTSTART;TZID=UTC:20241230T183000
DTEND;TZID=UTC:20241230T193000
DTSTAMP:20260421T133532
CREATED:20241107T193641Z
LAST-MODIFIED:20241209T232541Z
UID:10012972-1735583400-1735587000@pielcaneladancers.com
SUMMARY:Salsa "On 2": Level 3
DESCRIPTION:Curriculum Class: 6 week series: Every Monday\, Nov 25 – Dec 30
URL:https://pielcaneladancers.com/event/salsa-on-2-level-3-13/2024-12-30/
LOCATION:Room 407\, located on 4th Floor of Pearl Studios:\, 500 8th Ave. between 35/36 Streets\, NYC\, NY\, 10018\, United States
CATEGORIES:Level 3 Intermediate
ATTACH;FMTTYPE=image/jpeg:https://pielcaneladancers.com/wp-content/uploads/2024/11/Arbaz_Mondays.jpg
END:VEVENT
BEGIN:VEVENT
DTSTART;TZID=UTC:20241223T193000
DTEND;TZID=UTC:20241223T203000
DTSTAMP:20260421T133532
CREATED:20241107T193712Z
LAST-MODIFIED:20241209T232548Z
UID:10012977-1734982200-1734985800@pielcaneladancers.com
SUMMARY:Salsa "On 2": Level 3.5
DESCRIPTION:Curriculum Class: 6 week series: Every Monday\, Nov 25 – Dec 30
URL:https://pielcaneladancers.com/event/salsa-on-2-level-3-5-3/2024-12-23/
LOCATION:Room 407\, located on 4th Floor of Pearl Studios:\, 500 8th Ave. between 35/36 Streets\, NYC\, NY\, 10018\, United States
CATEGORIES:Level 3 Intermediate
ATTACH;FMTTYPE=image/jpeg:https://pielcaneladancers.com/wp-content/uploads/2024/11/Arbaz_Mondays.jpg
END:VEVENT
BEGIN:VEVENT
DTSTART;TZID=UTC:20241223T183000
DTEND;TZID=UTC:20241223T193000
DTSTAMP:20260421T133532
CREATED:20241107T193641Z
LAST-MODIFIED:20241209T232541Z
UID:10012971-1734978600-1734982200@pielcaneladancers.com
SUMMARY:Salsa "On 2": Level 3
DESCRIPTION:Curriculum Class: 6 week series: Every Monday\, Nov 25 – Dec 30
URL:https://pielcaneladancers.com/event/salsa-on-2-level-3-13/2024-12-23/
LOCATION:Room 407\, located on 4th Floor of Pearl Studios:\, 500 8th Ave. between 35/36 Streets\, NYC\, NY\, 10018\, United States
CATEGORIES:Level 3 Intermediate
ATTACH;FMTTYPE=image/jpeg:https://pielcaneladancers.com/wp-content/uploads/2024/11/Arbaz_Mondays.jpg
END:VEVENT
BEGIN:VEVENT
DTSTART;TZID=UTC:20241218T193000
DTEND;TZID=UTC:20241218T203000
DTSTAMP:20260421T133532
CREATED:20241107T191404Z
LAST-MODIFIED:20241204T233047Z
UID:10012909-1734550200-1734553800@pielcaneladancers.com
SUMMARY:Bachata: Level 3.5
DESCRIPTION:Curriculum Class: 5 week series: Every Wednesday\, Nov 20 – Dec 18
URL:https://pielcaneladancers.com/event/bachata-level-3-5-4/2024-12-18/
LOCATION:Room 405\, located on 4th Floor of Pearl Studios:\, 500 8th Ave. between 35/36 Streets\, NYC\, NY\, 10018\, United States
CATEGORIES:Level 3 Intermediate
ATTACH;FMTTYPE=image/jpeg:https://pielcaneladancers.com/wp-content/uploads/2024/11/Lou_Wednesdays.jpg
END:VEVENT
BEGIN:VEVENT
DTSTART;TZID=UTC:20241218T183000
DTEND;TZID=UTC:20241218T193000
DTSTAMP:20260421T133532
CREATED:20241107T191312Z
LAST-MODIFIED:20241204T233107Z
UID:10012899-1734546600-1734550200@pielcaneladancers.com
SUMMARY:Bachata: Level 3
DESCRIPTION:Curriculum Class: 5 week series: Every Wednesday\, Nov 20 – Dec 18
URL:https://pielcaneladancers.com/event/bachata-level-3-11/2024-12-18/
LOCATION:Room 405\, located on 4th Floor of Pearl Studios:\, 500 8th Ave. between 35/36 Streets\, NYC\, NY\, 10018\, United States
CATEGORIES:Level 3 Intermediate
ATTACH;FMTTYPE=image/jpeg:https://pielcaneladancers.com/wp-content/uploads/2024/11/Lou_Wednesdays.jpg
END:VEVENT
BEGIN:VEVENT
DTSTART;TZID=UTC:20241216T193000
DTEND;TZID=UTC:20241216T203000
DTSTAMP:20260421T133532
CREATED:20241107T193712Z
LAST-MODIFIED:20241209T232548Z
UID:10012976-1734377400-1734381000@pielcaneladancers.com
SUMMARY:Salsa "On 2": Level 3.5
DESCRIPTION:Curriculum Class: 6 week series: Every Monday\, Nov 25 – Dec 30
URL:https://pielcaneladancers.com/event/salsa-on-2-level-3-5-3/2024-12-16/
LOCATION:Room 407\, located on 4th Floor of Pearl Studios:\, 500 8th Ave. between 35/36 Streets\, NYC\, NY\, 10018\, United States
CATEGORIES:Level 3 Intermediate
ATTACH;FMTTYPE=image/jpeg:https://pielcaneladancers.com/wp-content/uploads/2024/11/Arbaz_Mondays.jpg
END:VEVENT
BEGIN:VEVENT
DTSTART;TZID=UTC:20241216T183000
DTEND;TZID=UTC:20241216T193000
DTSTAMP:20260421T133532
CREATED:20241107T193641Z
LAST-MODIFIED:20241209T232541Z
UID:10012970-1734373800-1734377400@pielcaneladancers.com
SUMMARY:Salsa "On 2": Level 3
DESCRIPTION:Curriculum Class: 6 week series: Every Monday\, Nov 25 – Dec 30
URL:https://pielcaneladancers.com/event/salsa-on-2-level-3-13/2024-12-16/
LOCATION:Room 407\, located on 4th Floor of Pearl Studios:\, 500 8th Ave. between 35/36 Streets\, NYC\, NY\, 10018\, United States
CATEGORIES:Level 3 Intermediate
ATTACH;FMTTYPE=image/jpeg:https://pielcaneladancers.com/wp-content/uploads/2024/11/Arbaz_Mondays.jpg
END:VEVENT
BEGIN:VEVENT
DTSTART;TZID=UTC:20241211T193000
DTEND;TZID=UTC:20241211T203000
DTSTAMP:20260421T133532
CREATED:20241107T191404Z
LAST-MODIFIED:20241204T233047Z
UID:10012908-1733945400-1733949000@pielcaneladancers.com
SUMMARY:Bachata: Level 3.5
DESCRIPTION:Curriculum Class: 5 week series: Every Wednesday\, Nov 20 – Dec 18
URL:https://pielcaneladancers.com/event/bachata-level-3-5-4/2024-12-11/
LOCATION:Room 405\, located on 4th Floor of Pearl Studios:\, 500 8th Ave. between 35/36 Streets\, NYC\, NY\, 10018\, United States
CATEGORIES:Level 3 Intermediate
ATTACH;FMTTYPE=image/jpeg:https://pielcaneladancers.com/wp-content/uploads/2024/11/Lou_Wednesdays.jpg
END:VEVENT
BEGIN:VEVENT
DTSTART;TZID=UTC:20241211T183000
DTEND;TZID=UTC:20241211T193000
DTSTAMP:20260421T133532
CREATED:20241107T191312Z
LAST-MODIFIED:20241204T233107Z
UID:10012898-1733941800-1733945400@pielcaneladancers.com
SUMMARY:Bachata: Level 3
DESCRIPTION:Curriculum Class: 5 week series: Every Wednesday\, Nov 20 – Dec 18
URL:https://pielcaneladancers.com/event/bachata-level-3-11/2024-12-11/
LOCATION:Room 405\, located on 4th Floor of Pearl Studios:\, 500 8th Ave. between 35/36 Streets\, NYC\, NY\, 10018\, United States
CATEGORIES:Level 3 Intermediate
ATTACH;FMTTYPE=image/jpeg:https://pielcaneladancers.com/wp-content/uploads/2024/11/Lou_Wednesdays.jpg
END:VEVENT
BEGIN:VEVENT
DTSTART;TZID=UTC:20241210T203000
DTEND;TZID=UTC:20241210T213000
DTSTAMP:20260421T133532
CREATED:20241031T200735Z
LAST-MODIFIED:20241210T212647Z
UID:10012711-1733862600-1733866200@pielcaneladancers.com
SUMMARY:Brazilian Zouk: Level 3
DESCRIPTION:Curriculum Class: 6 week series: Every Tuesday\, Nov 5 – Dec 10
URL:https://pielcaneladancers.com/event/brazilian-zouk-level-3-8/2024-12-10/
LOCATION:Room 405\, located on 4th Floor of Pearl Studios:\, 500 8th Ave. between 35/36 Streets\, NYC\, NY\, 10018\, United States
CATEGORIES:Level 3 Intermediate
ATTACH;FMTTYPE=image/jpeg:https://pielcaneladancers.com/wp-content/uploads/2024/10/Vinnie_Zouk_Tuesdays.jpg
END:VEVENT
BEGIN:VEVENT
DTSTART;TZID=UTC:20241209T193000
DTEND;TZID=UTC:20241209T203000
DTSTAMP:20260421T133532
CREATED:20241107T193712Z
LAST-MODIFIED:20241209T232548Z
UID:10012975-1733772600-1733776200@pielcaneladancers.com
SUMMARY:Salsa "On 2": Level 3.5
DESCRIPTION:Curriculum Class: 6 week series: Every Monday\, Nov 25 – Dec 30
URL:https://pielcaneladancers.com/event/salsa-on-2-level-3-5-3/2024-12-09/
LOCATION:Room 407\, located on 4th Floor of Pearl Studios:\, 500 8th Ave. between 35/36 Streets\, NYC\, NY\, 10018\, United States
CATEGORIES:Level 3 Intermediate
ATTACH;FMTTYPE=image/jpeg:https://pielcaneladancers.com/wp-content/uploads/2024/11/Arbaz_Mondays.jpg
END:VEVENT
BEGIN:VEVENT
DTSTART;TZID=UTC:20241209T183000
DTEND;TZID=UTC:20241209T193000
DTSTAMP:20260421T133532
CREATED:20241107T193641Z
LAST-MODIFIED:20241209T232541Z
UID:10012969-1733769000-1733772600@pielcaneladancers.com
SUMMARY:Salsa "On 2": Level 3
DESCRIPTION:Curriculum Class: 6 week series: Every Monday\, Nov 25 – Dec 30
URL:https://pielcaneladancers.com/event/salsa-on-2-level-3-13/2024-12-09/
LOCATION:Room 407\, located on 4th Floor of Pearl Studios:\, 500 8th Ave. between 35/36 Streets\, NYC\, NY\, 10018\, United States
CATEGORIES:Level 3 Intermediate
ATTACH;FMTTYPE=image/jpeg:https://pielcaneladancers.com/wp-content/uploads/2024/11/Arbaz_Mondays.jpg
END:VEVENT
BEGIN:VEVENT
DTSTART;TZID=UTC:20241204T193000
DTEND;TZID=UTC:20241204T203000
DTSTAMP:20260421T133532
CREATED:20241107T191404Z
LAST-MODIFIED:20241204T233047Z
UID:10012907-1733340600-1733344200@pielcaneladancers.com
SUMMARY:Bachata: Level 3.5
DESCRIPTION:Curriculum Class: 5 week series: Every Wednesday\, Nov 20 – Dec 18
URL:https://pielcaneladancers.com/event/bachata-level-3-5-4/2024-12-04/
LOCATION:Room 405\, located on 4th Floor of Pearl Studios:\, 500 8th Ave. between 35/36 Streets\, NYC\, NY\, 10018\, United States
CATEGORIES:Level 3 Intermediate
ATTACH;FMTTYPE=image/jpeg:https://pielcaneladancers.com/wp-content/uploads/2024/11/Lou_Wednesdays.jpg
END:VEVENT
BEGIN:VEVENT
DTSTART;TZID=UTC:20241204T183000
DTEND;TZID=UTC:20241204T193000
DTSTAMP:20260421T133532
CREATED:20241107T191312Z
LAST-MODIFIED:20241204T233107Z
UID:10012897-1733337000-1733340600@pielcaneladancers.com
SUMMARY:Bachata: Level 3
DESCRIPTION:Curriculum Class: 5 week series: Every Wednesday\, Nov 20 – Dec 18
URL:https://pielcaneladancers.com/event/bachata-level-3-11/2024-12-04/
LOCATION:Room 405\, located on 4th Floor of Pearl Studios:\, 500 8th Ave. between 35/36 Streets\, NYC\, NY\, 10018\, United States
CATEGORIES:Level 3 Intermediate
ATTACH;FMTTYPE=image/jpeg:https://pielcaneladancers.com/wp-content/uploads/2024/11/Lou_Wednesdays.jpg
END:VEVENT
BEGIN:VEVENT
DTSTART;TZID=UTC:20241203T203000
DTEND;TZID=UTC:20241203T213000
DTSTAMP:20260421T133532
CREATED:20241031T200735Z
LAST-MODIFIED:20241210T212647Z
UID:10012710-1733257800-1733261400@pielcaneladancers.com
SUMMARY:Brazilian Zouk: Level 3
DESCRIPTION:Curriculum Class: 6 week series: Every Tuesday\, Nov 5 – Dec 10
URL:https://pielcaneladancers.com/event/brazilian-zouk-level-3-8/2024-12-03/
LOCATION:Room 405\, located on 4th Floor of Pearl Studios:\, 500 8th Ave. between 35/36 Streets\, NYC\, NY\, 10018\, United States
CATEGORIES:Level 3 Intermediate
ATTACH;FMTTYPE=image/jpeg:https://pielcaneladancers.com/wp-content/uploads/2024/10/Vinnie_Zouk_Tuesdays.jpg
END:VEVENT
BEGIN:VEVENT
DTSTART;TZID=UTC:20241202T193000
DTEND;TZID=UTC:20241202T203000
DTSTAMP:20260421T133532
CREATED:20241107T193712Z
LAST-MODIFIED:20241209T232548Z
UID:10012974-1733167800-1733171400@pielcaneladancers.com
SUMMARY:Salsa "On 2": Level 3.5
DESCRIPTION:Curriculum Class: 6 week series: Every Monday\, Nov 25 – Dec 30
URL:https://pielcaneladancers.com/event/salsa-on-2-level-3-5-3/2024-12-02/
LOCATION:Room 407\, located on 4th Floor of Pearl Studios:\, 500 8th Ave. between 35/36 Streets\, NYC\, NY\, 10018\, United States
CATEGORIES:Level 3 Intermediate
ATTACH;FMTTYPE=image/jpeg:https://pielcaneladancers.com/wp-content/uploads/2024/11/Arbaz_Mondays.jpg
END:VEVENT
BEGIN:VEVENT
DTSTART;TZID=UTC:20241202T183000
DTEND;TZID=UTC:20241202T193000
DTSTAMP:20260421T133532
CREATED:20241107T193641Z
LAST-MODIFIED:20241209T232541Z
UID:10012968-1733164200-1733167800@pielcaneladancers.com
SUMMARY:Salsa "On 2": Level 3
DESCRIPTION:Curriculum Class: 6 week series: Every Monday\, Nov 25 – Dec 30
URL:https://pielcaneladancers.com/event/salsa-on-2-level-3-13/2024-12-02/
LOCATION:Room 407\, located on 4th Floor of Pearl Studios:\, 500 8th Ave. between 35/36 Streets\, NYC\, NY\, 10018\, United States
CATEGORIES:Level 3 Intermediate
ATTACH;FMTTYPE=image/jpeg:https://pielcaneladancers.com/wp-content/uploads/2024/11/Arbaz_Mondays.jpg
END:VEVENT
BEGIN:VEVENT
DTSTART;TZID=UTC:20241127T193000
DTEND;TZID=UTC:20241127T203000
DTSTAMP:20260421T133532
CREATED:20241107T191404Z
LAST-MODIFIED:20241204T233047Z
UID:10012906-1732735800-1732739400@pielcaneladancers.com
SUMMARY:Bachata: Level 3.5
DESCRIPTION:Curriculum Class: 5 week series: Every Wednesday\, Nov 20 – Dec 18
URL:https://pielcaneladancers.com/event/bachata-level-3-5-4/2024-11-27/
LOCATION:Room 405\, located on 4th Floor of Pearl Studios:\, 500 8th Ave. between 35/36 Streets\, NYC\, NY\, 10018\, United States
CATEGORIES:Level 3 Intermediate
ATTACH;FMTTYPE=image/jpeg:https://pielcaneladancers.com/wp-content/uploads/2024/11/Lou_Wednesdays.jpg
END:VEVENT
BEGIN:VEVENT
DTSTART;TZID=UTC:20241127T183000
DTEND;TZID=UTC:20241127T193000
DTSTAMP:20260421T133532
CREATED:20241107T191312Z
LAST-MODIFIED:20241204T233107Z
UID:10012896-1732732200-1732735800@pielcaneladancers.com
SUMMARY:Bachata: Level 3
DESCRIPTION:Curriculum Class: 5 week series: Every Wednesday\, Nov 20 – Dec 18
URL:https://pielcaneladancers.com/event/bachata-level-3-11/2024-11-27/
LOCATION:Room 405\, located on 4th Floor of Pearl Studios:\, 500 8th Ave. between 35/36 Streets\, NYC\, NY\, 10018\, United States
CATEGORIES:Level 3 Intermediate
ATTACH;FMTTYPE=image/jpeg:https://pielcaneladancers.com/wp-content/uploads/2024/11/Lou_Wednesdays.jpg
END:VEVENT
BEGIN:VEVENT
DTSTART;TZID=UTC:20241126T203000
DTEND;TZID=UTC:20241126T213000
DTSTAMP:20260421T133532
CREATED:20241031T200735Z
LAST-MODIFIED:20241210T212647Z
UID:10012709-1732653000-1732656600@pielcaneladancers.com
SUMMARY:Brazilian Zouk: Level 3
DESCRIPTION:Curriculum Class: 6 week series: Every Tuesday\, Nov 5 – Dec 10
URL:https://pielcaneladancers.com/event/brazilian-zouk-level-3-8/2024-11-26/
LOCATION:Room 405\, located on 4th Floor of Pearl Studios:\, 500 8th Ave. between 35/36 Streets\, NYC\, NY\, 10018\, United States
CATEGORIES:Level 3 Intermediate
ATTACH;FMTTYPE=image/jpeg:https://pielcaneladancers.com/wp-content/uploads/2024/10/Vinnie_Zouk_Tuesdays.jpg
END:VEVENT
BEGIN:VEVENT
DTSTART;TZID=UTC:20241125T193000
DTEND;TZID=UTC:20241125T203000
DTSTAMP:20260421T133532
CREATED:20241107T193712Z
LAST-MODIFIED:20241209T232548Z
UID:10012973-1732563000-1732566600@pielcaneladancers.com
SUMMARY:Salsa "On 2": Level 3.5
DESCRIPTION:Curriculum Class: 6 week series: Every Monday\, Nov 25 – Dec 30
URL:https://pielcaneladancers.com/event/salsa-on-2-level-3-5-3/2024-11-25/
LOCATION:Room 407\, located on 4th Floor of Pearl Studios:\, 500 8th Ave. between 35/36 Streets\, NYC\, NY\, 10018\, United States
CATEGORIES:Level 3 Intermediate
ATTACH;FMTTYPE=image/jpeg:https://pielcaneladancers.com/wp-content/uploads/2024/11/Arbaz_Mondays.jpg
END:VEVENT
BEGIN:VEVENT
DTSTART;TZID=UTC:20241125T183000
DTEND;TZID=UTC:20241125T193000
DTSTAMP:20260421T133532
CREATED:20241107T193641Z
LAST-MODIFIED:20241209T232541Z
UID:10012967-1732559400-1732563000@pielcaneladancers.com
SUMMARY:Salsa "On 2": Level 3
DESCRIPTION:Curriculum Class: 6 week series: Every Monday\, Nov 25 – Dec 30
URL:https://pielcaneladancers.com/event/salsa-on-2-level-3-13/2024-11-25/
LOCATION:Room 407\, located on 4th Floor of Pearl Studios:\, 500 8th Ave. between 35/36 Streets\, NYC\, NY\, 10018\, United States
CATEGORIES:Level 3 Intermediate
ATTACH;FMTTYPE=image/jpeg:https://pielcaneladancers.com/wp-content/uploads/2024/11/Arbaz_Mondays.jpg
END:VEVENT
BEGIN:VEVENT
DTSTART;TZID=UTC:20241120T193000
DTEND;TZID=UTC:20241120T203000
DTSTAMP:20260421T133532
CREATED:20241107T191404Z
LAST-MODIFIED:20241204T233047Z
UID:10012905-1732131000-1732134600@pielcaneladancers.com
SUMMARY:Bachata: Level 3.5
DESCRIPTION:Curriculum Class: 5 week series: Every Wednesday\, Nov 20 – Dec 18
URL:https://pielcaneladancers.com/event/bachata-level-3-5-4/2024-11-20/
LOCATION:Room 405\, located on 4th Floor of Pearl Studios:\, 500 8th Ave. between 35/36 Streets\, NYC\, NY\, 10018\, United States
CATEGORIES:Level 3 Intermediate
ATTACH;FMTTYPE=image/jpeg:https://pielcaneladancers.com/wp-content/uploads/2024/11/Lou_Wednesdays.jpg
END:VEVENT
BEGIN:VEVENT
DTSTART;TZID=UTC:20241120T183000
DTEND;TZID=UTC:20241120T193000
DTSTAMP:20260421T133532
CREATED:20241107T191312Z
LAST-MODIFIED:20241204T233107Z
UID:10012895-1732127400-1732131000@pielcaneladancers.com
SUMMARY:Bachata: Level 3
DESCRIPTION:Curriculum Class: 5 week series: Every Wednesday\, Nov 20 – Dec 18
URL:https://pielcaneladancers.com/event/bachata-level-3-11/2024-11-20/
LOCATION:Room 405\, located on 4th Floor of Pearl Studios:\, 500 8th Ave. between 35/36 Streets\, NYC\, NY\, 10018\, United States
CATEGORIES:Level 3 Intermediate
ATTACH;FMTTYPE=image/jpeg:https://pielcaneladancers.com/wp-content/uploads/2024/11/Lou_Wednesdays.jpg
END:VEVENT
BEGIN:VEVENT
DTSTART;TZID=UTC:20241119T203000
DTEND;TZID=UTC:20241119T213000
DTSTAMP:20260421T133532
CREATED:20241031T200735Z
LAST-MODIFIED:20241210T212647Z
UID:10012708-1732048200-1732051800@pielcaneladancers.com
SUMMARY:Brazilian Zouk: Level 3
DESCRIPTION:Curriculum Class: 6 week series: Every Tuesday\, Nov 5 – Dec 10
URL:https://pielcaneladancers.com/event/brazilian-zouk-level-3-8/2024-11-19/
LOCATION:Room 405\, located on 4th Floor of Pearl Studios:\, 500 8th Ave. between 35/36 Streets\, NYC\, NY\, 10018\, United States
CATEGORIES:Level 3 Intermediate
ATTACH;FMTTYPE=image/jpeg:https://pielcaneladancers.com/wp-content/uploads/2024/10/Vinnie_Zouk_Tuesdays.jpg
END:VEVENT
BEGIN:VEVENT
DTSTART;TZID=UTC:20241118T193000
DTEND;TZID=UTC:20241118T203000
DTSTAMP:20260421T133532
CREATED:20240927T205450Z
LAST-MODIFIED:20241118T204252Z
UID:10013105-1731958200-1731961800@pielcaneladancers.com
SUMMARY:Salsa "On 2": Level 3.5
DESCRIPTION:Curriculum Class: 6 week series: Every Monday\, Sept 30 – Nov 18
URL:https://pielcaneladancers.com/event/salsa-on-2-level-3-5-2/2024-11-18/
LOCATION:Room 405\, located on 4th Floor of Pearl Studios:\, 500 8th Ave. between 35/36 Streets\, NYC\, NY\, 10018\, United States
CATEGORIES:Level 3 Intermediate
ATTACH;FMTTYPE=image/jpeg:https://pielcaneladancers.com/wp-content/uploads/2024/09/Arbaz_Mondays.jpg
END:VEVENT
BEGIN:VEVENT
DTSTART;TZID=UTC:20241118T183000
DTEND;TZID=UTC:20241118T193000
DTSTAMP:20260421T133533
CREATED:20240927T205346Z
LAST-MODIFIED:20241118T204237Z
UID:10013101-1731954600-1731958200@pielcaneladancers.com
SUMMARY:Salsa "On 2": Level 3
DESCRIPTION:Curriculum Class: 6 week series: Every Monday\, Sept 30 – Nov 18
URL:https://pielcaneladancers.com/event/salsa-on-2-level-3-12/2024-11-18/
LOCATION:Room 405\, located on 4th Floor of Pearl Studios:\, 500 8th Ave. between 35/36 Streets\, NYC\, NY\, 10018\, United States
CATEGORIES:Level 3 Intermediate
ATTACH;FMTTYPE=image/jpeg:https://pielcaneladancers.com/wp-content/uploads/2024/09/Arbaz_Mondays.jpg
END:VEVENT
BEGIN:VEVENT
DTSTART;TZID=UTC:20241113T193000
DTEND;TZID=UTC:20241113T203000
DTSTAMP:20260421T133533
CREATED:20241014T155405Z
LAST-MODIFIED:20241107T185744Z
UID:10012664-1731526200-1731529800@pielcaneladancers.com
SUMMARY:Bachata: Level 3.5
DESCRIPTION:Curriculum Class: 6 week series: Every Wednesday\, Oct 16 – Nov 13
URL:https://pielcaneladancers.com/event/bachata-level-3-5-3/2024-11-13/
LOCATION:Room 402\, located on 4th Floor of Pearl Studios:\, 500 8th Ave. between 35/36 Streets\, NYC\, NY\, 10018\, United States
CATEGORIES:Level 3 Intermediate
ATTACH;FMTTYPE=image/jpeg:https://pielcaneladancers.com/wp-content/uploads/2024/10/Lou_Wednesdays.jpg
END:VEVENT
BEGIN:VEVENT
DTSTART;TZID=UTC:20241113T183000
DTEND;TZID=UTC:20241113T193000
DTSTAMP:20260421T133533
CREATED:20241014T155132Z
LAST-MODIFIED:20241107T185706Z
UID:10012822-1731522600-1731526200@pielcaneladancers.com
SUMMARY:Bachata: Level 3
DESCRIPTION:Curriculum Class: 6 week series: Every Wednesday\, Oct 16 – Nov 13
URL:https://pielcaneladancers.com/event/bachata-level-3-10/2024-11-13/
LOCATION:Room 402\, located on 4th Floor of Pearl Studios:\, 500 8th Ave. between 35/36 Streets\, NYC\, NY\, 10018\, United States
CATEGORIES:Level 3 Intermediate
ATTACH;FMTTYPE=image/jpeg:https://pielcaneladancers.com/wp-content/uploads/2024/10/Lou_Wednesdays.jpg
END:VEVENT
END:VCALENDAR