BEGIN:VCALENDAR
VERSION:2.0
PRODID:-//PielCanela - ECPv6.15.20//NONSGML v1.0//EN
CALSCALE:GREGORIAN
METHOD:PUBLISH
X-ORIGINAL-URL:https://pielcaneladancers.com
X-WR-CALDESC:Events for PielCanela
REFRESH-INTERVAL;VALUE=DURATION:PT1H
X-Robots-Tag:noindex
X-PUBLISHED-TTL:PT1H
BEGIN:VTIMEZONE
TZID:America/New_York
BEGIN:DAYLIGHT
TZOFFSETFROM:-0500
TZOFFSETTO:-0400
TZNAME:EDT
DTSTART:20230312T070000
END:DAYLIGHT
BEGIN:STANDARD
TZOFFSETFROM:-0400
TZOFFSETTO:-0500
TZNAME:EST
DTSTART:20231105T060000
END:STANDARD
BEGIN:DAYLIGHT
TZOFFSETFROM:-0500
TZOFFSETTO:-0400
TZNAME:EDT
DTSTART:20240310T070000
END:DAYLIGHT
BEGIN:STANDARD
TZOFFSETFROM:-0400
TZOFFSETTO:-0500
TZNAME:EST
DTSTART:20241103T060000
END:STANDARD
BEGIN:DAYLIGHT
TZOFFSETFROM:-0500
TZOFFSETTO:-0400
TZNAME:EDT
DTSTART:20250309T070000
END:DAYLIGHT
BEGIN:STANDARD
TZOFFSETFROM:-0400
TZOFFSETTO:-0500
TZNAME:EST
DTSTART:20251102T060000
END:STANDARD
END:VTIMEZONE
BEGIN:VTIMEZONE
TZID:UTC
BEGIN:STANDARD
TZOFFSETFROM:+0000
TZOFFSETTO:+0000
TZNAME:UTC
DTSTART:20230101T000000
END:STANDARD
END:VTIMEZONE
BEGIN:VEVENT
DTSTART;TZID=America/New_York:20240510T183000
DTEND;TZID=America/New_York:20240510T193000
DTSTAMP:20260419T130735
CREATED:20240327T174635Z
LAST-MODIFIED:20240430T045900Z
UID:10007983-1715365800-1715369400@pielcaneladancers.com
SUMMARY:Swing: Level 1
DESCRIPTION:Curriculum Class: 6 week series: Every Friday\, Apr 5 – 10
URL:https://pielcaneladancers.com/event/swing-level-1-3/2024-05-10/
LOCATION:Room 311\, located on 3rd Floor of Pearl Studios:\, 500 8th Ave. between 35/36 Streets\, NYC\, NY\, 10018\, United States
CATEGORIES:Level 1 Beginner
END:VEVENT
BEGIN:VEVENT
DTSTART;TZID=UTC:20240510T183000
DTEND;TZID=UTC:20240510T193000
DTSTAMP:20260419T130735
CREATED:20240424T160104Z
LAST-MODIFIED:20240604T144213Z
UID:10009011-1715365800-1715369400@pielcaneladancers.com
SUMMARY:Salsa "On 2": Level 2
DESCRIPTION:Curriculum Class: 6 week series: Every Friday\, May 3 – June 7
URL:https://pielcaneladancers.com/event/salsa-on-2-level-2-14/2024-05-10/
LOCATION:Room 311\, located on 3rd Floor of Pearl Studios:\, 500 8th Ave. between 35/36 Streets\, NYC\, NY\, 10018\, United States
CATEGORIES:Level 2 Advance Beginner
END:VEVENT
BEGIN:VEVENT
DTSTART;TZID=UTC:20240510T183000
DTEND;TZID=UTC:20240510T193000
DTSTAMP:20260419T130735
CREATED:20240424T160515Z
LAST-MODIFIED:20240528T175547Z
UID:10009035-1715365800-1715369400@pielcaneladancers.com
SUMMARY:Salsa "On 2": Level 1
DESCRIPTION:Curriculum Class: 6 week series: Every Friday\, May 3 – June 7
URL:https://pielcaneladancers.com/event/salsa-on-2-level-1-18/2024-05-10/
LOCATION:Room 302\, located on 3rd Floor of Pearl Studios:\, 500 8th Ave. between 35/36 Streets\, NYC\, NY\, 10018\, United States
CATEGORIES:Level 1 Beginner
END:VEVENT
BEGIN:VEVENT
DTSTART;TZID=America/New_York:20240510T183000
DTEND;TZID=America/New_York:20240510T193000
DTSTAMP:20260419T130735
CREATED:20240424T161019Z
LAST-MODIFIED:20240521T185024Z
UID:10009057-1715365800-1715369400@pielcaneladancers.com
SUMMARY:Reggaeton
DESCRIPTION:Open Class: 4 week series: Fridays\, May 3 – 24
URL:https://pielcaneladancers.com/event/reggaeton-8/2024-05-10/
LOCATION:Room 401\, located on 4th Floor of Pearl Studios:\, 500 8th Ave. between 35/36 Streets\, NYC\, NY\, 10018\, United States
CATEGORIES:Open Level Class
END:VEVENT
BEGIN:VEVENT
DTSTART;TZID=America/New_York:20240510T193000
DTEND;TZID=America/New_York:20240510T203000
DTSTAMP:20260419T130735
CREATED:20240327T174841Z
LAST-MODIFIED:20240430T045945Z
UID:10007995-1715369400-1715373000@pielcaneladancers.com
SUMMARY:Hustle: Level 1
DESCRIPTION:Curriculum Class: 6 week series: Every Friday\, Apr 5 – May 10
URL:https://pielcaneladancers.com/event/hustle-level-1-3/2024-05-10/
LOCATION:Room 311\, located on 3rd Floor of Pearl Studios:\, 500 8th Ave. between 35/36 Streets\, NYC\, NY\, 10018\, United States
CATEGORIES:Level 1 Beginner
END:VEVENT
BEGIN:VEVENT
DTSTART;TZID=UTC:20240510T193000
DTEND;TZID=UTC:20240510T203000
DTSTAMP:20260419T130735
CREATED:20240424T160227Z
LAST-MODIFIED:20240604T144352Z
UID:10009023-1715369400-1715373000@pielcaneladancers.com
SUMMARY:Bachata: Level 2
DESCRIPTION:Curriculum Class: 6 week series: Every Friday\, May 3 – June 7
URL:https://pielcaneladancers.com/event/bachata-level-2-14/2024-05-10/
LOCATION:Room 311\, located on 3rd Floor of Pearl Studios:\, 500 8th Ave. between 35/36 Streets\, NYC\, NY\, 10018\, United States
CATEGORIES:Level 2 Advance Beginner
END:VEVENT
BEGIN:VEVENT
DTSTART;TZID=UTC:20240510T193000
DTEND;TZID=UTC:20240510T203000
DTSTAMP:20260419T130735
CREATED:20240424T160705Z
LAST-MODIFIED:20240528T175644Z
UID:10009047-1715369400-1715373000@pielcaneladancers.com
SUMMARY:Bachata: Level 1
DESCRIPTION:Curriculum Class: 6 week series: Every Friday\, May 3 – June 7
URL:https://pielcaneladancers.com/event/bachata-level-1-15/2024-05-10/
LOCATION:Room 302\, located on 3rd Floor of Pearl Studios:\, 500 8th Ave. between 35/36 Streets\, NYC\, NY\, 10018\, United States
CATEGORIES:Level 1 Beginner
END:VEVENT
BEGIN:VEVENT
DTSTART;TZID=America/New_York:20240510T193000
DTEND;TZID=America/New_York:20240510T203000
DTSTAMP:20260419T130735
CREATED:20240424T161052Z
LAST-MODIFIED:20240430T045815Z
UID:10009065-1715369400-1715373000@pielcaneladancers.com
SUMMARY:Hip Hop
DESCRIPTION:Open Class: 4 week series: Fridays\, May 3 – 24
URL:https://pielcaneladancers.com/event/hip-hop-8/2024-05-10/
LOCATION:Room 315\, located on 3rd Floor of Pearl Studios:\, 500 8th Ave. between 35/36 Streets\, NYC\, NY\, 10018\, United States
CATEGORIES:Open Level Class
END:VEVENT
BEGIN:VEVENT
DTSTART;TZID=America/New_York:20240510T193000
DTEND;TZID=America/New_York:20240510T203000
DTSTAMP:20260419T130735
CREATED:20240520T164614Z
LAST-MODIFIED:20240521T185113Z
UID:10009840-1715369400-1715373000@pielcaneladancers.com
SUMMARY:Hip Hop
DESCRIPTION:Open Class: 4 week series: Fridays\, May 31 – June 21
URL:https://pielcaneladancers.com/event/hip-hop-10/2024-05-10/
LOCATION:Room 401\, located on 4th Floor of Pearl Studios:\, 500 8th Ave. between 35/36 Streets\, NYC\, NY\, 10018\, United States
CATEGORIES:Open Level Class
ATTACH;FMTTYPE=image/jpeg:https://pielcaneladancers.com/wp-content/uploads/2024/05/Sophia_Fridays.jpg
END:VEVENT
BEGIN:VEVENT
DTSTART;TZID=America/New_York:20240510T203000
DTEND;TZID=America/New_York:20240510T223000
DTSTAMP:20260419T130735
CREATED:20240506T184730Z
LAST-MODIFIED:20240506T184730Z
UID:10009369-1715373000-1715380200@pielcaneladancers.com
SUMMARY:Practica: Salsa\, Bachata and more
DESCRIPTION:Every Friday 8:30-10:30pm\, a chance to practice your new moves
URL:https://pielcaneladancers.com/event/practica-salsa-bachata-and-more-3/
LOCATION:Room 314\, located on 3rd Floor of Pearl Studios:\, 500 8th Ave. between 35/36 Streets\, NYC\, NY\, 10018\, United States
CATEGORIES:Level 2 Advance Beginner
ATTACH;FMTTYPE=image/jpeg:https://pielcaneladancers.com/wp-content/uploads/2024/05/Practica_May10.jpg
END:VEVENT
BEGIN:VEVENT
DTSTART;TZID=UTC:20240511T130000
DTEND;TZID=UTC:20240511T140000
DTSTAMP:20260419T130735
CREATED:20240327T175849Z
LAST-MODIFIED:20240430T050101Z
UID:10008007-1715432400-1715436000@pielcaneladancers.com
SUMMARY:Salsa "On 2": Level 1
DESCRIPTION:Curriculum Class: 6 week series: Every Saturday\, Apr 6 – May 11
URL:https://pielcaneladancers.com/event/salsa-on-2-level-1-15/2024-05-11/
LOCATION:Room 402\, located on 4th Floor of Pearl Studios:\, 500 8th Ave. between 35/36 Streets\, NYC\, NY\, 10018\, United States
CATEGORIES:Level 1 Beginner
END:VEVENT
BEGIN:VEVENT
DTSTART;TZID=UTC:20240511T140000
DTEND;TZID=UTC:20240511T150000
DTSTAMP:20260419T130735
CREATED:20240327T175951Z
LAST-MODIFIED:20240430T050245Z
UID:10008019-1715436000-1715439600@pielcaneladancers.com
SUMMARY:Bachata: Level 1
DESCRIPTION:Curriculum Class: 6 week series: Every Saturday\, Apr 6 – May 11
URL:https://pielcaneladancers.com/event/bachata-level-1-12/2024-05-11/
LOCATION:Room 401\, located on 4th Floor of Pearl Studios:\, 500 8th Ave. between 35/36 Streets\, NYC\, NY\, 10018\, United States
CATEGORIES:Level 1 Beginner
END:VEVENT
BEGIN:VEVENT
DTSTART;TZID=UTC:20240511T140000
DTEND;TZID=UTC:20240511T150000
DTSTAMP:20260419T130735
CREATED:20240327T180629Z
LAST-MODIFIED:20240430T050332Z
UID:10008043-1715436000-1715439600@pielcaneladancers.com
SUMMARY:Salsa "On 2": Level 2
DESCRIPTION:Curriculum Class: 6 week series: Every Saturday\, Apr 6 – May 11
URL:https://pielcaneladancers.com/event/salsa-on-2-level-2-12/2024-05-11/
LOCATION:Room 402\, located on 4th Floor of Pearl Studios:\, 500 8th Ave. between 35/36 Streets\, NYC\, NY\, 10018\, United States
CATEGORIES:Level 2 Advance Beginner
END:VEVENT
BEGIN:VEVENT
DTSTART;TZID=UTC:20240511T150000
DTEND;TZID=UTC:20240511T160000
DTSTAMP:20260419T130735
CREATED:20240327T180051Z
LAST-MODIFIED:20240423T194343Z
UID:10008049-1715439600-1715443200@pielcaneladancers.com
SUMMARY:Bachata: Level 2
DESCRIPTION:Curriculum Class: 6 week series: Every Saturday\, Apr 6 – May 11
URL:https://pielcaneladancers.com/event/bachata-level-2-11/2024-05-11/
LOCATION:Room 401\, located on 4th Floor of Pearl Studios:\, 500 8th Ave. between 35/36 Streets\, NYC\, NY\, 10018\, United States
CATEGORIES:Level 2 Advance Beginner
END:VEVENT
BEGIN:VEVENT
DTSTART;TZID=UTC:20240513T183000
DTEND;TZID=UTC:20240513T193000
DTSTAMP:20260419T130735
CREATED:20240424T155339Z
LAST-MODIFIED:20240520T154922Z
UID:10008970-1715625000-1715628600@pielcaneladancers.com
SUMMARY:Commercial Latin Dance
DESCRIPTION:Open Class: 4 week series: Mondays\, April 29 – May 20
URL:https://pielcaneladancers.com/event/commercial-latin-dance-3/2024-05-13/
LOCATION:Room 402\, located on 4th Floor of Pearl Studios:\, 500 8th Ave. between 35/36 Streets\, NYC\, NY\, 10018\, United States
CATEGORIES:Open Level Class
END:VEVENT
BEGIN:VEVENT
DTSTART;TZID=UTC:20240513T183000
DTEND;TZID=UTC:20240513T193000
DTSTAMP:20260419T130735
CREATED:20240506T190954Z
LAST-MODIFIED:20240624T231046Z
UID:10009376-1715625000-1715628600@pielcaneladancers.com
SUMMARY:Salsa "On 2": Level 1
DESCRIPTION:Curriculum Class: 6 week series: Every Monday\, May 13 – June 24
URL:https://pielcaneladancers.com/event/salsa-on-2-level-1-19/2024-05-13/
LOCATION:Room 411\, located on 4th Floor of Pearl Studios:\, 500 8th Ave. between 35/36 Streets\, NYC\, NY\, 10018\, United States
CATEGORIES:Level 1 Beginner
ATTACH;FMTTYPE=image/jpeg:https://pielcaneladancers.com/wp-content/uploads/2024/05/Arbaz_Mondays.jpg
END:VEVENT
BEGIN:VEVENT
DTSTART;TZID=UTC:20240513T183000
DTEND;TZID=UTC:20240513T193000
DTSTAMP:20260419T130735
CREATED:20240506T191111Z
LAST-MODIFIED:20240624T231242Z
UID:10009402-1715625000-1715628600@pielcaneladancers.com
SUMMARY:Salsa "On 2": Level 3
DESCRIPTION:Curriculum Class: 6 week series: Every Monday\, May 13 – June 24
URL:https://pielcaneladancers.com/event/salsa-on-2-level-3-5/2024-05-13/
LOCATION:Room 415\, located on 4th Floor of Pearl Studios:\, 500 8th Ave. between 35/36 Streets\, NYC\, NY\, 10018\, United States
CATEGORIES:Level 3 Intermediate
END:VEVENT
BEGIN:VEVENT
DTSTART;TZID=UTC:20240513T183000
DTEND;TZID=UTC:20240513T193000
DTSTAMP:20260419T130735
CREATED:20240624T201600Z
LAST-MODIFIED:20240624T223932Z
UID:10010269-1715625000-1715628600@pielcaneladancers.com
SUMMARY:Salsa "On 2": Level 3
DESCRIPTION:Curriculum Class: 6 week series: Every Monday\, July 1 – Aug 12
URL:https://pielcaneladancers.com/event/salsa-on-2-level-3-7/2024-05-13/
LOCATION:Room 411\, located on 4th Floor of Pearl Studios:\, 500 8th Ave. between 35/36 Streets\, NYC\, NY\, 10018\, United States
CATEGORIES:Level 3 Intermediate
END:VEVENT
BEGIN:VEVENT
DTSTART;TZID=America/New_York:20240513T193000
DTEND;TZID=America/New_York:20240513T203000
DTSTAMP:20260419T130735
CREATED:20240424T155431Z
LAST-MODIFIED:20240520T155002Z
UID:10008978-1715628600-1715632200@pielcaneladancers.com
SUMMARY:Lyrical Jazz
DESCRIPTION:Open Class: 4 week series: Mondays\, April 29 – May 20
URL:https://pielcaneladancers.com/event/lyrical-jazz-5/2024-05-13/
LOCATION:Room 402\, located on 4th Floor of Pearl Studios:\, 500 8th Ave. between 35/36 Streets\, NYC\, NY\, 10018\, United States
CATEGORIES:Open Level Class
END:VEVENT
BEGIN:VEVENT
DTSTART;TZID=UTC:20240513T193000
DTEND;TZID=UTC:20240513T203000
DTSTAMP:20260419T130735
CREATED:20240506T191042Z
LAST-MODIFIED:20240624T230909Z
UID:10009389-1715628600-1715632200@pielcaneladancers.com
SUMMARY:Salsa "On 2": Level 2
DESCRIPTION:Curriculum Class: 6 week series: Every Monday\, May 13 – June 24
URL:https://pielcaneladancers.com/event/salsa-on-2-level-2-15/2024-05-13/
LOCATION:Room 411\, located on 4th Floor of Pearl Studios:\, 500 8th Ave. between 35/36 Streets\, NYC\, NY\, 10018\, United States
CATEGORIES:Level 2 Advance Beginner
ATTACH;FMTTYPE=image/jpeg:https://pielcaneladancers.com/wp-content/uploads/2024/05/Arbaz_Mondays.jpg
END:VEVENT
BEGIN:VEVENT
DTSTART;TZID=UTC:20240513T193000
DTEND;TZID=UTC:20240513T203000
DTSTAMP:20260419T130735
CREATED:20240506T191146Z
LAST-MODIFIED:20240624T231329Z
UID:10009414-1715628600-1715632200@pielcaneladancers.com
SUMMARY:Salsa "On 2": Level 4
DESCRIPTION:Curriculum Class: 6 week series: Every Monday\, May 13 – June 24
URL:https://pielcaneladancers.com/event/salsa-on-2-level-4-4/2024-05-13/
LOCATION:Room 415\, located on 4th Floor of Pearl Studios:\, 500 8th Ave. between 35/36 Streets\, NYC\, NY\, 10018\, United States
CATEGORIES:Level 4 Advance Intermediate
ATTACH;FMTTYPE=image/jpeg:https://pielcaneladancers.com/wp-content/uploads/2024/05/Joe_Mondays.jpg
END:VEVENT
BEGIN:VEVENT
DTSTART;TZID=UTC:20240513T203000
DTEND;TZID=UTC:20240513T213000
DTSTAMP:20260419T130735
CREATED:20240506T191215Z
LAST-MODIFIED:20240624T231145Z
UID:10009427-1715632200-1715635800@pielcaneladancers.com
SUMMARY:Salsa "On 2" Partnerwork: Level 2.5
DESCRIPTION:Curriculum Class: 6 week series: Every Monday\, May 13 – June 24
URL:https://pielcaneladancers.com/event/salsa-on-2-partnerwork-level-2-5-4/2024-05-13/
LOCATION:Room 411\, located on 4th Floor of Pearl Studios:\, 500 8th Ave. between 35/36 Streets\, NYC\, NY\, 10018\, United States
CATEGORIES:Level 2 Advance Beginner
ATTACH;FMTTYPE=image/jpeg:https://pielcaneladancers.com/wp-content/uploads/2024/05/Arbaz_Mondays.jpg
END:VEVENT
BEGIN:VEVENT
DTSTART;TZID=UTC:20240513T203000
DTEND;TZID=UTC:20240513T213000
DTSTAMP:20260419T130735
CREATED:20240506T191256Z
LAST-MODIFIED:20240617T234500Z
UID:10009439-1715632200-1715635800@pielcaneladancers.com
SUMMARY:Salsa "On 2": Level 5
DESCRIPTION:Curriculum Class: 6 week series: Every Monday\, May 13 – June 24
URL:https://pielcaneladancers.com/event/salsa-on-2-level-5-4/2024-05-13/
LOCATION:Room 402\, located on 4th Floor of Pearl Studios:\, 500 8th Ave. between 35/36 Streets\, NYC\, NY\, 10018\, United States
CATEGORIES:Level 5 Advanced
ATTACH;FMTTYPE=image/jpeg:https://pielcaneladancers.com/wp-content/uploads/2024/05/Joe_Mondays.jpg
END:VEVENT
BEGIN:VEVENT
DTSTART;TZID=UTC:20240514T183000
DTEND;TZID=UTC:20240514T193000
DTSTAMP:20260419T130735
CREATED:20240403T164255Z
LAST-MODIFIED:20240417T193219Z
UID:10008083-1715711400-1715715000@pielcaneladancers.com
SUMMARY:Brazilian Zouk: Level 1
DESCRIPTION:Curriculum Class: 6 week series: Every Tuesday\, Apr 9 – May 14
URL:https://pielcaneladancers.com/event/brazilian-zouk-level-1-6/2024-05-14/
LOCATION:Room 402\, located on 4th Floor of Pearl Studios:\, 500 8th Ave. between 35/36 Streets\, NYC\, NY\, 10018\, United States
CATEGORIES:Level 1 Beginner
END:VEVENT
BEGIN:VEVENT
DTSTART;TZID=UTC:20240514T183000
DTEND;TZID=UTC:20240514T193000
DTSTAMP:20260419T130735
CREATED:20240403T165231Z
LAST-MODIFIED:20240514T214209Z
UID:10008135-1715711400-1715715000@pielcaneladancers.com
SUMMARY:Salsa "On 2": Level 1
DESCRIPTION:Curriculum Class: 6 week series: Every Tuesday\, Apr 9 – May 14
URL:https://pielcaneladancers.com/event/salsa-on-2-level-1-16/2024-05-14/
LOCATION:Room 412\, located on 4th Floor of Pearl Studios:\, 500 8th Ave. between 35/36 Streets\, NYC\, NY\, 10018\, United States
CATEGORIES:Level 1 Beginner
END:VEVENT
BEGIN:VEVENT
DTSTART;TZID=UTC:20240514T183000
DTEND;TZID=UTC:20240514T193000
DTSTAMP:20260419T130735
CREATED:20240403T165636Z
LAST-MODIFIED:20240513T205414Z
UID:10008159-1715711400-1715715000@pielcaneladancers.com
SUMMARY:Salsa Ladies Styling: Level 2.5
DESCRIPTION:Curriculum Class: 6 week series: Every Tuesday\, Apr 9 – May 14
URL:https://pielcaneladancers.com/event/salsa-ladies-styling-level-2-5-2/2024-05-14/
CATEGORIES:Level 2 Advance Beginner
END:VEVENT
BEGIN:VEVENT
DTSTART;TZID=UTC:20240514T183000
DTEND;TZID=UTC:20240514T193000
DTSTAMP:20260419T130735
CREATED:20240408T144710Z
LAST-MODIFIED:20240514T213931Z
UID:10008789-1715711400-1715715000@pielcaneladancers.com
SUMMARY:Salsa Ladies Styling:  Level 1.5
DESCRIPTION:Curriculum Class: 6 week series: Every Tuesday\, Apr 9 – May 14
URL:https://pielcaneladancers.com/event/salsa-ladies-styling-level-1-5-4/2024-05-14/
LOCATION:Room 410\, located on 4th Floor of Pearl Studios:\, 500 8th Ave. between 35/36 Streets\, NYC\, NY\, 10018\, United States
CATEGORIES:Level 1 Beginner
ATTACH;FMTTYPE=image/jpeg:https://pielcaneladancers.com/wp-content/uploads/2024/04/Veronica_Tuesdays.jpg
END:VEVENT
BEGIN:VEVENT
DTSTART;TZID=America/New_York:20240514T183000
DTEND;TZID=America/New_York:20240514T193000
DTSTAMP:20260419T130735
CREATED:20240507T153135Z
LAST-MODIFIED:20240530T153244Z
UID:10009450-1715711400-1715715000@pielcaneladancers.com
SUMMARY:Merengue: Level 1
DESCRIPTION:Open Class: 4 week series: Tuesdays\, May 14 – June 4
URL:https://pielcaneladancers.com/event/merengue-level-1-5/2024-05-14/
LOCATION:Room 405\, located on 4th Floor of Pearl Studios:\, 500 8th Ave. between 35/36 Streets\, NYC\, NY\, 10018\, United States
CATEGORIES:Level 1 Beginner
ATTACH;FMTTYPE=image/jpeg:https://pielcaneladancers.com/wp-content/uploads/2024/05/Elizabeth_Merengue.jpg
END:VEVENT
BEGIN:VEVENT
DTSTART;TZID=UTC:20240514T193000
DTEND;TZID=UTC:20240514T203000
DTSTAMP:20260419T130735
CREATED:20240403T164405Z
LAST-MODIFIED:20240417T193253Z
UID:10008095-1715715000-1715718600@pielcaneladancers.com
SUMMARY:Brazilian Zouk: Level 2
DESCRIPTION:Curriculum Class: 6 week series: Every Tuesday\, Apr 9 – May 14
URL:https://pielcaneladancers.com/event/brazilian-zouk-level-2-3/2024-05-14/
LOCATION:Room 402\, located on 4th Floor of Pearl Studios:\, 500 8th Ave. between 35/36 Streets\, NYC\, NY\, 10018\, United States
CATEGORIES:Level 2 Advance Beginner
END:VEVENT
BEGIN:VEVENT
DTSTART;TZID=UTC:20240514T193000
DTEND;TZID=UTC:20240514T203000
DTSTAMP:20260419T130735
CREATED:20240403T165430Z
LAST-MODIFIED:20240513T202742Z
UID:10008147-1715715000-1715718600@pielcaneladancers.com
SUMMARY:Salsa "On 2": Level 2
DESCRIPTION:Curriculum Class: 6 week series: Every Tuesday\, Apr 9 – May 14
URL:https://pielcaneladancers.com/event/salsa-on-2-level-2-13/2024-05-14/
LOCATION:Room 411\, located on 4th Floor of Pearl Studios:\, 500 8th Ave. between 35/36 Streets\, NYC\, NY\, 10018\, United States
CATEGORIES:Level 2 Advance Beginner
END:VEVENT
END:VCALENDAR