BEGIN:VCALENDAR
VERSION:2.0
PRODID:-//PielCanela - ECPv6.15.20//NONSGML v1.0//EN
CALSCALE:GREGORIAN
METHOD:PUBLISH
X-WR-CALNAME:PielCanela
X-ORIGINAL-URL:https://pielcaneladancers.com
X-WR-CALDESC:Events for PielCanela
REFRESH-INTERVAL;VALUE=DURATION:PT1H
X-Robots-Tag:noindex
X-PUBLISHED-TTL:PT1H
BEGIN:VTIMEZONE
TZID:America/New_York
BEGIN:DAYLIGHT
TZOFFSETFROM:-0500
TZOFFSETTO:-0400
TZNAME:EDT
DTSTART:20230312T070000
END:DAYLIGHT
BEGIN:STANDARD
TZOFFSETFROM:-0400
TZOFFSETTO:-0500
TZNAME:EST
DTSTART:20231105T060000
END:STANDARD
BEGIN:DAYLIGHT
TZOFFSETFROM:-0500
TZOFFSETTO:-0400
TZNAME:EDT
DTSTART:20240310T070000
END:DAYLIGHT
BEGIN:STANDARD
TZOFFSETFROM:-0400
TZOFFSETTO:-0500
TZNAME:EST
DTSTART:20241103T060000
END:STANDARD
BEGIN:DAYLIGHT
TZOFFSETFROM:-0500
TZOFFSETTO:-0400
TZNAME:EDT
DTSTART:20250309T070000
END:DAYLIGHT
BEGIN:STANDARD
TZOFFSETFROM:-0400
TZOFFSETTO:-0500
TZNAME:EST
DTSTART:20251102T060000
END:STANDARD
END:VTIMEZONE
BEGIN:VTIMEZONE
TZID:UTC
BEGIN:STANDARD
TZOFFSETFROM:+0000
TZOFFSETTO:+0000
TZNAME:UTC
DTSTART:20230101T000000
END:STANDARD
END:VTIMEZONE
BEGIN:VEVENT
DTSTART;TZID=America/New_York:20241123T200000
DTEND;TZID=America/New_York:20241123T235900
DTSTAMP:20260421T082844
CREATED:20241121T181534Z
LAST-MODIFIED:20241121T181616Z
UID:10013119-1732392000-1732406340@pielcaneladancers.com
SUMMARY:GIVING THANKS SOCIAL at COPACABANA
DESCRIPTION:Join our FREE – before Midnight – Guest List and enjoy a night of Social Dancing\nList closes on Saturday\, Nov 23 at 2pm \n 
URL:https://pielcaneladancers.com/event/giving-thanks-social-at-copacabana/
LOCATION:Copacabana\, 625 W 51 Street\, New York\, NY\, 10011\, United States
ATTACH;FMTTYPE=image/png:https://pielcaneladancers.com/wp-content/uploads/2024/11/Screenshot-2024-11-21-at-1.15.09 PM.png
END:VEVENT
BEGIN:VEVENT
DTSTART;TZID=America/New_York:20241122T183000
DTEND;TZID=America/New_York:20241122T203000
DTSTAMP:20260421T082844
CREATED:20240905T172208Z
LAST-MODIFIED:20241122T170604Z
UID:10011790-1732300200-1732307400@pielcaneladancers.com
SUMMARY:Salsa Student Team
DESCRIPTION:
URL:https://pielcaneladancers.com/event/salsa-student-team/2024-11-22/
END:VEVENT
BEGIN:VEVENT
DTSTART;TZID=America/New_York:20241121T213000
DTEND;TZID=America/New_York:20241121T223000
DTSTAMP:20260421T082844
CREATED:20240905T173009Z
LAST-MODIFIED:20241122T170533Z
UID:10011832-1732224600-1732228200@pielcaneladancers.com
SUMMARY:Salsa Pro Team
DESCRIPTION:
URL:https://pielcaneladancers.com/event/salsa-pro-team/2024-11-21/
END:VEVENT
BEGIN:VEVENT
DTSTART;TZID=America/New_York:20241121T183000
DTEND;TZID=America/New_York:20241121T193000
DTSTAMP:20260421T082844
CREATED:20241016T212913Z
LAST-MODIFIED:20241122T165732Z
UID:10012512-1732213800-1732217400@pielcaneladancers.com
SUMMARY:Cumbia: Level 1
DESCRIPTION:Curriculum Class: 6 week series: Every Thursday\, Oct 24 – Nov 28
URL:https://pielcaneladancers.com/event/cumbia-level-1-7/2024-11-21/
LOCATION:Room 411\, located on 4th Floor of Pearl Studios:\, 500 8th Ave. between 35/36 Streets\, NYC\, NY\, 10018\, United States
CATEGORIES:Level 1 Beginner
ATTACH;FMTTYPE=image/jpeg:https://pielcaneladancers.com/wp-content/uploads/2024/10/Joe_Cumbia.jpg
END:VEVENT
BEGIN:VEVENT
DTSTART;TZID=UTC:20241120T193000
DTEND;TZID=UTC:20241120T203000
DTSTAMP:20260421T082844
CREATED:20241107T191114Z
LAST-MODIFIED:20241204T233036Z
UID:10012885-1732131000-1732134600@pielcaneladancers.com
SUMMARY:Bachata: Level 2
DESCRIPTION:Curriculum Class: 5 week series: Every Wednesday\, Nov 20 – Dec 18
URL:https://pielcaneladancers.com/event/bachata-level-2-29/2024-11-20/
LOCATION:Room 402\, located on 4th Floor of Pearl Studios:\, 500 8th Ave. between 35/36 Streets\, NYC\, NY\, 10018\, United States
CATEGORIES:Level 2 Advance Beginner
ATTACH;FMTTYPE=image/jpeg:https://pielcaneladancers.com/wp-content/uploads/2024/11/Joe_Wednesdays.jpg
END:VEVENT
BEGIN:VEVENT
DTSTART;TZID=UTC:20241120T183000
DTEND;TZID=UTC:20241120T193000
DTSTAMP:20260421T082844
CREATED:20241107T191031Z
LAST-MODIFIED:20241204T232942Z
UID:10012880-1732127400-1732131000@pielcaneladancers.com
SUMMARY:Bachata Level 1
DESCRIPTION:Curriculum Class: 5 week series: Every Wednesday\, Nov 20 – Dec 18
URL:https://pielcaneladancers.com/event/bachata-level-1-29/2024-11-20/
LOCATION:Room 402\, located on 4th Floor of Pearl Studios:\, 500 8th Ave. between 35/36 Streets\, NYC\, NY\, 10018\, United States
CATEGORIES:Level 1 Beginner
ATTACH;FMTTYPE=image/jpeg:https://pielcaneladancers.com/wp-content/uploads/2024/11/Joe_Wednesdays.jpg
END:VEVENT
BEGIN:VEVENT
DTSTART;TZID=America/New_York:20241119T213000
DTEND;TZID=America/New_York:20241119T223000
DTSTAMP:20260421T082844
CREATED:20240905T173009Z
LAST-MODIFIED:20241122T170533Z
UID:10011831-1732051800-1732055400@pielcaneladancers.com
SUMMARY:Salsa Pro Team
DESCRIPTION:
URL:https://pielcaneladancers.com/event/salsa-pro-team/2024-11-19/
END:VEVENT
BEGIN:VEVENT
DTSTART;TZID=UTC:20241119T193000
DTEND;TZID=UTC:20241119T203000
DTSTAMP:20260421T082844
CREATED:20241016T173818Z
LAST-MODIFIED:20241122T173137Z
UID:10012494-1732044600-1732048200@pielcaneladancers.com
SUMMARY:Salsa "On 2": Level 2
DESCRIPTION:Curriculum Class: 6 week series: Every Tuesday\, Oct 22 – Nov 26
URL:https://pielcaneladancers.com/event/salsa-on-2-level-2-31/2024-11-19/
LOCATION:Room 405\, located on 4th Floor of Pearl Studios:\, 500 8th Ave. between 35/36 Streets\, NYC\, NY\, 10018\, United States
CATEGORIES:Level 2 Advance Beginner
ATTACH;FMTTYPE=image/jpeg:https://pielcaneladancers.com/wp-content/uploads/2024/10/Joe_Tuesdays.jpg
END:VEVENT
BEGIN:VEVENT
DTSTART;TZID=UTC:20241119T183000
DTEND;TZID=UTC:20241119T193000
DTSTAMP:20260421T082844
CREATED:20241022T171122Z
LAST-MODIFIED:20241122T173130Z
UID:10012576-1732041000-1732044600@pielcaneladancers.com
SUMMARY:Salsa "On 2": Level 1
DESCRIPTION:Curriculum Class: 6 week series: Every Tuesday\, Oct 22 – Nov 26
URL:https://pielcaneladancers.com/event/salsa-on-2-level-1-37/2024-11-19/
LOCATION:Room 405\, located on 4th Floor of Pearl Studios:\, 500 8th Ave. between 35/36 Streets\, NYC\, NY\, 10018\, United States
CATEGORIES:Level 1 Beginner
ATTACH;FMTTYPE=image/jpeg:https://pielcaneladancers.com/wp-content/uploads/2024/10/Joe_Tuesdays.jpg
END:VEVENT
BEGIN:VEVENT
DTSTART;TZID=UTC:20241118T193000
DTEND;TZID=UTC:20241118T203000
DTSTAMP:20260421T082844
CREATED:20240927T205232Z
LAST-MODIFIED:20241118T204328Z
UID:10013098-1731958200-1731961800@pielcaneladancers.com
SUMMARY:Salsa "On 2": Level 2
DESCRIPTION:Curriculum Class: 6 week series: Every Monday\, Sept 30 – Nov 18
URL:https://pielcaneladancers.com/event/salsa-on-2-level-2-29/2024-11-18/
LOCATION:Room 402\, located on 4th Floor of Pearl Studios:\, 500 8th Ave. between 35/36 Streets\, NYC\, NY\, 10018\, United States
CATEGORIES:Level 2 Advance Beginner
ATTACH;FMTTYPE=image/jpeg:https://pielcaneladancers.com/wp-content/uploads/2024/09/Joe_Mondays.jpg
END:VEVENT
BEGIN:VEVENT
DTSTART;TZID=UTC:20241118T183000
DTEND;TZID=UTC:20241118T193000
DTSTAMP:20260421T082844
CREATED:20240927T205159Z
LAST-MODIFIED:20241118T204322Z
UID:10013099-1731954600-1731958200@pielcaneladancers.com
SUMMARY:Salsa "On 2": Level 1
DESCRIPTION:Curriculum Class: 6 week series: Every Monday\, Sept 30 – Nov 18
URL:https://pielcaneladancers.com/event/salsa-on-2-level-1-33/2024-11-18/
LOCATION:Room 402\, located on 4th Floor of Pearl Studios:\, 500 8th Ave. between 35/36 Streets\, NYC\, NY\, 10018\, United States
CATEGORIES:Level 1 Beginner
ATTACH;FMTTYPE=image/jpeg:https://pielcaneladancers.com/wp-content/uploads/2024/09/Joe_Mondays.jpg
END:VEVENT
BEGIN:VEVENT
DTSTART;TZID=America/New_York:20241115T183000
DTEND;TZID=America/New_York:20241115T203000
DTSTAMP:20260421T082844
CREATED:20240905T172208Z
LAST-MODIFIED:20241122T170604Z
UID:10011789-1731695400-1731702600@pielcaneladancers.com
SUMMARY:Salsa Student Team
DESCRIPTION:
URL:https://pielcaneladancers.com/event/salsa-student-team/2024-11-15/
END:VEVENT
BEGIN:VEVENT
DTSTART;TZID=America/New_York:20241114T213000
DTEND;TZID=America/New_York:20241114T223000
DTSTAMP:20260421T082844
CREATED:20240905T173009Z
LAST-MODIFIED:20241122T170533Z
UID:10011830-1731619800-1731623400@pielcaneladancers.com
SUMMARY:Salsa Pro Team
DESCRIPTION:
URL:https://pielcaneladancers.com/event/salsa-pro-team/2024-11-14/
END:VEVENT
BEGIN:VEVENT
DTSTART;TZID=America/New_York:20241114T193000
DTEND;TZID=America/New_York:20241114T203000
DTSTAMP:20260421T082844
CREATED:20241001T170747Z
LAST-MODIFIED:20241114T185348Z
UID:10012262-1731612600-1731616200@pielcaneladancers.com
SUMMARY:Cumbia: Project
DESCRIPTION:Curriculum Class: 8 week series: Every Thursday\, Sept 26 – Nov 14
URL:https://pielcaneladancers.com/event/cumbia-level-2-6-2/2024-11-14/
LOCATION:Room 411\, located on 4th Floor of Pearl Studios:\, 500 8th Ave. between 35/36 Streets\, NYC\, NY\, 10018\, United States
CATEGORIES:Level 2 Advance Beginner
END:VEVENT
BEGIN:VEVENT
DTSTART;TZID=America/New_York:20241114T183000
DTEND;TZID=America/New_York:20241114T193000
DTSTAMP:20260421T082844
CREATED:20241016T212913Z
LAST-MODIFIED:20241122T165732Z
UID:10012511-1731609000-1731612600@pielcaneladancers.com
SUMMARY:Cumbia: Level 1
DESCRIPTION:Curriculum Class: 6 week series: Every Thursday\, Oct 24 – Nov 28
URL:https://pielcaneladancers.com/event/cumbia-level-1-7/2024-11-14/
LOCATION:Room 411\, located on 4th Floor of Pearl Studios:\, 500 8th Ave. between 35/36 Streets\, NYC\, NY\, 10018\, United States
CATEGORIES:Level 1 Beginner
ATTACH;FMTTYPE=image/jpeg:https://pielcaneladancers.com/wp-content/uploads/2024/10/Joe_Cumbia.jpg
END:VEVENT
BEGIN:VEVENT
DTSTART;TZID=America/New_York:20241113T213000
DTEND;TZID=America/New_York:20241113T223000
DTSTAMP:20260421T082844
CREATED:20240905T173211Z
LAST-MODIFIED:20241113T183413Z
UID:10011892-1731533400-1731537000@pielcaneladancers.com
SUMMARY:Bachata Pro Team
DESCRIPTION:
URL:https://pielcaneladancers.com/event/bachata-pro-team/2024-11-13/
LOCATION:Room 411\, located on 4th Floor of Pearl Studios:\, 500 8th Ave. between 35/36 Streets\, NYC\, NY\, 10018\, United States
END:VEVENT
BEGIN:VEVENT
DTSTART;TZID=UTC:20241113T203000
DTEND;TZID=UTC:20241113T213000
DTSTAMP:20260421T082844
CREATED:20241014T155029Z
LAST-MODIFIED:20241107T185651Z
UID:10012500-1731529800-1731533400@pielcaneladancers.com
SUMMARY:Bachata: Level 4
DESCRIPTION:Curriculum Class: 6 week series: Every Wednesday\, Oct 16 – Nov 13
URL:https://pielcaneladancers.com/event/bachata-level-4-8/2024-11-13/
LOCATION:Room 405\, located on 4th Floor of Pearl Studios:\, 500 8th Ave. between 35/36 Streets\, NYC\, NY\, 10018\, United States
CATEGORIES:Level 4 Advance Intermediate
ATTACH;FMTTYPE=image/jpeg:https://pielcaneladancers.com/wp-content/uploads/2024/10/Joe_Wednesdays.jpg
END:VEVENT
BEGIN:VEVENT
DTSTART;TZID=UTC:20241113T193000
DTEND;TZID=UTC:20241113T203000
DTSTAMP:20260421T082844
CREATED:20241014T154945Z
LAST-MODIFIED:20241107T185625Z
UID:10012404-1731526200-1731529800@pielcaneladancers.com
SUMMARY:Bachata: Level 2
DESCRIPTION:Curriculum Class: 6 week series: Every Wednesday\, Oct 16 – Nov 13
URL:https://pielcaneladancers.com/event/bachata-level-2-27/2024-11-13/
LOCATION:Room 405\, located on 4th Floor of Pearl Studios:\, 500 8th Ave. between 35/36 Streets\, NYC\, NY\, 10018\, United States
CATEGORIES:Level 2 Advance Beginner
ATTACH;FMTTYPE=image/jpeg:https://pielcaneladancers.com/wp-content/uploads/2024/10/Joe_Wednesdays.jpg
END:VEVENT
BEGIN:VEVENT
DTSTART;TZID=UTC:20241113T183000
DTEND;TZID=UTC:20241113T193000
DTSTAMP:20260421T082844
CREATED:20241014T154838Z
LAST-MODIFIED:20241107T185608Z
UID:10012445-1731522600-1731526200@pielcaneladancers.com
SUMMARY:Bachata Level 1
DESCRIPTION:Curriculum Class: 6 week series: Every Wednesday\, Oct 16 – Nov 13
URL:https://pielcaneladancers.com/event/bachata-level-1-25-2/2024-11-13/
LOCATION:Room 405\, located on 4th Floor of Pearl Studios:\, 500 8th Ave. between 35/36 Streets\, NYC\, NY\, 10018\, United States
CATEGORIES:Level 1 Beginner
ATTACH;FMTTYPE=image/jpeg:https://pielcaneladancers.com/wp-content/uploads/2024/10/Joe_Wednesdays.jpg
END:VEVENT
BEGIN:VEVENT
DTSTART;TZID=America/New_York:20241112T213000
DTEND;TZID=America/New_York:20241112T223000
DTSTAMP:20260421T082844
CREATED:20240905T173009Z
LAST-MODIFIED:20241122T170533Z
UID:10011829-1731447000-1731450600@pielcaneladancers.com
SUMMARY:Salsa Pro Team
DESCRIPTION:
URL:https://pielcaneladancers.com/event/salsa-pro-team/2024-11-12/
END:VEVENT
BEGIN:VEVENT
DTSTART;TZID=UTC:20241112T193000
DTEND;TZID=UTC:20241112T203000
DTSTAMP:20260421T082844
CREATED:20241016T173818Z
LAST-MODIFIED:20241122T173137Z
UID:10012493-1731439800-1731443400@pielcaneladancers.com
SUMMARY:Salsa "On 2": Level 2
DESCRIPTION:Curriculum Class: 6 week series: Every Tuesday\, Oct 22 – Nov 26
URL:https://pielcaneladancers.com/event/salsa-on-2-level-2-31/2024-11-12/
LOCATION:Room 405\, located on 4th Floor of Pearl Studios:\, 500 8th Ave. between 35/36 Streets\, NYC\, NY\, 10018\, United States
CATEGORIES:Level 2 Advance Beginner
ATTACH;FMTTYPE=image/jpeg:https://pielcaneladancers.com/wp-content/uploads/2024/10/Joe_Tuesdays.jpg
END:VEVENT
BEGIN:VEVENT
DTSTART;TZID=UTC:20241112T183000
DTEND;TZID=UTC:20241112T193000
DTSTAMP:20260421T082844
CREATED:20241022T171122Z
LAST-MODIFIED:20241122T173130Z
UID:10012575-1731436200-1731439800@pielcaneladancers.com
SUMMARY:Salsa "On 2": Level 1
DESCRIPTION:Curriculum Class: 6 week series: Every Tuesday\, Oct 22 – Nov 26
URL:https://pielcaneladancers.com/event/salsa-on-2-level-1-37/2024-11-12/
LOCATION:Room 405\, located on 4th Floor of Pearl Studios:\, 500 8th Ave. between 35/36 Streets\, NYC\, NY\, 10018\, United States
CATEGORIES:Level 1 Beginner
ATTACH;FMTTYPE=image/jpeg:https://pielcaneladancers.com/wp-content/uploads/2024/10/Joe_Tuesdays.jpg
END:VEVENT
BEGIN:VEVENT
DTSTART;TZID=America/New_York:20241111T213000
DTEND;TZID=America/New_York:20241111T223000
DTSTAMP:20260421T082844
CREATED:20240905T173211Z
LAST-MODIFIED:20241113T183413Z
UID:10011891-1731360600-1731364200@pielcaneladancers.com
SUMMARY:Bachata Pro Team
DESCRIPTION:
URL:https://pielcaneladancers.com/event/bachata-pro-team/2024-11-11/
LOCATION:Room 411\, located on 4th Floor of Pearl Studios:\, 500 8th Ave. between 35/36 Streets\, NYC\, NY\, 10018\, United States
END:VEVENT
BEGIN:VEVENT
DTSTART;TZID=UTC:20241111T193000
DTEND;TZID=UTC:20241111T203000
DTSTAMP:20260421T082844
CREATED:20240927T205232Z
LAST-MODIFIED:20241118T204328Z
UID:10013095-1731353400-1731357000@pielcaneladancers.com
SUMMARY:Salsa "On 2": Level 2
DESCRIPTION:Curriculum Class: 6 week series: Every Monday\, Sept 30 – Nov 18
URL:https://pielcaneladancers.com/event/salsa-on-2-level-2-29/2024-11-11/
LOCATION:Room 402\, located on 4th Floor of Pearl Studios:\, 500 8th Ave. between 35/36 Streets\, NYC\, NY\, 10018\, United States
CATEGORIES:Level 2 Advance Beginner
ATTACH;FMTTYPE=image/jpeg:https://pielcaneladancers.com/wp-content/uploads/2024/09/Joe_Mondays.jpg
END:VEVENT
BEGIN:VEVENT
DTSTART;TZID=UTC:20241111T183000
DTEND;TZID=UTC:20241111T193000
DTSTAMP:20260421T082844
CREATED:20240927T205159Z
LAST-MODIFIED:20241118T204322Z
UID:10013094-1731349800-1731353400@pielcaneladancers.com
SUMMARY:Salsa "On 2": Level 1
DESCRIPTION:Curriculum Class: 6 week series: Every Monday\, Sept 30 – Nov 18
URL:https://pielcaneladancers.com/event/salsa-on-2-level-1-33/2024-11-11/
LOCATION:Room 402\, located on 4th Floor of Pearl Studios:\, 500 8th Ave. between 35/36 Streets\, NYC\, NY\, 10018\, United States
CATEGORIES:Level 1 Beginner
ATTACH;FMTTYPE=image/jpeg:https://pielcaneladancers.com/wp-content/uploads/2024/09/Joe_Mondays.jpg
END:VEVENT
BEGIN:VEVENT
DTSTART;TZID=America/New_York:20241108T183000
DTEND;TZID=America/New_York:20241108T203000
DTSTAMP:20260421T082844
CREATED:20240905T172208Z
LAST-MODIFIED:20241122T170604Z
UID:10011788-1731090600-1731097800@pielcaneladancers.com
SUMMARY:Salsa Student Team
DESCRIPTION:
URL:https://pielcaneladancers.com/event/salsa-student-team/2024-11-08/
END:VEVENT
BEGIN:VEVENT
DTSTART;TZID=America/New_York:20241107T213000
DTEND;TZID=America/New_York:20241107T223000
DTSTAMP:20260421T082844
CREATED:20240905T173009Z
LAST-MODIFIED:20241122T170533Z
UID:10011828-1731015000-1731018600@pielcaneladancers.com
SUMMARY:Salsa Pro Team
DESCRIPTION:
URL:https://pielcaneladancers.com/event/salsa-pro-team/2024-11-07/
END:VEVENT
BEGIN:VEVENT
DTSTART;TZID=America/New_York:20241107T193000
DTEND;TZID=America/New_York:20241107T203000
DTSTAMP:20260421T082844
CREATED:20241001T170747Z
LAST-MODIFIED:20241114T185348Z
UID:10012261-1731007800-1731011400@pielcaneladancers.com
SUMMARY:Cumbia: Project
DESCRIPTION:Curriculum Class: 8 week series: Every Thursday\, Sept 26 – Nov 14
URL:https://pielcaneladancers.com/event/cumbia-level-2-6-2/2024-11-07/
LOCATION:Room 411\, located on 4th Floor of Pearl Studios:\, 500 8th Ave. between 35/36 Streets\, NYC\, NY\, 10018\, United States
CATEGORIES:Level 2 Advance Beginner
END:VEVENT
BEGIN:VEVENT
DTSTART;TZID=America/New_York:20241107T183000
DTEND;TZID=America/New_York:20241107T193000
DTSTAMP:20260421T082844
CREATED:20241016T212913Z
LAST-MODIFIED:20241122T165732Z
UID:10012510-1731004200-1731007800@pielcaneladancers.com
SUMMARY:Cumbia: Level 1
DESCRIPTION:Curriculum Class: 6 week series: Every Thursday\, Oct 24 – Nov 28
URL:https://pielcaneladancers.com/event/cumbia-level-1-7/2024-11-07/
LOCATION:Room 411\, located on 4th Floor of Pearl Studios:\, 500 8th Ave. between 35/36 Streets\, NYC\, NY\, 10018\, United States
CATEGORIES:Level 1 Beginner
ATTACH;FMTTYPE=image/jpeg:https://pielcaneladancers.com/wp-content/uploads/2024/10/Joe_Cumbia.jpg
END:VEVENT
BEGIN:VEVENT
DTSTART;TZID=America/New_York:20241106T213000
DTEND;TZID=America/New_York:20241106T223000
DTSTAMP:20260421T082844
CREATED:20240905T173211Z
LAST-MODIFIED:20241113T183413Z
UID:10011890-1730928600-1730932200@pielcaneladancers.com
SUMMARY:Bachata Pro Team
DESCRIPTION:
URL:https://pielcaneladancers.com/event/bachata-pro-team/2024-11-06/
LOCATION:Room 411\, located on 4th Floor of Pearl Studios:\, 500 8th Ave. between 35/36 Streets\, NYC\, NY\, 10018\, United States
END:VEVENT
END:VCALENDAR