BEGIN:VCALENDAR
VERSION:2.0
PRODID:-//PielCanela - ECPv6.15.20//NONSGML v1.0//EN
CALSCALE:GREGORIAN
METHOD:PUBLISH
X-ORIGINAL-URL:https://pielcaneladancers.com
X-WR-CALDESC:Events for PielCanela
REFRESH-INTERVAL;VALUE=DURATION:PT1H
X-Robots-Tag:noindex
X-PUBLISHED-TTL:PT1H
BEGIN:VTIMEZONE
TZID:UTC
BEGIN:STANDARD
TZOFFSETFROM:+0000
TZOFFSETTO:+0000
TZNAME:UTC
DTSTART:20230101T000000
END:STANDARD
END:VTIMEZONE
BEGIN:VTIMEZONE
TZID:America/New_York
BEGIN:DAYLIGHT
TZOFFSETFROM:-0500
TZOFFSETTO:-0400
TZNAME:EDT
DTSTART:20230312T070000
END:DAYLIGHT
BEGIN:STANDARD
TZOFFSETFROM:-0400
TZOFFSETTO:-0500
TZNAME:EST
DTSTART:20231105T060000
END:STANDARD
BEGIN:DAYLIGHT
TZOFFSETFROM:-0500
TZOFFSETTO:-0400
TZNAME:EDT
DTSTART:20240310T070000
END:DAYLIGHT
BEGIN:STANDARD
TZOFFSETFROM:-0400
TZOFFSETTO:-0500
TZNAME:EST
DTSTART:20241103T060000
END:STANDARD
BEGIN:DAYLIGHT
TZOFFSETFROM:-0500
TZOFFSETTO:-0400
TZNAME:EDT
DTSTART:20250309T070000
END:DAYLIGHT
BEGIN:STANDARD
TZOFFSETFROM:-0400
TZOFFSETTO:-0500
TZNAME:EST
DTSTART:20251102T060000
END:STANDARD
END:VTIMEZONE
BEGIN:VEVENT
DTSTART;TZID=UTC:20241002T183000
DTEND;TZID=UTC:20241002T193000
DTSTAMP:20260421T151720
CREATED:20240822T183959Z
LAST-MODIFIED:20241001T171600Z
UID:10011410-1727893800-1727897400@pielcaneladancers.com
SUMMARY:Bachata: Level 3
DESCRIPTION:Curriculum Class: 6 week series: Every Tuesday\, Aug 28 – Oct 2
URL:https://pielcaneladancers.com/event/bachata-level-3-9/2024-10-02/
LOCATION:Room 407\, located on 4th Floor of Pearl Studios:\, 500 8th Ave. between 35/36 Streets\, NYC\, NY\, 10018\, United States
CATEGORIES:Level 3 Intermediate
ATTACH;FMTTYPE=image/jpeg:https://pielcaneladancers.com/wp-content/uploads/2024/08/Joe_Wednesdays.jpg
END:VEVENT
BEGIN:VEVENT
DTSTART;TZID=America/New_York:20241001T213000
DTEND;TZID=America/New_York:20241001T223000
DTSTAMP:20260421T151720
CREATED:20240905T173009Z
LAST-MODIFIED:20241122T170533Z
UID:10011817-1727818200-1727821800@pielcaneladancers.com
SUMMARY:Salsa Pro Team
DESCRIPTION:
URL:https://pielcaneladancers.com/event/salsa-pro-team/2024-10-01/
END:VEVENT
BEGIN:VEVENT
DTSTART;TZID=UTC:20241001T193000
DTEND;TZID=UTC:20241001T203000
DTSTAMP:20260421T151720
CREATED:20240924T221624Z
LAST-MODIFIED:20241015T180521Z
UID:10011922-1727811000-1727814600@pielcaneladancers.com
SUMMARY:Salsa "On 2": Level 2
DESCRIPTION:Curriculum Class: 6 week series: Every Tuesday\, Sept 10 – Oct 15
URL:https://pielcaneladancers.com/event/salsa-on-2-level-2-27-2/2024-10-01/
LOCATION:Room 411\, located on 4th Floor of Pearl Studios:\, 500 8th Ave. between 35/36 Streets\, NYC\, NY\, 10018\, United States
CATEGORIES:Level 2 Advance Beginner
ATTACH;FMTTYPE=image/jpeg:https://pielcaneladancers.com/wp-content/uploads/2024/09/Joe_Tuesdays.jpg
END:VEVENT
BEGIN:VEVENT
DTSTART;TZID=UTC:20241001T183000
DTEND;TZID=UTC:20241001T193000
DTSTAMP:20260421T151720
CREATED:20241016T173739Z
LAST-MODIFIED:20241016T173739Z
UID:10012487-1727807400-1727811000@pielcaneladancers.com
SUMMARY:Salsa "On 2": Level 1
DESCRIPTION:Curriculum Class: 6 week series: Every Tuesday\, Oct 22 – Nov 26
URL:https://pielcaneladancers.com/event/salsa-on-2-level-1-35/2024-10-01/
CATEGORIES:Level 1 Beginner
END:VEVENT
BEGIN:VEVENT
DTSTART;TZID=UTC:20241001T183000
DTEND;TZID=UTC:20241001T193000
DTSTAMP:20260421T151720
CREATED:20240924T221638Z
LAST-MODIFIED:20241015T180513Z
UID:10011916-1727807400-1727811000@pielcaneladancers.com
SUMMARY:Salsa "On 2": Level 1
DESCRIPTION:Curriculum Class: 6 week series: Every Tuesday\, Sept 10 – Oct 15
URL:https://pielcaneladancers.com/event/salsa-on-2-level-1-31-2/2024-10-01/
LOCATION:Room 411\, located on 4th Floor of Pearl Studios:\, 500 8th Ave. between 35/36 Streets\, NYC\, NY\, 10018\, United States
CATEGORIES:Level 1 Beginner
ATTACH;FMTTYPE=image/jpeg:https://pielcaneladancers.com/wp-content/uploads/2024/09/Joe_Tuesdays.jpg
END:VEVENT
BEGIN:VEVENT
DTSTART;TZID=America/New_York:20240930T213000
DTEND;TZID=America/New_York:20240930T223000
DTSTAMP:20260421T151720
CREATED:20240905T173211Z
LAST-MODIFIED:20241113T183413Z
UID:10011879-1727731800-1727735400@pielcaneladancers.com
SUMMARY:Bachata Pro Team
DESCRIPTION:
URL:https://pielcaneladancers.com/event/bachata-pro-team/2024-09-30/
LOCATION:Room 411\, located on 4th Floor of Pearl Studios:\, 500 8th Ave. between 35/36 Streets\, NYC\, NY\, 10018\, United States
END:VEVENT
BEGIN:VEVENT
DTSTART;TZID=UTC:20240930T193000
DTEND;TZID=UTC:20240930T203000
DTSTAMP:20260421T151720
CREATED:20240927T205232Z
LAST-MODIFIED:20241118T204328Z
UID:10012082-1727724600-1727728200@pielcaneladancers.com
SUMMARY:Salsa "On 2": Level 2
DESCRIPTION:Curriculum Class: 6 week series: Every Monday\, Sept 30 – Nov 18
URL:https://pielcaneladancers.com/event/salsa-on-2-level-2-29/2024-09-30/
LOCATION:Room 402\, located on 4th Floor of Pearl Studios:\, 500 8th Ave. between 35/36 Streets\, NYC\, NY\, 10018\, United States
CATEGORIES:Level 2 Advance Beginner
ATTACH;FMTTYPE=image/jpeg:https://pielcaneladancers.com/wp-content/uploads/2024/09/Joe_Mondays.jpg
END:VEVENT
BEGIN:VEVENT
DTSTART;TZID=UTC:20240930T183000
DTEND;TZID=UTC:20240930T193000
DTSTAMP:20260421T151720
CREATED:20240927T205159Z
LAST-MODIFIED:20241118T204322Z
UID:10012076-1727721000-1727724600@pielcaneladancers.com
SUMMARY:Salsa "On 2": Level 1
DESCRIPTION:Curriculum Class: 6 week series: Every Monday\, Sept 30 – Nov 18
URL:https://pielcaneladancers.com/event/salsa-on-2-level-1-33/2024-09-30/
LOCATION:Room 402\, located on 4th Floor of Pearl Studios:\, 500 8th Ave. between 35/36 Streets\, NYC\, NY\, 10018\, United States
CATEGORIES:Level 1 Beginner
ATTACH;FMTTYPE=image/jpeg:https://pielcaneladancers.com/wp-content/uploads/2024/09/Joe_Mondays.jpg
END:VEVENT
BEGIN:VEVENT
DTSTART;TZID=America/New_York:20240927T183000
DTEND;TZID=America/New_York:20240927T203000
DTSTAMP:20260421T151720
CREATED:20240905T172208Z
LAST-MODIFIED:20241122T170604Z
UID:10011782-1727461800-1727469000@pielcaneladancers.com
SUMMARY:Salsa Student Team
DESCRIPTION:
URL:https://pielcaneladancers.com/event/salsa-student-team/2024-09-27/
END:VEVENT
BEGIN:VEVENT
DTSTART;TZID=America/New_York:20240926T213000
DTEND;TZID=America/New_York:20240926T223000
DTSTAMP:20260421T151720
CREATED:20240905T173009Z
LAST-MODIFIED:20241122T170533Z
UID:10011816-1727386200-1727389800@pielcaneladancers.com
SUMMARY:Salsa Pro Team
DESCRIPTION:
URL:https://pielcaneladancers.com/event/salsa-pro-team/2024-09-26/
END:VEVENT
BEGIN:VEVENT
DTSTART;TZID=America/New_York:20240926T193000
DTEND;TZID=America/New_York:20240926T203000
DTSTAMP:20260421T151720
CREATED:20241001T170747Z
LAST-MODIFIED:20241114T185348Z
UID:10012257-1727379000-1727382600@pielcaneladancers.com
SUMMARY:Cumbia: Project
DESCRIPTION:Curriculum Class: 8 week series: Every Thursday\, Sept 26 – Nov 14
URL:https://pielcaneladancers.com/event/cumbia-level-2-6-2/2024-09-26/
LOCATION:Room 411\, located on 4th Floor of Pearl Studios:\, 500 8th Ave. between 35/36 Streets\, NYC\, NY\, 10018\, United States
CATEGORIES:Level 2 Advance Beginner
END:VEVENT
BEGIN:VEVENT
DTSTART;TZID=America/New_York:20240926T193000
DTEND;TZID=America/New_York:20240926T203000
DTSTAMP:20260421T151720
CREATED:20240822T200613Z
LAST-MODIFIED:20240923T164432Z
UID:10011479-1727379000-1727382600@pielcaneladancers.com
SUMMARY:Cumbia: Level 2
DESCRIPTION:Curriculum Class: 6 week series: Every Thursday\, Sept 5 – Oct 10
URL:https://pielcaneladancers.com/event/cumbia-level-2-6/2024-09-26/
LOCATION:Room 411\, located on 4th Floor of Pearl Studios:\, 500 8th Ave. between 35/36 Streets\, NYC\, NY\, 10018\, United States
CATEGORIES:Level 2 Advance Beginner
ATTACH;FMTTYPE=image/jpeg:https://pielcaneladancers.com/wp-content/uploads/2024/08/Joe_Cumbia.jpg
END:VEVENT
BEGIN:VEVENT
DTSTART;TZID=America/New_York:20240926T183000
DTEND;TZID=America/New_York:20240926T193000
DTSTAMP:20260421T151720
CREATED:20240822T200538Z
LAST-MODIFIED:20241010T150105Z
UID:10011473-1727375400-1727379000@pielcaneladancers.com
SUMMARY:Cumbia: Level 1
DESCRIPTION:Curriculum Class: 6 week series: Every Thursday\, Sept 5 – Oct 10
URL:https://pielcaneladancers.com/event/cumbia-level-1-6/2024-09-26/
LOCATION:Room 405\, located on 4th Floor of Pearl Studios:\, 500 8th Ave. between 35/36 Streets\, NYC\, NY\, 10018\, United States
CATEGORIES:Level 1 Beginner
ATTACH;FMTTYPE=image/jpeg:https://pielcaneladancers.com/wp-content/uploads/2024/08/Joe_Cumbia.jpg
END:VEVENT
BEGIN:VEVENT
DTSTART;TZID=America/New_York:20240925T213000
DTEND;TZID=America/New_York:20240925T223000
DTSTAMP:20260421T151720
CREATED:20240905T173211Z
LAST-MODIFIED:20241113T183413Z
UID:10011878-1727299800-1727303400@pielcaneladancers.com
SUMMARY:Bachata Pro Team
DESCRIPTION:
URL:https://pielcaneladancers.com/event/bachata-pro-team/2024-09-25/
LOCATION:Room 411\, located on 4th Floor of Pearl Studios:\, 500 8th Ave. between 35/36 Streets\, NYC\, NY\, 10018\, United States
END:VEVENT
BEGIN:VEVENT
DTSTART;TZID=UTC:20240925T203000
DTEND;TZID=UTC:20240925T213000
DTSTAMP:20260421T151720
CREATED:20240822T184118Z
LAST-MODIFIED:20240911T212145Z
UID:10011708-1727296200-1727299800@pielcaneladancers.com
SUMMARY:Bachata: Level 5
DESCRIPTION:Curriculum Class: 6 week series: Every Tuesday\, Aug 28 – Oct 2
URL:https://pielcaneladancers.com/event/bachata-level-5-6/2024-09-25/
CATEGORIES:Level 5 Advanced
ATTACH;FMTTYPE=image/jpeg:https://pielcaneladancers.com/wp-content/uploads/2024/08/Joe_Wednesdays.jpg
END:VEVENT
BEGIN:VEVENT
DTSTART;TZID=UTC:20240925T193000
DTEND;TZID=UTC:20240925T203000
DTSTAMP:20260421T151720
CREATED:20240822T184048Z
LAST-MODIFIED:20241001T171607Z
UID:10011415-1727292600-1727296200@pielcaneladancers.com
SUMMARY:Bachata: Level 4
DESCRIPTION:Curriculum Class: 6 week series: Every Tuesday\, Aug 28 – Oct 2
URL:https://pielcaneladancers.com/event/bachata-level-4-7/2024-09-25/
LOCATION:Room 407\, located on 4th Floor of Pearl Studios:\, 500 8th Ave. between 35/36 Streets\, NYC\, NY\, 10018\, United States
CATEGORIES:Level 4 Advance Intermediate
ATTACH;FMTTYPE=image/jpeg:https://pielcaneladancers.com/wp-content/uploads/2024/08/Joe_Wednesdays.jpg
END:VEVENT
BEGIN:VEVENT
DTSTART;TZID=UTC:20240925T183000
DTEND;TZID=UTC:20240925T193000
DTSTAMP:20260421T151720
CREATED:20240822T183959Z
LAST-MODIFIED:20241001T171600Z
UID:10011409-1727289000-1727292600@pielcaneladancers.com
SUMMARY:Bachata: Level 3
DESCRIPTION:Curriculum Class: 6 week series: Every Tuesday\, Aug 28 – Oct 2
URL:https://pielcaneladancers.com/event/bachata-level-3-9/2024-09-25/
LOCATION:Room 407\, located on 4th Floor of Pearl Studios:\, 500 8th Ave. between 35/36 Streets\, NYC\, NY\, 10018\, United States
CATEGORIES:Level 3 Intermediate
ATTACH;FMTTYPE=image/jpeg:https://pielcaneladancers.com/wp-content/uploads/2024/08/Joe_Wednesdays.jpg
END:VEVENT
BEGIN:VEVENT
DTSTART;TZID=America/New_York:20240924T213000
DTEND;TZID=America/New_York:20240924T223000
DTSTAMP:20260421T151720
CREATED:20240905T173009Z
LAST-MODIFIED:20241122T170533Z
UID:10011815-1727213400-1727217000@pielcaneladancers.com
SUMMARY:Salsa Pro Team
DESCRIPTION:
URL:https://pielcaneladancers.com/event/salsa-pro-team/2024-09-24/
END:VEVENT
BEGIN:VEVENT
DTSTART;TZID=UTC:20240924T193000
DTEND;TZID=UTC:20240924T203000
DTSTAMP:20260421T151720
CREATED:20240905T182213Z
LAST-MODIFIED:20241001T162131Z
UID:10011921-1727206200-1727209800@pielcaneladancers.com
SUMMARY:Salsa "On 2": Level 2
DESCRIPTION:Curriculum Class: 6 week series: Every Tuesday\, Sept 10 – Oct 15
URL:https://pielcaneladancers.com/event/salsa-on-2-level-2-27/2024-09-24/
LOCATION:Room 405\, located on 4th Floor of Pearl Studios:\, 500 8th Ave. between 35/36 Streets\, NYC\, NY\, 10018\, United States
CATEGORIES:Level 2 Advance Beginner
ATTACH;FMTTYPE=image/jpeg:https://pielcaneladancers.com/wp-content/uploads/2024/09/Joe_Tuesdays.jpg
END:VEVENT
BEGIN:VEVENT
DTSTART;TZID=UTC:20240924T183000
DTEND;TZID=UTC:20240924T193000
DTSTAMP:20260421T151720
CREATED:20241016T173739Z
LAST-MODIFIED:20241016T173739Z
UID:10012483-1727202600-1727206200@pielcaneladancers.com
SUMMARY:Salsa "On 2": Level 1
DESCRIPTION:Curriculum Class: 6 week series: Every Tuesday\, Oct 22 – Nov 26
URL:https://pielcaneladancers.com/event/salsa-on-2-level-1-35/2024-09-24/
CATEGORIES:Level 1 Beginner
END:VEVENT
BEGIN:VEVENT
DTSTART;TZID=UTC:20240924T183000
DTEND;TZID=UTC:20240924T193000
DTSTAMP:20260421T151720
CREATED:20240905T182123Z
LAST-MODIFIED:20241001T162135Z
UID:10011915-1727202600-1727206200@pielcaneladancers.com
SUMMARY:Salsa "On 2": Level 1
DESCRIPTION:Curriculum Class: 6 week series: Every Tuesday\, Sept 10 – Oct 15
URL:https://pielcaneladancers.com/event/salsa-on-2-level-1-31/2024-09-24/
LOCATION:Room 405\, located on 4th Floor of Pearl Studios:\, 500 8th Ave. between 35/36 Streets\, NYC\, NY\, 10018\, United States
CATEGORIES:Level 1 Beginner
ATTACH;FMTTYPE=image/jpeg:https://pielcaneladancers.com/wp-content/uploads/2024/09/Joe_Tuesdays.jpg
END:VEVENT
BEGIN:VEVENT
DTSTART;TZID=America/New_York:20240923T213000
DTEND;TZID=America/New_York:20240923T223000
DTSTAMP:20260421T151720
CREATED:20240905T173211Z
LAST-MODIFIED:20241113T183413Z
UID:10011877-1727127000-1727130600@pielcaneladancers.com
SUMMARY:Bachata Pro Team
DESCRIPTION:
URL:https://pielcaneladancers.com/event/bachata-pro-team/2024-09-23/
LOCATION:Room 411\, located on 4th Floor of Pearl Studios:\, 500 8th Ave. between 35/36 Streets\, NYC\, NY\, 10018\, United States
END:VEVENT
BEGIN:VEVENT
DTSTART;TZID=America/New_York:20240920T183000
DTEND;TZID=America/New_York:20240920T203000
DTSTAMP:20260421T151720
CREATED:20240905T172208Z
LAST-MODIFIED:20241122T170604Z
UID:10011781-1726857000-1726864200@pielcaneladancers.com
SUMMARY:Salsa Student Team
DESCRIPTION:
URL:https://pielcaneladancers.com/event/salsa-student-team/2024-09-20/
END:VEVENT
BEGIN:VEVENT
DTSTART;TZID=America/New_York:20240919T213000
DTEND;TZID=America/New_York:20240919T223000
DTSTAMP:20260421T151720
CREATED:20240905T173009Z
LAST-MODIFIED:20241122T170533Z
UID:10011814-1726781400-1726785000@pielcaneladancers.com
SUMMARY:Salsa Pro Team
DESCRIPTION:
URL:https://pielcaneladancers.com/event/salsa-pro-team/2024-09-19/
END:VEVENT
BEGIN:VEVENT
DTSTART;TZID=America/New_York:20240919T193000
DTEND;TZID=America/New_York:20240919T203000
DTSTAMP:20260421T151720
CREATED:20240822T200613Z
LAST-MODIFIED:20240923T164432Z
UID:10011478-1726774200-1726777800@pielcaneladancers.com
SUMMARY:Cumbia: Level 2
DESCRIPTION:Curriculum Class: 6 week series: Every Thursday\, Sept 5 – Oct 10
URL:https://pielcaneladancers.com/event/cumbia-level-2-6/2024-09-19/
LOCATION:Room 411\, located on 4th Floor of Pearl Studios:\, 500 8th Ave. between 35/36 Streets\, NYC\, NY\, 10018\, United States
CATEGORIES:Level 2 Advance Beginner
ATTACH;FMTTYPE=image/jpeg:https://pielcaneladancers.com/wp-content/uploads/2024/08/Joe_Cumbia.jpg
END:VEVENT
BEGIN:VEVENT
DTSTART;TZID=America/New_York:20240919T183000
DTEND;TZID=America/New_York:20240919T193000
DTSTAMP:20260421T151720
CREATED:20240822T200538Z
LAST-MODIFIED:20241010T150105Z
UID:10011472-1726770600-1726774200@pielcaneladancers.com
SUMMARY:Cumbia: Level 1
DESCRIPTION:Curriculum Class: 6 week series: Every Thursday\, Sept 5 – Oct 10
URL:https://pielcaneladancers.com/event/cumbia-level-1-6/2024-09-19/
LOCATION:Room 405\, located on 4th Floor of Pearl Studios:\, 500 8th Ave. between 35/36 Streets\, NYC\, NY\, 10018\, United States
CATEGORIES:Level 1 Beginner
ATTACH;FMTTYPE=image/jpeg:https://pielcaneladancers.com/wp-content/uploads/2024/08/Joe_Cumbia.jpg
END:VEVENT
BEGIN:VEVENT
DTSTART;TZID=America/New_York:20240918T213000
DTEND;TZID=America/New_York:20240918T223000
DTSTAMP:20260421T151720
CREATED:20240905T173211Z
LAST-MODIFIED:20241113T183413Z
UID:10011876-1726695000-1726698600@pielcaneladancers.com
SUMMARY:Bachata Pro Team
DESCRIPTION:
URL:https://pielcaneladancers.com/event/bachata-pro-team/2024-09-18/
LOCATION:Room 411\, located on 4th Floor of Pearl Studios:\, 500 8th Ave. between 35/36 Streets\, NYC\, NY\, 10018\, United States
END:VEVENT
BEGIN:VEVENT
DTSTART;TZID=UTC:20240918T203000
DTEND;TZID=UTC:20240918T213000
DTSTAMP:20260421T151720
CREATED:20240822T184118Z
LAST-MODIFIED:20240911T212145Z
UID:10011707-1726691400-1726695000@pielcaneladancers.com
SUMMARY:Bachata: Level 5
DESCRIPTION:Curriculum Class: 6 week series: Every Tuesday\, Aug 28 – Oct 2
URL:https://pielcaneladancers.com/event/bachata-level-5-6/2024-09-18/
CATEGORIES:Level 5 Advanced
ATTACH;FMTTYPE=image/jpeg:https://pielcaneladancers.com/wp-content/uploads/2024/08/Joe_Wednesdays.jpg
END:VEVENT
BEGIN:VEVENT
DTSTART;TZID=UTC:20240918T193000
DTEND;TZID=UTC:20240918T203000
DTSTAMP:20260421T151720
CREATED:20240822T184048Z
LAST-MODIFIED:20241001T171607Z
UID:10011414-1726687800-1726691400@pielcaneladancers.com
SUMMARY:Bachata: Level 4
DESCRIPTION:Curriculum Class: 6 week series: Every Tuesday\, Aug 28 – Oct 2
URL:https://pielcaneladancers.com/event/bachata-level-4-7/2024-09-18/
LOCATION:Room 407\, located on 4th Floor of Pearl Studios:\, 500 8th Ave. between 35/36 Streets\, NYC\, NY\, 10018\, United States
CATEGORIES:Level 4 Advance Intermediate
ATTACH;FMTTYPE=image/jpeg:https://pielcaneladancers.com/wp-content/uploads/2024/08/Joe_Wednesdays.jpg
END:VEVENT
BEGIN:VEVENT
DTSTART;TZID=UTC:20240918T183000
DTEND;TZID=UTC:20240918T193000
DTSTAMP:20260421T151720
CREATED:20240822T183959Z
LAST-MODIFIED:20241001T171600Z
UID:10011408-1726684200-1726687800@pielcaneladancers.com
SUMMARY:Bachata: Level 3
DESCRIPTION:Curriculum Class: 6 week series: Every Tuesday\, Aug 28 – Oct 2
URL:https://pielcaneladancers.com/event/bachata-level-3-9/2024-09-18/
LOCATION:Room 407\, located on 4th Floor of Pearl Studios:\, 500 8th Ave. between 35/36 Streets\, NYC\, NY\, 10018\, United States
CATEGORIES:Level 3 Intermediate
ATTACH;FMTTYPE=image/jpeg:https://pielcaneladancers.com/wp-content/uploads/2024/08/Joe_Wednesdays.jpg
END:VEVENT
END:VCALENDAR