BEGIN:VCALENDAR
VERSION:2.0
PRODID:-//PielCanela - ECPv6.15.20//NONSGML v1.0//EN
CALSCALE:GREGORIAN
METHOD:PUBLISH
X-WR-CALNAME:PielCanela
X-ORIGINAL-URL:https://pielcaneladancers.com
X-WR-CALDESC:Events for PielCanela
REFRESH-INTERVAL;VALUE=DURATION:PT1H
X-Robots-Tag:noindex
X-PUBLISHED-TTL:PT1H
BEGIN:VTIMEZONE
TZID:UTC
BEGIN:STANDARD
TZOFFSETFROM:+0000
TZOFFSETTO:+0000
TZNAME:UTC
DTSTART:20220101T000000
END:STANDARD
END:VTIMEZONE
BEGIN:VTIMEZONE
TZID:America/New_York
BEGIN:DAYLIGHT
TZOFFSETFROM:-0500
TZOFFSETTO:-0400
TZNAME:EDT
DTSTART:20230312T070000
END:DAYLIGHT
BEGIN:STANDARD
TZOFFSETFROM:-0400
TZOFFSETTO:-0500
TZNAME:EST
DTSTART:20231105T060000
END:STANDARD
BEGIN:DAYLIGHT
TZOFFSETFROM:-0500
TZOFFSETTO:-0400
TZNAME:EDT
DTSTART:20240310T070000
END:DAYLIGHT
BEGIN:STANDARD
TZOFFSETFROM:-0400
TZOFFSETTO:-0500
TZNAME:EST
DTSTART:20241103T060000
END:STANDARD
BEGIN:DAYLIGHT
TZOFFSETFROM:-0500
TZOFFSETTO:-0400
TZNAME:EDT
DTSTART:20250309T070000
END:DAYLIGHT
BEGIN:STANDARD
TZOFFSETFROM:-0400
TZOFFSETTO:-0500
TZNAME:EST
DTSTART:20251102T060000
END:STANDARD
END:VTIMEZONE
BEGIN:VEVENT
DTSTART;TZID=UTC:20240113T213000
DTEND;TZID=UTC:20240113T213000
DTSTAMP:20260421T164822
CREATED:20240108T182559Z
LAST-MODIFIED:20240108T182717Z
UID:10004668-1705181400-1705181400@pielcaneladancers.com
SUMMARY:Practica
DESCRIPTION:Every Friday 8:30-10:30pm\, a chance to practice your new moves
URL:https://pielcaneladancers.com/event/practica-2/2024-01-13/
LOCATION:Room 314\, located on 3rd Floor of Pearl Studios:\, 500 8th Ave. between 35/36 Streets\, NYC\, NY\, 10018\, United States
ATTACH;FMTTYPE=image/jpeg:https://pielcaneladancers.com/wp-content/uploads/2024/01/Practica_Jan12.jpg
END:VEVENT
BEGIN:VEVENT
DTSTART;TZID=UTC:20240112T203000
DTEND;TZID=UTC:20240112T223000
DTSTAMP:20260421T164822
CREATED:20240108T182559Z
LAST-MODIFIED:20240108T182717Z
UID:10004667-1705091400-1705098600@pielcaneladancers.com
SUMMARY:Practica
DESCRIPTION:Every Friday 8:30-10:30pm\, a chance to practice your new moves
URL:https://pielcaneladancers.com/event/practica-2/2024-01-12/
LOCATION:Room 314\, located on 3rd Floor of Pearl Studios:\, 500 8th Ave. between 35/36 Streets\, NYC\, NY\, 10018\, United States
ATTACH;FMTTYPE=image/jpeg:https://pielcaneladancers.com/wp-content/uploads/2024/01/Practica_Jan12.jpg
END:VEVENT
BEGIN:VEVENT
DTSTART;TZID=America/New_York:20240111T193000
DTEND;TZID=America/New_York:20240111T203000
DTSTAMP:20260421T164822
CREATED:20240103T112247Z
LAST-MODIFIED:20240206T215519Z
UID:10004458-1705001400-1705005000@pielcaneladancers.com
SUMMARY:Cumbia: Level 2
DESCRIPTION:Curriculum Class: 6 week series: Every Thursday\, Jan 11 – Feb 15
URL:https://pielcaneladancers.com/event/cumbia-level-2-2/2024-01-11/
LOCATION:Room 412\, located on 4th Floor of Pearl Studios:\, 500 8th Ave. between 35/36 Streets\, NYC\, NY\, 10018\, United States
CATEGORIES:Level 2 Advance Beginner
ATTACH;FMTTYPE=image/jpeg:https://pielcaneladancers.com/wp-content/uploads/2024/01/Joe_Thursdays.jpg
END:VEVENT
BEGIN:VEVENT
DTSTART;TZID=America/New_York:20240111T183000
DTEND;TZID=America/New_York:20240111T193000
DTSTAMP:20260421T164822
CREATED:20240103T112139Z
LAST-MODIFIED:20240212T212611Z
UID:10004446-1704997800-1705001400@pielcaneladancers.com
SUMMARY:Cumbia: Level 1
DESCRIPTION:Curriculum Class: 6 week series: Every Thursday\, Jan 11 – Feb 15
URL:https://pielcaneladancers.com/event/cumbia-level-1-2/2024-01-11/
LOCATION:Room 410\, located on 4th Floor of Pearl Studios:\, 500 8th Ave. between 35/36 Streets\, NYC\, NY\, 10018\, United States
CATEGORIES:Level 1 Beginner
ATTACH;FMTTYPE=image/jpeg:https://pielcaneladancers.com/wp-content/uploads/2024/01/Joe_Thursdays.jpg
END:VEVENT
BEGIN:VEVENT
DTSTART;TZID=UTC:20240110T193000
DTEND;TZID=UTC:20240110T203000
DTSTAMP:20260421T164822
CREATED:20231207T031133Z
LAST-MODIFIED:20240110T135050Z
UID:10003693-1704915000-1704918600@pielcaneladancers.com
SUMMARY:Bachata: Level 3
DESCRIPTION:Curriculum Class: 6 week series: Every Wednesday\, Dec 13 – Jan 10
URL:https://pielcaneladancers.com/event/bachata-level-3-intermediate-2-2/2024-01-10/
LOCATION:Room 406\, located on 4th Floor of Pearl Studios:\, 500 8th Ave. between 35/36 Streets\, NYC\, NY\, 10018\, United States
CATEGORIES:Level 3 Intermediate
ATTACH;FMTTYPE=image/jpeg:https://pielcaneladancers.com/wp-content/uploads/2023/12/Joe_Bachata-1.jpg
END:VEVENT
BEGIN:VEVENT
DTSTART;TZID=UTC:20240105T203000
DTEND;TZID=UTC:20240105T223000
DTSTAMP:20260421T164822
CREATED:20240102T235153Z
LAST-MODIFIED:20240108T181744Z
UID:10004021-1704486600-1704493800@pielcaneladancers.com
SUMMARY:Practica
DESCRIPTION:Every Friday 8:30-10:30pm\, a chance to practice your new moves
URL:https://pielcaneladancers.com/event/practica/2024-01-05/2/
LOCATION:Room 312\, located on 3rd Floor of Pearl Studios:\, 500 8th Ave. between 35/36 Streets\, NYC\, NY\, 10018\, United States
ATTACH;FMTTYPE=image/jpeg:https://pielcaneladancers.com/wp-content/uploads/2024/01/Practica_Jan5.jpg
END:VEVENT
BEGIN:VEVENT
DTSTART;TZID=UTC:20240105T080000
DTEND;TZID=UTC:20240105T170000
DTSTAMP:20260421T164822
CREATED:20240102T235153Z
LAST-MODIFIED:20240108T181744Z
UID:10004659-1704441600-1704474000@pielcaneladancers.com
SUMMARY:Practica
DESCRIPTION:Every Friday 8:30-10:30pm\, a chance to practice your new moves
URL:https://pielcaneladancers.com/event/practica/2024-01-05/1/
LOCATION:Room 312\, located on 3rd Floor of Pearl Studios:\, 500 8th Ave. between 35/36 Streets\, NYC\, NY\, 10018\, United States
ATTACH;FMTTYPE=image/jpeg:https://pielcaneladancers.com/wp-content/uploads/2024/01/Practica_Jan5.jpg
END:VEVENT
BEGIN:VEVENT
DTSTART;TZID=UTC:20240103T193000
DTEND;TZID=UTC:20240103T203000
DTSTAMP:20260421T164822
CREATED:20231207T031133Z
LAST-MODIFIED:20240110T135050Z
UID:10003692-1704310200-1704313800@pielcaneladancers.com
SUMMARY:Bachata: Level 3
DESCRIPTION:Curriculum Class: 6 week series: Every Wednesday\, Dec 13 – Jan 10
URL:https://pielcaneladancers.com/event/bachata-level-3-intermediate-2-2/2024-01-03/
LOCATION:Room 406\, located on 4th Floor of Pearl Studios:\, 500 8th Ave. between 35/36 Streets\, NYC\, NY\, 10018\, United States
CATEGORIES:Level 3 Intermediate
ATTACH;FMTTYPE=image/jpeg:https://pielcaneladancers.com/wp-content/uploads/2023/12/Joe_Bachata-1.jpg
END:VEVENT
BEGIN:VEVENT
DTSTART;TZID=UTC:20231227T193000
DTEND;TZID=UTC:20231227T203000
DTSTAMP:20260421T164822
CREATED:20231207T031133Z
LAST-MODIFIED:20240110T135050Z
UID:10003691-1703705400-1703709000@pielcaneladancers.com
SUMMARY:Bachata: Level 3
DESCRIPTION:Curriculum Class: 6 week series: Every Wednesday\, Dec 13 – Jan 10
URL:https://pielcaneladancers.com/event/bachata-level-3-intermediate-2-2/2023-12-27/
LOCATION:Room 406\, located on 4th Floor of Pearl Studios:\, 500 8th Ave. between 35/36 Streets\, NYC\, NY\, 10018\, United States
CATEGORIES:Level 3 Intermediate
ATTACH;FMTTYPE=image/jpeg:https://pielcaneladancers.com/wp-content/uploads/2023/12/Joe_Bachata-1.jpg
END:VEVENT
BEGIN:VEVENT
DTSTART;TZID=UTC:20231220T193000
DTEND;TZID=UTC:20231220T203000
DTSTAMP:20260421T164822
CREATED:20231207T031133Z
LAST-MODIFIED:20240110T135050Z
UID:10003690-1703100600-1703104200@pielcaneladancers.com
SUMMARY:Bachata: Level 3
DESCRIPTION:Curriculum Class: 6 week series: Every Wednesday\, Dec 13 – Jan 10
URL:https://pielcaneladancers.com/event/bachata-level-3-intermediate-2-2/2023-12-20/
LOCATION:Room 406\, located on 4th Floor of Pearl Studios:\, 500 8th Ave. between 35/36 Streets\, NYC\, NY\, 10018\, United States
CATEGORIES:Level 3 Intermediate
ATTACH;FMTTYPE=image/jpeg:https://pielcaneladancers.com/wp-content/uploads/2023/12/Joe_Bachata-1.jpg
END:VEVENT
BEGIN:VEVENT
DTSTART;TZID=UTC:20231213T193000
DTEND;TZID=UTC:20231213T203000
DTSTAMP:20260421T164822
CREATED:20231207T031133Z
LAST-MODIFIED:20240110T135050Z
UID:10000186-1702495800-1702499400@pielcaneladancers.com
SUMMARY:Bachata: Level 3
DESCRIPTION:Curriculum Class: 6 week series: Every Wednesday\, Dec 13 – Jan 10
URL:https://pielcaneladancers.com/event/bachata-level-3-intermediate-2-2/2023-12-13/
LOCATION:Room 406\, located on 4th Floor of Pearl Studios:\, 500 8th Ave. between 35/36 Streets\, NYC\, NY\, 10018\, United States
CATEGORIES:Level 3 Intermediate
ATTACH;FMTTYPE=image/jpeg:https://pielcaneladancers.com/wp-content/uploads/2023/12/Joe_Bachata-1.jpg
END:VEVENT
END:VCALENDAR