BEGIN:VCALENDAR
VERSION:2.0
PRODID:-//PielCanela - ECPv6.15.20//NONSGML v1.0//EN
CALSCALE:GREGORIAN
METHOD:PUBLISH
X-ORIGINAL-URL:https://pielcaneladancers.com
X-WR-CALDESC:Events for PielCanela
REFRESH-INTERVAL;VALUE=DURATION:PT1H
X-Robots-Tag:noindex
X-PUBLISHED-TTL:PT1H
BEGIN:VTIMEZONE
TZID:UTC
BEGIN:STANDARD
TZOFFSETFROM:+0000
TZOFFSETTO:+0000
TZNAME:UTC
DTSTART:20220101T000000
END:STANDARD
END:VTIMEZONE
BEGIN:VEVENT
DTSTART;TZID=UTC:20240119T193000
DTEND;TZID=UTC:20240119T203000
DTSTAMP:20260424T080328
CREATED:20240102T234821Z
LAST-MODIFIED:20240202T160931Z
UID:10004018-1705692600-1705696200@pielcaneladancers.com
SUMMARY:Bachata: Level 1
DESCRIPTION:Curriculum Class: 6 week series: Every Friday\, Dec 29 – Feb 2
URL:https://pielcaneladancers.com/event/bachata-level-1/2024-01-19/
LOCATION:Room 311\, located on 3rd Floor of Pearl Studios:\, 500 8th Ave. between 35/36 Streets\, NYC\, NY\, 10018\, United States
CATEGORIES:Level 2 Advance Beginner
ATTACH;FMTTYPE=image/jpeg:https://pielcaneladancers.com/wp-content/uploads/2024/01/Raj_Fridays.jpg
END:VEVENT
BEGIN:VEVENT
DTSTART;TZID=UTC:20240119T183000
DTEND;TZID=UTC:20240119T193000
DTSTAMP:20260424T080328
CREATED:20240102T234454Z
LAST-MODIFIED:20240202T160837Z
UID:10003988-1705689000-1705692600@pielcaneladancers.com
SUMMARY:Salsa "On 2": Level 1
DESCRIPTION:Curriculum Class: 6 week series: Every Friday\, Dec 29 – Feb 2
URL:https://pielcaneladancers.com/event/salsa-on-2-level-1-4/2024-01-19/
LOCATION:Room 311\, located on 3rd Floor of Pearl Studios:\, 500 8th Ave. between 35/36 Streets\, NYC\, NY\, 10018\, United States
CATEGORIES:Level 1 Beginner
ATTACH;FMTTYPE=image/jpeg:https://pielcaneladancers.com/wp-content/uploads/2024/01/Raj_Fridays.jpg
END:VEVENT
BEGIN:VEVENT
DTSTART;TZID=UTC:20240112T193000
DTEND;TZID=UTC:20240112T203000
DTSTAMP:20260424T080328
CREATED:20240102T234821Z
LAST-MODIFIED:20240202T160931Z
UID:10004017-1705087800-1705091400@pielcaneladancers.com
SUMMARY:Bachata: Level 1
DESCRIPTION:Curriculum Class: 6 week series: Every Friday\, Dec 29 – Feb 2
URL:https://pielcaneladancers.com/event/bachata-level-1/2024-01-12/
LOCATION:Room 311\, located on 3rd Floor of Pearl Studios:\, 500 8th Ave. between 35/36 Streets\, NYC\, NY\, 10018\, United States
CATEGORIES:Level 2 Advance Beginner
ATTACH;FMTTYPE=image/jpeg:https://pielcaneladancers.com/wp-content/uploads/2024/01/Raj_Fridays.jpg
END:VEVENT
BEGIN:VEVENT
DTSTART;TZID=UTC:20240112T183000
DTEND;TZID=UTC:20240112T193000
DTSTAMP:20260424T080328
CREATED:20240102T234454Z
LAST-MODIFIED:20240202T160837Z
UID:10003987-1705084200-1705087800@pielcaneladancers.com
SUMMARY:Salsa "On 2": Level 1
DESCRIPTION:Curriculum Class: 6 week series: Every Friday\, Dec 29 – Feb 2
URL:https://pielcaneladancers.com/event/salsa-on-2-level-1-4/2024-01-12/
LOCATION:Room 311\, located on 3rd Floor of Pearl Studios:\, 500 8th Ave. between 35/36 Streets\, NYC\, NY\, 10018\, United States
CATEGORIES:Level 1 Beginner
ATTACH;FMTTYPE=image/jpeg:https://pielcaneladancers.com/wp-content/uploads/2024/01/Raj_Fridays.jpg
END:VEVENT
BEGIN:VEVENT
DTSTART;TZID=UTC:20240105T193000
DTEND;TZID=UTC:20240105T203000
DTSTAMP:20260424T080328
CREATED:20240102T234821Z
LAST-MODIFIED:20240202T160931Z
UID:10004016-1704483000-1704486600@pielcaneladancers.com
SUMMARY:Bachata: Level 1
DESCRIPTION:Curriculum Class: 6 week series: Every Friday\, Dec 29 – Feb 2
URL:https://pielcaneladancers.com/event/bachata-level-1/2024-01-05/
LOCATION:Room 311\, located on 3rd Floor of Pearl Studios:\, 500 8th Ave. between 35/36 Streets\, NYC\, NY\, 10018\, United States
CATEGORIES:Level 2 Advance Beginner
ATTACH;FMTTYPE=image/jpeg:https://pielcaneladancers.com/wp-content/uploads/2024/01/Raj_Fridays.jpg
END:VEVENT
BEGIN:VEVENT
DTSTART;TZID=UTC:20240105T183000
DTEND;TZID=UTC:20240105T193000
DTSTAMP:20260424T080328
CREATED:20240102T234454Z
LAST-MODIFIED:20240202T160837Z
UID:10003986-1704479400-1704483000@pielcaneladancers.com
SUMMARY:Salsa "On 2": Level 1
DESCRIPTION:Curriculum Class: 6 week series: Every Friday\, Dec 29 – Feb 2
URL:https://pielcaneladancers.com/event/salsa-on-2-level-1-4/2024-01-05/
LOCATION:Room 311\, located on 3rd Floor of Pearl Studios:\, 500 8th Ave. between 35/36 Streets\, NYC\, NY\, 10018\, United States
CATEGORIES:Level 1 Beginner
ATTACH;FMTTYPE=image/jpeg:https://pielcaneladancers.com/wp-content/uploads/2024/01/Raj_Fridays.jpg
END:VEVENT
BEGIN:VEVENT
DTSTART;TZID=UTC:20231229T193000
DTEND;TZID=UTC:20231229T203000
DTSTAMP:20260424T080328
CREATED:20240102T234821Z
LAST-MODIFIED:20240202T160931Z
UID:10004015-1703878200-1703881800@pielcaneladancers.com
SUMMARY:Bachata: Level 1
DESCRIPTION:Curriculum Class: 6 week series: Every Friday\, Dec 29 – Feb 2
URL:https://pielcaneladancers.com/event/bachata-level-1/2023-12-29/
LOCATION:Room 311\, located on 3rd Floor of Pearl Studios:\, 500 8th Ave. between 35/36 Streets\, NYC\, NY\, 10018\, United States
CATEGORIES:Level 2 Advance Beginner
ATTACH;FMTTYPE=image/jpeg:https://pielcaneladancers.com/wp-content/uploads/2024/01/Raj_Fridays.jpg
END:VEVENT
BEGIN:VEVENT
DTSTART;TZID=UTC:20231229T183000
DTEND;TZID=UTC:20231229T193000
DTSTAMP:20260424T080328
CREATED:20240102T234454Z
LAST-MODIFIED:20240202T160837Z
UID:10003985-1703874600-1703878200@pielcaneladancers.com
SUMMARY:Salsa "On 2": Level 1
DESCRIPTION:Curriculum Class: 6 week series: Every Friday\, Dec 29 – Feb 2
URL:https://pielcaneladancers.com/event/salsa-on-2-level-1-4/2023-12-29/
LOCATION:Room 311\, located on 3rd Floor of Pearl Studios:\, 500 8th Ave. between 35/36 Streets\, NYC\, NY\, 10018\, United States
CATEGORIES:Level 1 Beginner
ATTACH;FMTTYPE=image/jpeg:https://pielcaneladancers.com/wp-content/uploads/2024/01/Raj_Fridays.jpg
END:VEVENT
BEGIN:VEVENT
DTSTART;TZID=UTC:20231215T193000
DTEND;TZID=UTC:20231215T203000
DTSTAMP:20260424T080328
CREATED:20231112T020006Z
LAST-MODIFIED:20231207T030544Z
UID:10000233-1702668600-1702672200@pielcaneladancers.com
SUMMARY:Bachata: Level 1
DESCRIPTION:Bachata is a genre of music that originated in the Dominican Republic. It contains elements of European (mainly Spanish music)\, indigenous Taino and African musical elements\, representing the cultural diversity of the Dominican population.\n\n\n\n\n\nBachata is a social couple dance with a lead and follow that can be performed in open\, semi-closed or closed position. The basic step involves an eight-count side-to-side movement\, with many variations and styles that can be added. On counts 4 and 8\, bachata includes an exaggerated hip check that gives it a characteristic look and differentiates it from bolero or son dancing.
URL:https://pielcaneladancers.com/event/bachata-level-1-2/2023-12-15/
ATTACH;FMTTYPE=image/webp:https://pielcaneladancers.com/wp-content/uploads/2023/11/Raj_Fridays_2a4925d1-be38-4c57-a111-bf2a3dd72256_480x.webp
END:VEVENT
BEGIN:VEVENT
DTSTART;TZID=UTC:20231215T183000
DTEND;TZID=UTC:20231215T193000
DTSTAMP:20260424T080328
CREATED:20231118T201700Z
LAST-MODIFIED:20231118T201700Z
UID:10002011-1702665000-1702668600@pielcaneladancers.com
SUMMARY:Salsa "On 2": Level 1
DESCRIPTION:New York salsa is known as “On 2” dancing because dancers accent steps on beats two and six of a two-measure phrase with a 4:4 time signature. The lead dancer steps back on beat two\, while the follower steps forward. This sets New York salsa apart from other styles\, where the lead dancer typically steps forward
URL:https://pielcaneladancers.com/event/salsa-on-2-level-1/2023-12-15/
ATTACH;FMTTYPE=image/webp:https://pielcaneladancers.com/wp-content/uploads/2023/11/Raj_Fridays_2685fb9a-7c5f-4b42-9c2d-7d40defb5fcd_480x.webp
END:VEVENT
BEGIN:VEVENT
DTSTART;TZID=UTC:20231208T193000
DTEND;TZID=UTC:20231208T203000
DTSTAMP:20260424T080328
CREATED:20231112T020006Z
LAST-MODIFIED:20231207T030544Z
UID:10000232-1702063800-1702067400@pielcaneladancers.com
SUMMARY:Bachata: Level 1
DESCRIPTION:Bachata is a genre of music that originated in the Dominican Republic. It contains elements of European (mainly Spanish music)\, indigenous Taino and African musical elements\, representing the cultural diversity of the Dominican population.\n\n\n\n\n\nBachata is a social couple dance with a lead and follow that can be performed in open\, semi-closed or closed position. The basic step involves an eight-count side-to-side movement\, with many variations and styles that can be added. On counts 4 and 8\, bachata includes an exaggerated hip check that gives it a characteristic look and differentiates it from bolero or son dancing.
URL:https://pielcaneladancers.com/event/bachata-level-1-2/2023-12-08/
ATTACH;FMTTYPE=image/webp:https://pielcaneladancers.com/wp-content/uploads/2023/11/Raj_Fridays_2a4925d1-be38-4c57-a111-bf2a3dd72256_480x.webp
END:VEVENT
BEGIN:VEVENT
DTSTART;TZID=UTC:20231208T183000
DTEND;TZID=UTC:20231208T193000
DTSTAMP:20260424T080328
CREATED:20231118T201700Z
LAST-MODIFIED:20231118T201700Z
UID:10002010-1702060200-1702063800@pielcaneladancers.com
SUMMARY:Salsa "On 2": Level 1
DESCRIPTION:New York salsa is known as “On 2” dancing because dancers accent steps on beats two and six of a two-measure phrase with a 4:4 time signature. The lead dancer steps back on beat two\, while the follower steps forward. This sets New York salsa apart from other styles\, where the lead dancer typically steps forward
URL:https://pielcaneladancers.com/event/salsa-on-2-level-1/2023-12-08/
ATTACH;FMTTYPE=image/webp:https://pielcaneladancers.com/wp-content/uploads/2023/11/Raj_Fridays_2685fb9a-7c5f-4b42-9c2d-7d40defb5fcd_480x.webp
END:VEVENT
BEGIN:VEVENT
DTSTART;TZID=UTC:20231201T193000
DTEND;TZID=UTC:20231201T203000
DTSTAMP:20260424T080328
CREATED:20231112T020006Z
LAST-MODIFIED:20231207T030544Z
UID:10000231-1701459000-1701462600@pielcaneladancers.com
SUMMARY:Bachata: Level 1
DESCRIPTION:Bachata is a genre of music that originated in the Dominican Republic. It contains elements of European (mainly Spanish music)\, indigenous Taino and African musical elements\, representing the cultural diversity of the Dominican population.\n\n\n\n\n\nBachata is a social couple dance with a lead and follow that can be performed in open\, semi-closed or closed position. The basic step involves an eight-count side-to-side movement\, with many variations and styles that can be added. On counts 4 and 8\, bachata includes an exaggerated hip check that gives it a characteristic look and differentiates it from bolero or son dancing.
URL:https://pielcaneladancers.com/event/bachata-level-1-2/2023-12-01/
ATTACH;FMTTYPE=image/webp:https://pielcaneladancers.com/wp-content/uploads/2023/11/Raj_Fridays_2a4925d1-be38-4c57-a111-bf2a3dd72256_480x.webp
END:VEVENT
BEGIN:VEVENT
DTSTART;TZID=UTC:20231201T183000
DTEND;TZID=UTC:20231201T193000
DTSTAMP:20260424T080328
CREATED:20231118T201700Z
LAST-MODIFIED:20231118T201700Z
UID:10002009-1701455400-1701459000@pielcaneladancers.com
SUMMARY:Salsa "On 2": Level 1
DESCRIPTION:New York salsa is known as “On 2” dancing because dancers accent steps on beats two and six of a two-measure phrase with a 4:4 time signature. The lead dancer steps back on beat two\, while the follower steps forward. This sets New York salsa apart from other styles\, where the lead dancer typically steps forward
URL:https://pielcaneladancers.com/event/salsa-on-2-level-1/2023-12-01/
ATTACH;FMTTYPE=image/webp:https://pielcaneladancers.com/wp-content/uploads/2023/11/Raj_Fridays_2685fb9a-7c5f-4b42-9c2d-7d40defb5fcd_480x.webp
END:VEVENT
BEGIN:VEVENT
DTSTART;TZID=UTC:20231124T193000
DTEND;TZID=UTC:20231124T203000
DTSTAMP:20260424T080328
CREATED:20231112T020006Z
LAST-MODIFIED:20231207T030544Z
UID:10000230-1700854200-1700857800@pielcaneladancers.com
SUMMARY:Bachata: Level 1
DESCRIPTION:Bachata is a genre of music that originated in the Dominican Republic. It contains elements of European (mainly Spanish music)\, indigenous Taino and African musical elements\, representing the cultural diversity of the Dominican population.\n\n\n\n\n\nBachata is a social couple dance with a lead and follow that can be performed in open\, semi-closed or closed position. The basic step involves an eight-count side-to-side movement\, with many variations and styles that can be added. On counts 4 and 8\, bachata includes an exaggerated hip check that gives it a characteristic look and differentiates it from bolero or son dancing.
URL:https://pielcaneladancers.com/event/bachata-level-1-2/2023-11-24/
ATTACH;FMTTYPE=image/webp:https://pielcaneladancers.com/wp-content/uploads/2023/11/Raj_Fridays_2a4925d1-be38-4c57-a111-bf2a3dd72256_480x.webp
END:VEVENT
BEGIN:VEVENT
DTSTART;TZID=UTC:20231124T183000
DTEND;TZID=UTC:20231124T193000
DTSTAMP:20260424T080328
CREATED:20231118T201700Z
LAST-MODIFIED:20231118T201700Z
UID:10002008-1700850600-1700854200@pielcaneladancers.com
SUMMARY:Salsa "On 2": Level 1
DESCRIPTION:New York salsa is known as “On 2” dancing because dancers accent steps on beats two and six of a two-measure phrase with a 4:4 time signature. The lead dancer steps back on beat two\, while the follower steps forward. This sets New York salsa apart from other styles\, where the lead dancer typically steps forward
URL:https://pielcaneladancers.com/event/salsa-on-2-level-1/2023-11-24/
ATTACH;FMTTYPE=image/webp:https://pielcaneladancers.com/wp-content/uploads/2023/11/Raj_Fridays_2685fb9a-7c5f-4b42-9c2d-7d40defb5fcd_480x.webp
END:VEVENT
BEGIN:VEVENT
DTSTART;TZID=UTC:20231117T193000
DTEND;TZID=UTC:20231117T203000
DTSTAMP:20260424T080328
CREATED:20231112T020006Z
LAST-MODIFIED:20231207T030544Z
UID:10000229-1700249400-1700253000@pielcaneladancers.com
SUMMARY:Bachata: Level 1
DESCRIPTION:Bachata is a genre of music that originated in the Dominican Republic. It contains elements of European (mainly Spanish music)\, indigenous Taino and African musical elements\, representing the cultural diversity of the Dominican population.\n\n\n\n\n\nBachata is a social couple dance with a lead and follow that can be performed in open\, semi-closed or closed position. The basic step involves an eight-count side-to-side movement\, with many variations and styles that can be added. On counts 4 and 8\, bachata includes an exaggerated hip check that gives it a characteristic look and differentiates it from bolero or son dancing.
URL:https://pielcaneladancers.com/event/bachata-level-1-2/2023-11-17/
ATTACH;FMTTYPE=image/webp:https://pielcaneladancers.com/wp-content/uploads/2023/11/Raj_Fridays_2a4925d1-be38-4c57-a111-bf2a3dd72256_480x.webp
END:VEVENT
BEGIN:VEVENT
DTSTART;TZID=UTC:20231117T183000
DTEND;TZID=UTC:20231117T193000
DTSTAMP:20260424T080328
CREATED:20231118T201700Z
LAST-MODIFIED:20231118T201700Z
UID:10002007-1700245800-1700249400@pielcaneladancers.com
SUMMARY:Salsa "On 2": Level 1
DESCRIPTION:New York salsa is known as “On 2” dancing because dancers accent steps on beats two and six of a two-measure phrase with a 4:4 time signature. The lead dancer steps back on beat two\, while the follower steps forward. This sets New York salsa apart from other styles\, where the lead dancer typically steps forward
URL:https://pielcaneladancers.com/event/salsa-on-2-level-1/2023-11-17/
ATTACH;FMTTYPE=image/webp:https://pielcaneladancers.com/wp-content/uploads/2023/11/Raj_Fridays_2685fb9a-7c5f-4b42-9c2d-7d40defb5fcd_480x.webp
END:VEVENT
BEGIN:VEVENT
DTSTART;TZID=UTC:20231110T193000
DTEND;TZID=UTC:20231110T203000
DTSTAMP:20260424T080328
CREATED:20231112T020006Z
LAST-MODIFIED:20231207T030544Z
UID:10000223-1699644600-1699648200@pielcaneladancers.com
SUMMARY:Bachata: Level 1
DESCRIPTION:Bachata is a genre of music that originated in the Dominican Republic. It contains elements of European (mainly Spanish music)\, indigenous Taino and African musical elements\, representing the cultural diversity of the Dominican population.\n\n\n\n\n\nBachata is a social couple dance with a lead and follow that can be performed in open\, semi-closed or closed position. The basic step involves an eight-count side-to-side movement\, with many variations and styles that can be added. On counts 4 and 8\, bachata includes an exaggerated hip check that gives it a characteristic look and differentiates it from bolero or son dancing.
URL:https://pielcaneladancers.com/event/bachata-level-1-2/2023-11-10/
ATTACH;FMTTYPE=image/webp:https://pielcaneladancers.com/wp-content/uploads/2023/11/Raj_Fridays_2a4925d1-be38-4c57-a111-bf2a3dd72256_480x.webp
END:VEVENT
BEGIN:VEVENT
DTSTART;TZID=UTC:20231110T183000
DTEND;TZID=UTC:20231110T193000
DTSTAMP:20260424T080328
CREATED:20231118T201700Z
LAST-MODIFIED:20231118T201700Z
UID:10002006-1699641000-1699644600@pielcaneladancers.com
SUMMARY:Salsa "On 2": Level 1
DESCRIPTION:New York salsa is known as “On 2” dancing because dancers accent steps on beats two and six of a two-measure phrase with a 4:4 time signature. The lead dancer steps back on beat two\, while the follower steps forward. This sets New York salsa apart from other styles\, where the lead dancer typically steps forward
URL:https://pielcaneladancers.com/event/salsa-on-2-level-1/2023-11-10/
ATTACH;FMTTYPE=image/webp:https://pielcaneladancers.com/wp-content/uploads/2023/11/Raj_Fridays_2685fb9a-7c5f-4b42-9c2d-7d40defb5fcd_480x.webp
END:VEVENT
END:VCALENDAR