BEGIN:VCALENDAR
VERSION:2.0
PRODID:-//PielCanela - ECPv6.15.20//NONSGML v1.0//EN
CALSCALE:GREGORIAN
METHOD:PUBLISH
X-ORIGINAL-URL:https://pielcaneladancers.com
X-WR-CALDESC:Events for PielCanela
REFRESH-INTERVAL;VALUE=DURATION:PT1H
X-Robots-Tag:noindex
X-PUBLISHED-TTL:PT1H
BEGIN:VTIMEZONE
TZID:UTC
BEGIN:STANDARD
TZOFFSETFROM:+0000
TZOFFSETTO:+0000
TZNAME:UTC
DTSTART:20230101T000000
END:STANDARD
END:VTIMEZONE
BEGIN:VTIMEZONE
TZID:America/New_York
BEGIN:DAYLIGHT
TZOFFSETFROM:-0500
TZOFFSETTO:-0400
TZNAME:EDT
DTSTART:20230312T070000
END:DAYLIGHT
BEGIN:STANDARD
TZOFFSETFROM:-0400
TZOFFSETTO:-0500
TZNAME:EST
DTSTART:20231105T060000
END:STANDARD
BEGIN:DAYLIGHT
TZOFFSETFROM:-0500
TZOFFSETTO:-0400
TZNAME:EDT
DTSTART:20240310T070000
END:DAYLIGHT
BEGIN:STANDARD
TZOFFSETFROM:-0400
TZOFFSETTO:-0500
TZNAME:EST
DTSTART:20241103T060000
END:STANDARD
BEGIN:DAYLIGHT
TZOFFSETFROM:-0500
TZOFFSETTO:-0400
TZNAME:EDT
DTSTART:20250309T070000
END:DAYLIGHT
BEGIN:STANDARD
TZOFFSETFROM:-0400
TZOFFSETTO:-0500
TZNAME:EST
DTSTART:20251102T060000
END:STANDARD
END:VTIMEZONE
BEGIN:VEVENT
DTSTART;TZID=UTC:20241010T183000
DTEND;TZID=UTC:20241010T193000
DTSTAMP:20260421T054052
CREATED:20241001T165453Z
LAST-MODIFIED:20241114T185434Z
UID:10012216-1728585000-1728588600@pielcaneladancers.com
SUMMARY:Swing: Levels 2 and 3
DESCRIPTION:Curriculum Class: 6 week series: Every Thursday\, Oct 3 – Nov 14
URL:https://pielcaneladancers.com/event/swing-levels-2-and-3-8/2024-10-10/
LOCATION:Room 407\, located on 4th Floor of Pearl Studios:\, 500 8th Ave. between 35/36 Streets\, NYC\, NY\, 10018\, United States
CATEGORIES:Level 2 Advance Beginner,Level 3 Intermediate
ATTACH;FMTTYPE=image/jpeg:https://pielcaneladancers.com/wp-content/uploads/2024/10/Ron_Fridays.jpg
END:VEVENT
BEGIN:VEVENT
DTSTART;TZID=UTC:20241008T193000
DTEND;TZID=UTC:20241008T203000
DTSTAMP:20260421T054052
CREATED:20240905T165351Z
LAST-MODIFIED:20241014T145449Z
UID:10011665-1728415800-1728419400@pielcaneladancers.com
SUMMARY:Salsa Ladies Styling: Level 2.5
DESCRIPTION:Curriculum Class: 6 week series: Every Tuesday\, Sept 10 – Oct 8
URL:https://pielcaneladancers.com/event/salsa-ladies-styling-level-2-5-5/2024-10-08/
LOCATION:Room 407\, located on 4th Floor of Pearl Studios:\, 500 8th Ave. between 35/36 Streets\, NYC\, NY\, 10018\, United States
CATEGORIES:Level 2 Advance Beginner
ATTACH;FMTTYPE=image/jpeg:https://pielcaneladancers.com/wp-content/uploads/2024/09/Bianca_Tuesdays.jpg
END:VEVENT
BEGIN:VEVENT
DTSTART;TZID=America/New_York:20241008T183000
DTEND;TZID=America/New_York:20241008T193000
DTSTAMP:20260421T054052
CREATED:20241008T213202Z
LAST-MODIFIED:20241008T213203Z
UID:10011657-1728412200-1728415800@pielcaneladancers.com
SUMMARY:Pachanga: Level 1.5
DESCRIPTION:Curriculum Class: 6 week series: Every Tuesday\, Sept 10 – Oct 8
URL:https://pielcaneladancers.com/event/pachanga-level-1-5-2-2/
LOCATION:Room 407\, located on 4th Floor of Pearl Studios:\, 500 8th Ave. between 35/36 Streets\, NYC\, NY\, 10018\, United States
CATEGORIES:Level 1 Beginner
ATTACH;FMTTYPE=image/jpeg:https://pielcaneladancers.com/wp-content/uploads/2024/09/Bianca_Tuesdays.jpg
END:VEVENT
BEGIN:VEVENT
DTSTART;TZID=UTC:20241007T203000
DTEND;TZID=UTC:20241007T213000
DTSTAMP:20260421T054052
CREATED:20241001T180137Z
LAST-MODIFIED:20241104T201713Z
UID:10012293-1728333000-1728336600@pielcaneladancers.com
SUMMARY:Samba: Level 2
DESCRIPTION:Open Class: 4 week series: Mondays\, Oct 7 – 28
URL:https://pielcaneladancers.com/event/samba-level-2-8/2024-10-07/
LOCATION:Room 407\, located on 4th Floor of Pearl Studios:\, 500 8th Ave. between 35/36 Streets\, NYC\, NY\, 10018\, United States
CATEGORIES:Level 2 Advance Beginner
ATTACH;FMTTYPE=image/jpeg:https://pielcaneladancers.com/wp-content/uploads/2024/10/Eileen_Samba.jpg
END:VEVENT
BEGIN:VEVENT
DTSTART;TZID=UTC:20241007T193000
DTEND;TZID=UTC:20241007T203000
DTSTAMP:20260421T054052
CREATED:20241001T180202Z
LAST-MODIFIED:20241104T201706Z
UID:10012297-1728329400-1728333000@pielcaneladancers.com
SUMMARY:Samba: Level 1
DESCRIPTION:Open Class: 4 week series: Mondays\, Oct 7 – 28
URL:https://pielcaneladancers.com/event/samba-level-1-8/2024-10-07/
LOCATION:Room 407\, located on 4th Floor of Pearl Studios:\, 500 8th Ave. between 35/36 Streets\, NYC\, NY\, 10018\, United States
CATEGORIES:Level 1 Beginner
ATTACH;FMTTYPE=image/jpeg:https://pielcaneladancers.com/wp-content/uploads/2024/10/Eileen_Samba.jpg
END:VEVENT
BEGIN:VEVENT
DTSTART;TZID=UTC:20241004T193000
DTEND;TZID=UTC:20241004T203000
DTSTAMP:20260421T054052
CREATED:20240822T203931Z
LAST-MODIFIED:20241001T171855Z
UID:10011540-1728070200-1728073800@pielcaneladancers.com
SUMMARY:Bachata: Level 1
DESCRIPTION:Curriculum Class: 6 week series: Every Friday\, Sept 6 – Oct 11
URL:https://pielcaneladancers.com/event/bachata-level-1-26/2024-10-04/
LOCATION:Room 407\, located on 4th Floor of Pearl Studios:\, 500 8th Ave. between 35/36 Streets\, NYC\, NY\, 10018\, United States
CATEGORIES:Level 1 Beginner
ATTACH;FMTTYPE=image/jpeg:https://pielcaneladancers.com/wp-content/uploads/2024/08/Raj_Fridays.jpg
END:VEVENT
BEGIN:VEVENT
DTSTART;TZID=UTC:20241004T183000
DTEND;TZID=UTC:20241004T193000
DTSTAMP:20260421T054052
CREATED:20240822T203547Z
LAST-MODIFIED:20240905T160852Z
UID:10011516-1728066600-1728070200@pielcaneladancers.com
SUMMARY:Salsa "On 2": Level 1
DESCRIPTION:Curriculum Class: 6 week series: Every Friday\, Sept 6 – Oct 11
URL:https://pielcaneladancers.com/event/salsa-on-2-level-1-32/2024-10-04/
LOCATION:Room 407\, located on 4th Floor of Pearl Studios:\, 500 8th Ave. between 35/36 Streets\, NYC\, NY\, 10018\, United States
CATEGORIES:Level 1 Beginner
ATTACH;FMTTYPE=image/jpeg:https://pielcaneladancers.com/wp-content/uploads/2024/08/Raj_Fridays.jpg
END:VEVENT
BEGIN:VEVENT
DTSTART;TZID=UTC:20241003T193000
DTEND;TZID=UTC:20241003T203000
DTSTAMP:20260421T054052
CREATED:20241001T165759Z
LAST-MODIFIED:20241114T185506Z
UID:10012251-1727983800-1727987400@pielcaneladancers.com
SUMMARY:Hustle: Level 2 and 3
DESCRIPTION:Curriculum Class: 6 week series: Every Thursday\, Oct 3 – Nov 7
URL:https://pielcaneladancers.com/event/hustle-level-2-and-3-8/2024-10-03/
LOCATION:Room 407\, located on 4th Floor of Pearl Studios:\, 500 8th Ave. between 35/36 Streets\, NYC\, NY\, 10018\, United States
CATEGORIES:Level 2 Advance Beginner,Level 3 Intermediate
ATTACH;FMTTYPE=image/jpeg:https://pielcaneladancers.com/wp-content/uploads/2024/10/Ron_Fridays.jpg
END:VEVENT
BEGIN:VEVENT
DTSTART;TZID=UTC:20241003T183000
DTEND;TZID=UTC:20241003T193000
DTSTAMP:20260421T054052
CREATED:20241001T165453Z
LAST-MODIFIED:20241114T185434Z
UID:10012215-1727980200-1727983800@pielcaneladancers.com
SUMMARY:Swing: Levels 2 and 3
DESCRIPTION:Curriculum Class: 6 week series: Every Thursday\, Oct 3 – Nov 14
URL:https://pielcaneladancers.com/event/swing-levels-2-and-3-8/2024-10-03/
LOCATION:Room 407\, located on 4th Floor of Pearl Studios:\, 500 8th Ave. between 35/36 Streets\, NYC\, NY\, 10018\, United States
CATEGORIES:Level 2 Advance Beginner,Level 3 Intermediate
ATTACH;FMTTYPE=image/jpeg:https://pielcaneladancers.com/wp-content/uploads/2024/10/Ron_Fridays.jpg
END:VEVENT
BEGIN:VEVENT
DTSTART;TZID=UTC:20241002T193000
DTEND;TZID=UTC:20241002T203000
DTSTAMP:20260421T054052
CREATED:20240822T184048Z
LAST-MODIFIED:20241001T171607Z
UID:10011416-1727897400-1727901000@pielcaneladancers.com
SUMMARY:Bachata: Level 4
DESCRIPTION:Curriculum Class: 6 week series: Every Tuesday\, Aug 28 – Oct 2
URL:https://pielcaneladancers.com/event/bachata-level-4-7/2024-10-02/
LOCATION:Room 407\, located on 4th Floor of Pearl Studios:\, 500 8th Ave. between 35/36 Streets\, NYC\, NY\, 10018\, United States
CATEGORIES:Level 4 Advance Intermediate
ATTACH;FMTTYPE=image/jpeg:https://pielcaneladancers.com/wp-content/uploads/2024/08/Joe_Wednesdays.jpg
END:VEVENT
BEGIN:VEVENT
DTSTART;TZID=UTC:20241002T183000
DTEND;TZID=UTC:20241002T193000
DTSTAMP:20260421T054052
CREATED:20240822T183959Z
LAST-MODIFIED:20241001T171600Z
UID:10011410-1727893800-1727897400@pielcaneladancers.com
SUMMARY:Bachata: Level 3
DESCRIPTION:Curriculum Class: 6 week series: Every Tuesday\, Aug 28 – Oct 2
URL:https://pielcaneladancers.com/event/bachata-level-3-9/2024-10-02/
LOCATION:Room 407\, located on 4th Floor of Pearl Studios:\, 500 8th Ave. between 35/36 Streets\, NYC\, NY\, 10018\, United States
CATEGORIES:Level 3 Intermediate
ATTACH;FMTTYPE=image/jpeg:https://pielcaneladancers.com/wp-content/uploads/2024/08/Joe_Wednesdays.jpg
END:VEVENT
BEGIN:VEVENT
DTSTART;TZID=UTC:20241001T193000
DTEND;TZID=UTC:20241001T203000
DTSTAMP:20260421T054052
CREATED:20240905T165351Z
LAST-MODIFIED:20241014T145449Z
UID:10011664-1727811000-1727814600@pielcaneladancers.com
SUMMARY:Salsa Ladies Styling: Level 2.5
DESCRIPTION:Curriculum Class: 6 week series: Every Tuesday\, Sept 10 – Oct 8
URL:https://pielcaneladancers.com/event/salsa-ladies-styling-level-2-5-5/2024-10-01/
LOCATION:Room 407\, located on 4th Floor of Pearl Studios:\, 500 8th Ave. between 35/36 Streets\, NYC\, NY\, 10018\, United States
CATEGORIES:Level 2 Advance Beginner
ATTACH;FMTTYPE=image/jpeg:https://pielcaneladancers.com/wp-content/uploads/2024/09/Bianca_Tuesdays.jpg
END:VEVENT
BEGIN:VEVENT
DTSTART;TZID=America/New_York:20241001T183000
DTEND;TZID=America/New_York:20241001T193000
DTSTAMP:20260421T054052
CREATED:20240905T165211Z
LAST-MODIFIED:20240910T161436Z
UID:10011656-1727807400-1727811000@pielcaneladancers.com
SUMMARY:Pachanga: Level 1.5
DESCRIPTION:Curriculum Class: 6 week series: Every Tuesday\, Sept 10 – Oct 8
URL:https://pielcaneladancers.com/event/pachanga-level-1-5-2/2024-10-01/
LOCATION:Room 407\, located on 4th Floor of Pearl Studios:\, 500 8th Ave. between 35/36 Streets\, NYC\, NY\, 10018\, United States
CATEGORIES:Level 1 Beginner
ATTACH;FMTTYPE=image/jpeg:https://pielcaneladancers.com/wp-content/uploads/2024/09/Bianca_Tuesdays.jpg
END:VEVENT
BEGIN:VEVENT
DTSTART;TZID=America/New_York:20240930T193000
DTEND;TZID=America/New_York:20240930T203000
DTSTAMP:20260421T054052
CREATED:20240905T163229Z
LAST-MODIFIED:20240930T212230Z
UID:10011930-1727724600-1727728200@pielcaneladancers.com
SUMMARY:Lyrical Jazz
DESCRIPTION:Open Class: 4 week series: Mondays\, Sept 9 – 30
URL:https://pielcaneladancers.com/event/lyrical-jazz-9-2/2024-09-30/
LOCATION:Room 407\, located on 4th Floor of Pearl Studios:\, 500 8th Ave. between 35/36 Streets\, NYC\, NY\, 10018\, United States
CATEGORIES:Open Level Class
ATTACH;FMTTYPE=image/jpeg:https://pielcaneladancers.com/wp-content/uploads/2024/09/Heber_Mondays.jpg
END:VEVENT
BEGIN:VEVENT
DTSTART;TZID=UTC:20240930T183000
DTEND;TZID=UTC:20240930T193000
DTSTAMP:20260421T054052
CREATED:20240905T163200Z
LAST-MODIFIED:20240930T212159Z
UID:10011927-1727721000-1727724600@pielcaneladancers.com
SUMMARY:Commercial Latin Dance
DESCRIPTION:Open Class: 4 week series: Mondays\, Sept 9 – 30
URL:https://pielcaneladancers.com/event/commercial-latin-dance-7-2/2024-09-30/
LOCATION:Room 407\, located on 4th Floor of Pearl Studios:\, 500 8th Ave. between 35/36 Streets\, NYC\, NY\, 10018\, United States
CATEGORIES:Open Level Class
ATTACH;FMTTYPE=image/jpeg:https://pielcaneladancers.com/wp-content/uploads/2024/09/Heber_Mondays.jpg
END:VEVENT
BEGIN:VEVENT
DTSTART;TZID=UTC:20240927T193000
DTEND;TZID=UTC:20240927T203000
DTSTAMP:20260421T054052
CREATED:20240822T203931Z
LAST-MODIFIED:20241001T171855Z
UID:10011539-1727465400-1727469000@pielcaneladancers.com
SUMMARY:Bachata: Level 1
DESCRIPTION:Curriculum Class: 6 week series: Every Friday\, Sept 6 – Oct 11
URL:https://pielcaneladancers.com/event/bachata-level-1-26/2024-09-27/
LOCATION:Room 407\, located on 4th Floor of Pearl Studios:\, 500 8th Ave. between 35/36 Streets\, NYC\, NY\, 10018\, United States
CATEGORIES:Level 1 Beginner
ATTACH;FMTTYPE=image/jpeg:https://pielcaneladancers.com/wp-content/uploads/2024/08/Raj_Fridays.jpg
END:VEVENT
BEGIN:VEVENT
DTSTART;TZID=America/New_York:20240927T193000
DTEND;TZID=America/New_York:20240927T203000
DTSTAMP:20260421T054052
CREATED:20240814T201755Z
LAST-MODIFIED:20240923T164952Z
UID:10011221-1727465400-1727469000@pielcaneladancers.com
SUMMARY:Hustle: Level 1
DESCRIPTION:Curriculum Class: 6 week series: Every Friday\, Aug 23 – Sept 27
URL:https://pielcaneladancers.com/event/hustle-level-1-6/2024-09-27/
LOCATION:Room 407\, located on 4th Floor of Pearl Studios:\, 500 8th Ave. between 35/36 Streets\, NYC\, NY\, 10018\, United States
CATEGORIES:Level 1 Beginner
ATTACH;FMTTYPE=image/jpeg:https://pielcaneladancers.com/wp-content/uploads/2024/08/Ron_Fridays.jpg
END:VEVENT
BEGIN:VEVENT
DTSTART;TZID=UTC:20240927T183000
DTEND;TZID=UTC:20240927T193000
DTSTAMP:20260421T054052
CREATED:20240822T203547Z
LAST-MODIFIED:20240905T160852Z
UID:10011515-1727461800-1727465400@pielcaneladancers.com
SUMMARY:Salsa "On 2": Level 1
DESCRIPTION:Curriculum Class: 6 week series: Every Friday\, Sept 6 – Oct 11
URL:https://pielcaneladancers.com/event/salsa-on-2-level-1-32/2024-09-27/
LOCATION:Room 407\, located on 4th Floor of Pearl Studios:\, 500 8th Ave. between 35/36 Streets\, NYC\, NY\, 10018\, United States
CATEGORIES:Level 1 Beginner
ATTACH;FMTTYPE=image/jpeg:https://pielcaneladancers.com/wp-content/uploads/2024/08/Raj_Fridays.jpg
END:VEVENT
BEGIN:VEVENT
DTSTART;TZID=America/New_York:20240927T183000
DTEND;TZID=America/New_York:20240927T193000
DTSTAMP:20260421T054052
CREATED:20240814T201807Z
LAST-MODIFIED:20240923T164935Z
UID:10011560-1727461800-1727465400@pielcaneladancers.com
SUMMARY:Swing: Level 1
DESCRIPTION:Curriculum Class: 6 week series: Every Friday\, Aug 23 – Sept 27
URL:https://pielcaneladancers.com/event/swing-level-1-6/2024-09-27/
LOCATION:Room 407\, located on 4th Floor of Pearl Studios:\, 500 8th Ave. between 35/36 Streets\, NYC\, NY\, 10018\, United States
CATEGORIES:Level 1 Beginner
ATTACH;FMTTYPE=image/jpeg:https://pielcaneladancers.com/wp-content/uploads/2024/08/Ron_Fridays.jpg
END:VEVENT
BEGIN:VEVENT
DTSTART;TZID=UTC:20240926T193000
DTEND;TZID=UTC:20240926T203000
DTSTAMP:20260421T054052
CREATED:20240815T142641Z
LAST-MODIFIED:20240919T223403Z
UID:10011279-1727379000-1727382600@pielcaneladancers.com
SUMMARY:Salsa "On 2": Level 3
DESCRIPTION:Curriculum Class: 6 week series: Every Thursday\, Aug 22 – Sept 26
URL:https://pielcaneladancers.com/event/salsa-on-2-level-3-11/2024-09-26/
LOCATION:Room 407\, located on 4th Floor of Pearl Studios:\, 500 8th Ave. between 35/36 Streets\, NYC\, NY\, 10018\, United States
CATEGORIES:Level 3 Intermediate
ATTACH;FMTTYPE=image/jpeg:https://pielcaneladancers.com/wp-content/uploads/2024/08/Lou_Thursdays.jpg
END:VEVENT
BEGIN:VEVENT
DTSTART;TZID=UTC:20240926T193000
DTEND;TZID=UTC:20240926T203000
DTSTAMP:20260421T054052
CREATED:20240814T202307Z
LAST-MODIFIED:20240923T164357Z
UID:10011249-1727379000-1727382600@pielcaneladancers.com
SUMMARY:Hustle: Level 2 and 3
DESCRIPTION:Curriculum Class: 6 week series: Every Thursday\, Aug 22 – Sept 26
URL:https://pielcaneladancers.com/event/hustle-level-2-and-3-7/2024-09-26/
LOCATION:Room 407\, located on 4th Floor of Pearl Studios:\, 500 8th Ave. between 35/36 Streets\, NYC\, NY\, 10018\, United States
CATEGORIES:Level 2 Advance Beginner,Level 3 Intermediate
ATTACH;FMTTYPE=image/jpeg:https://pielcaneladancers.com/wp-content/uploads/2024/08/Ron_Thursdays.jpg
END:VEVENT
BEGIN:VEVENT
DTSTART;TZID=UTC:20240926T183000
DTEND;TZID=UTC:20240926T193000
DTSTAMP:20260421T054052
CREATED:20240815T142847Z
LAST-MODIFIED:20240919T223341Z
UID:10011315-1727375400-1727379000@pielcaneladancers.com
SUMMARY:Bachata: Level 3
DESCRIPTION:Curriculum Class: 6 week series: Every Thursday\, Aug 22 – Sept 26
URL:https://pielcaneladancers.com/event/bachata-level-3-8/2024-09-26/
LOCATION:Room 407\, located on 4th Floor of Pearl Studios:\, 500 8th Ave. between 35/36 Streets\, NYC\, NY\, 10018\, United States
CATEGORIES:Level 3 Intermediate
ATTACH;FMTTYPE=image/jpeg:https://pielcaneladancers.com/wp-content/uploads/2024/08/Lou_Thursdays.jpg
END:VEVENT
BEGIN:VEVENT
DTSTART;TZID=UTC:20240926T183000
DTEND;TZID=UTC:20240926T193000
DTSTAMP:20260421T054052
CREATED:20240814T202253Z
LAST-MODIFIED:20240923T164331Z
UID:10011243-1727375400-1727379000@pielcaneladancers.com
SUMMARY:Swing: Levels 2 and 3
DESCRIPTION:Curriculum Class: 6 week series: Every Thursday\, Aug 22 – Sept 26
URL:https://pielcaneladancers.com/event/swing-levels-2-and-3-7/2024-09-26/
LOCATION:Room 407\, located on 4th Floor of Pearl Studios:\, 500 8th Ave. between 35/36 Streets\, NYC\, NY\, 10018\, United States
CATEGORIES:Level 2 Advance Beginner,Level 3 Intermediate
ATTACH;FMTTYPE=image/jpeg:https://pielcaneladancers.com/wp-content/uploads/2024/08/Ron_Thursdays.jpg
END:VEVENT
BEGIN:VEVENT
DTSTART;TZID=America/New_York:20240925T203000
DTEND;TZID=America/New_York:20240925T213000
DTSTAMP:20260421T054052
CREATED:20240814T201139Z
LAST-MODIFIED:20240923T164203Z
UID:10011202-1727296200-1727299800@pielcaneladancers.com
SUMMARY:Kizomba: Level 2
DESCRIPTION:Curriculum Class: 6 week series: Every Wednesday\, Aug 28 – Oct 2
URL:https://pielcaneladancers.com/event/kizomba-level-2-6/2024-09-25/
LOCATION:Room 407\, located on 4th Floor of Pearl Studios:\, 500 8th Ave. between 35/36 Streets\, NYC\, NY\, 10018\, United States
CATEGORIES:Level 2 Advance Beginner
ATTACH;FMTTYPE=image/jpeg:https://pielcaneladancers.com/wp-content/uploads/2024/08/Steve_Kizomba-2.jpg
END:VEVENT
BEGIN:VEVENT
DTSTART;TZID=UTC:20240925T193000
DTEND;TZID=UTC:20240925T203000
DTSTAMP:20260421T054052
CREATED:20240822T184048Z
LAST-MODIFIED:20241001T171607Z
UID:10011415-1727292600-1727296200@pielcaneladancers.com
SUMMARY:Bachata: Level 4
DESCRIPTION:Curriculum Class: 6 week series: Every Tuesday\, Aug 28 – Oct 2
URL:https://pielcaneladancers.com/event/bachata-level-4-7/2024-09-25/
LOCATION:Room 407\, located on 4th Floor of Pearl Studios:\, 500 8th Ave. between 35/36 Streets\, NYC\, NY\, 10018\, United States
CATEGORIES:Level 4 Advance Intermediate
ATTACH;FMTTYPE=image/jpeg:https://pielcaneladancers.com/wp-content/uploads/2024/08/Joe_Wednesdays.jpg
END:VEVENT
BEGIN:VEVENT
DTSTART;TZID=America/New_York:20240925T193000
DTEND;TZID=America/New_York:20240925T203000
DTSTAMP:20260421T054052
CREATED:20240814T200937Z
LAST-MODIFIED:20240923T164157Z
UID:10011196-1727292600-1727296200@pielcaneladancers.com
SUMMARY:Kizomba: Level 1
DESCRIPTION:Curriculum Class: 6 week series: Every Wednesday\, Aug 28 – Oct 2
URL:https://pielcaneladancers.com/event/kizomba-level-1-6/2024-09-25/
LOCATION:Room 407\, located on 4th Floor of Pearl Studios:\, 500 8th Ave. between 35/36 Streets\, NYC\, NY\, 10018\, United States
CATEGORIES:Level 1 Beginner
ATTACH;FMTTYPE=image/jpeg:https://pielcaneladancers.com/wp-content/uploads/2024/08/Steve_Kizomba-2.jpg
END:VEVENT
BEGIN:VEVENT
DTSTART;TZID=UTC:20240925T183000
DTEND;TZID=UTC:20240925T193000
DTSTAMP:20260421T054052
CREATED:20240822T183959Z
LAST-MODIFIED:20241001T171600Z
UID:10011409-1727289000-1727292600@pielcaneladancers.com
SUMMARY:Bachata: Level 3
DESCRIPTION:Curriculum Class: 6 week series: Every Tuesday\, Aug 28 – Oct 2
URL:https://pielcaneladancers.com/event/bachata-level-3-9/2024-09-25/
LOCATION:Room 407\, located on 4th Floor of Pearl Studios:\, 500 8th Ave. between 35/36 Streets\, NYC\, NY\, 10018\, United States
CATEGORIES:Level 3 Intermediate
ATTACH;FMTTYPE=image/jpeg:https://pielcaneladancers.com/wp-content/uploads/2024/08/Joe_Wednesdays.jpg
END:VEVENT
BEGIN:VEVENT
DTSTART;TZID=UTC:20240924T193000
DTEND;TZID=UTC:20240924T203000
DTSTAMP:20260421T054052
CREATED:20240905T165351Z
LAST-MODIFIED:20241014T145449Z
UID:10011663-1727206200-1727209800@pielcaneladancers.com
SUMMARY:Salsa Ladies Styling: Level 2.5
DESCRIPTION:Curriculum Class: 6 week series: Every Tuesday\, Sept 10 – Oct 8
URL:https://pielcaneladancers.com/event/salsa-ladies-styling-level-2-5-5/2024-09-24/
LOCATION:Room 407\, located on 4th Floor of Pearl Studios:\, 500 8th Ave. between 35/36 Streets\, NYC\, NY\, 10018\, United States
CATEGORIES:Level 2 Advance Beginner
ATTACH;FMTTYPE=image/jpeg:https://pielcaneladancers.com/wp-content/uploads/2024/09/Bianca_Tuesdays.jpg
END:VEVENT
BEGIN:VEVENT
DTSTART;TZID=America/New_York:20240924T183000
DTEND;TZID=America/New_York:20240924T193000
DTSTAMP:20260421T054052
CREATED:20240905T165211Z
LAST-MODIFIED:20240910T161436Z
UID:10011655-1727202600-1727206200@pielcaneladancers.com
SUMMARY:Pachanga: Level 1.5
DESCRIPTION:Curriculum Class: 6 week series: Every Tuesday\, Sept 10 – Oct 8
URL:https://pielcaneladancers.com/event/pachanga-level-1-5-2/2024-09-24/
LOCATION:Room 407\, located on 4th Floor of Pearl Studios:\, 500 8th Ave. between 35/36 Streets\, NYC\, NY\, 10018\, United States
CATEGORIES:Level 1 Beginner
ATTACH;FMTTYPE=image/jpeg:https://pielcaneladancers.com/wp-content/uploads/2024/09/Bianca_Tuesdays.jpg
END:VEVENT
BEGIN:VEVENT
DTSTART;TZID=America/New_York:20240923T193000
DTEND;TZID=America/New_York:20240923T203000
DTSTAMP:20260421T054052
CREATED:20240905T163229Z
LAST-MODIFIED:20240930T212230Z
UID:10011929-1727119800-1727123400@pielcaneladancers.com
SUMMARY:Lyrical Jazz
DESCRIPTION:Open Class: 4 week series: Mondays\, Sept 9 – 30
URL:https://pielcaneladancers.com/event/lyrical-jazz-9-2/2024-09-23/
LOCATION:Room 407\, located on 4th Floor of Pearl Studios:\, 500 8th Ave. between 35/36 Streets\, NYC\, NY\, 10018\, United States
CATEGORIES:Open Level Class
ATTACH;FMTTYPE=image/jpeg:https://pielcaneladancers.com/wp-content/uploads/2024/09/Heber_Mondays.jpg
END:VEVENT
END:VCALENDAR