BEGIN:VCALENDAR
VERSION:2.0
PRODID:-//PielCanela - ECPv6.15.20//NONSGML v1.0//EN
CALSCALE:GREGORIAN
METHOD:PUBLISH
X-ORIGINAL-URL:https://pielcaneladancers.com
X-WR-CALDESC:Events for PielCanela
REFRESH-INTERVAL;VALUE=DURATION:PT1H
X-Robots-Tag:noindex
X-PUBLISHED-TTL:PT1H
BEGIN:VTIMEZONE
TZID:America/New_York
BEGIN:DAYLIGHT
TZOFFSETFROM:-0500
TZOFFSETTO:-0400
TZNAME:EDT
DTSTART:20230312T070000
END:DAYLIGHT
BEGIN:STANDARD
TZOFFSETFROM:-0400
TZOFFSETTO:-0500
TZNAME:EST
DTSTART:20231105T060000
END:STANDARD
BEGIN:DAYLIGHT
TZOFFSETFROM:-0500
TZOFFSETTO:-0400
TZNAME:EDT
DTSTART:20240310T070000
END:DAYLIGHT
BEGIN:STANDARD
TZOFFSETFROM:-0400
TZOFFSETTO:-0500
TZNAME:EST
DTSTART:20241103T060000
END:STANDARD
BEGIN:DAYLIGHT
TZOFFSETFROM:-0500
TZOFFSETTO:-0400
TZNAME:EDT
DTSTART:20250309T070000
END:DAYLIGHT
BEGIN:STANDARD
TZOFFSETFROM:-0400
TZOFFSETTO:-0500
TZNAME:EST
DTSTART:20251102T060000
END:STANDARD
END:VTIMEZONE
BEGIN:VTIMEZONE
TZID:UTC
BEGIN:STANDARD
TZOFFSETFROM:+0000
TZOFFSETTO:+0000
TZNAME:UTC
DTSTART:20230101T000000
END:STANDARD
END:VTIMEZONE
BEGIN:VEVENT
DTSTART;TZID=America/New_York:20240827T193000
DTEND;TZID=America/New_York:20240827T203000
DTSTAMP:20260421T070720
CREATED:20240709T165754Z
LAST-MODIFIED:20240827T200549Z
UID:10010973-1724787000-1724790600@pielcaneladancers.com
SUMMARY:Merengue: Level 2
DESCRIPTION:Open Class: 4 week series: Tuesdays\, Aug 6 – Aug 27
URL:https://pielcaneladancers.com/event/merengue-level-2-8/2024-08-27/
LOCATION:Room 407\, located on 4th Floor of Pearl Studios:\, 500 8th Ave. between 35/36 Streets\, NYC\, NY\, 10018\, United States
CATEGORIES:Level 2 Advance Beginner
ATTACH;FMTTYPE=image/jpeg:https://pielcaneladancers.com/wp-content/uploads/2024/07/Elizabeth_Merengue-2.jpg
END:VEVENT
BEGIN:VEVENT
DTSTART;TZID=America/New_York:20240827T183000
DTEND;TZID=America/New_York:20240827T193000
DTSTAMP:20260421T070720
CREATED:20240709T165731Z
LAST-MODIFIED:20240827T200543Z
UID:10010975-1724783400-1724787000@pielcaneladancers.com
SUMMARY:Merengue: Level 1
DESCRIPTION:Open Class: 4 week series: Tuesdays\, Aug 6 – Aug 27
URL:https://pielcaneladancers.com/event/merengue-level-1-7/2024-08-27/
LOCATION:Room 407\, located on 4th Floor of Pearl Studios:\, 500 8th Ave. between 35/36 Streets\, NYC\, NY\, 10018\, United States
CATEGORIES:Level 1 Beginner
ATTACH;FMTTYPE=image/jpeg:https://pielcaneladancers.com/wp-content/uploads/2024/07/Elizabeth_Merengue-2.jpg
END:VEVENT
BEGIN:VEVENT
DTSTART;TZID=UTC:20240826T203000
DTEND;TZID=UTC:20240826T213000
DTSTAMP:20260421T070720
CREATED:20240805T145749Z
LAST-MODIFIED:20240826T182858Z
UID:10011012-1724704200-1724707800@pielcaneladancers.com
SUMMARY:Samba: Level 2
DESCRIPTION:Curriculum Class: 4 week series: Mondays\, Aug 5 – 26
URL:https://pielcaneladancers.com/event/samba-level-2-6/2024-08-26/
LOCATION:Room 407\, located on 4th Floor of Pearl Studios:\, 500 8th Ave. between 35/36 Streets\, NYC\, NY\, 10018\, United States
CATEGORIES:Level 2 Advance Beginner
ATTACH;FMTTYPE=image/jpeg:https://pielcaneladancers.com/wp-content/uploads/2024/08/Eileen_Samba.jpg
END:VEVENT
BEGIN:VEVENT
DTSTART;TZID=UTC:20240826T193000
DTEND;TZID=UTC:20240826T203000
DTSTAMP:20260421T070720
CREATED:20240812T144952Z
LAST-MODIFIED:20240923T155309Z
UID:10011110-1724700600-1724704200@pielcaneladancers.com
SUMMARY:Salsa "On 2": Level 4
DESCRIPTION:Curriculum Class: 6 week series: Every Monday\, Aug 12 – Sept 16
URL:https://pielcaneladancers.com/event/salsa-on-2-level-4-6/2024-08-26/
LOCATION:Room 407\, located on 4th Floor of Pearl Studios:\, 500 8th Ave. between 35/36 Streets\, NYC\, NY\, 10018\, United States
CATEGORIES:Level 4 Advance Intermediate
ATTACH;FMTTYPE=image/jpeg:https://pielcaneladancers.com/wp-content/uploads/2024/08/Joe_Mondays.jpg
END:VEVENT
BEGIN:VEVENT
DTSTART;TZID=UTC:20240826T193000
DTEND;TZID=UTC:20240826T203000
DTSTAMP:20260421T070720
CREATED:20240805T145329Z
LAST-MODIFIED:20240826T182851Z
UID:10011007-1724700600-1724704200@pielcaneladancers.com
SUMMARY:Samba: Level 1
DESCRIPTION:Curriculum Class: 4 week series: Mondays\, Aug 5 – 26
URL:https://pielcaneladancers.com/event/samba-level-1-6/2024-08-26/
LOCATION:Room 407\, located on 4th Floor of Pearl Studios:\, 500 8th Ave. between 35/36 Streets\, NYC\, NY\, 10018\, United States
CATEGORIES:Level 1 Beginner
ATTACH;FMTTYPE=image/jpeg:https://pielcaneladancers.com/wp-content/uploads/2024/08/Eileen_Samba.jpg
END:VEVENT
BEGIN:VEVENT
DTSTART;TZID=UTC:20240826T183000
DTEND;TZID=UTC:20240826T193000
DTSTAMP:20260421T070720
CREATED:20240812T144802Z
LAST-MODIFIED:20240923T155300Z
UID:10011086-1724697000-1724700600@pielcaneladancers.com
SUMMARY:Salsa "On 2": Level 3
DESCRIPTION:Curriculum Class: 6 week series: Every Monday\, Aug 12 – Sept 16
URL:https://pielcaneladancers.com/event/salsa-on-2-level-3-10/2024-08-26/
LOCATION:Room 407\, located on 4th Floor of Pearl Studios:\, 500 8th Ave. between 35/36 Streets\, NYC\, NY\, 10018\, United States
CATEGORIES:Level 3 Intermediate
ATTACH;FMTTYPE=image/jpeg:https://pielcaneladancers.com/wp-content/uploads/2024/08/Joe_Mondays.jpg
END:VEVENT
BEGIN:VEVENT
DTSTART;TZID=America/New_York:20240823T193000
DTEND;TZID=America/New_York:20240823T203000
DTSTAMP:20260421T070720
CREATED:20240814T201755Z
LAST-MODIFIED:20240923T164952Z
UID:10011216-1724441400-1724445000@pielcaneladancers.com
SUMMARY:Hustle: Level 1
DESCRIPTION:Curriculum Class: 6 week series: Every Friday\, Aug 23 – Sept 27
URL:https://pielcaneladancers.com/event/hustle-level-1-6/2024-08-23/
LOCATION:Room 407\, located on 4th Floor of Pearl Studios:\, 500 8th Ave. between 35/36 Streets\, NYC\, NY\, 10018\, United States
CATEGORIES:Level 1 Beginner
ATTACH;FMTTYPE=image/jpeg:https://pielcaneladancers.com/wp-content/uploads/2024/08/Ron_Fridays.jpg
END:VEVENT
BEGIN:VEVENT
DTSTART;TZID=America/New_York:20240823T183000
DTEND;TZID=America/New_York:20240823T193000
DTSTAMP:20260421T070720
CREATED:20240814T201807Z
LAST-MODIFIED:20240923T164935Z
UID:10011222-1724437800-1724441400@pielcaneladancers.com
SUMMARY:Swing: Level 1
DESCRIPTION:Curriculum Class: 6 week series: Every Friday\, Aug 23 – Sept 27
URL:https://pielcaneladancers.com/event/swing-level-1-6/2024-08-23/
LOCATION:Room 407\, located on 4th Floor of Pearl Studios:\, 500 8th Ave. between 35/36 Streets\, NYC\, NY\, 10018\, United States
CATEGORIES:Level 1 Beginner
ATTACH;FMTTYPE=image/jpeg:https://pielcaneladancers.com/wp-content/uploads/2024/08/Ron_Fridays.jpg
END:VEVENT
BEGIN:VEVENT
DTSTART;TZID=UTC:20240822T193000
DTEND;TZID=UTC:20240822T203000
DTSTAMP:20260421T070720
CREATED:20240815T142641Z
LAST-MODIFIED:20240919T223403Z
UID:10011274-1724355000-1724358600@pielcaneladancers.com
SUMMARY:Salsa "On 2": Level 3
DESCRIPTION:Curriculum Class: 6 week series: Every Thursday\, Aug 22 – Sept 26
URL:https://pielcaneladancers.com/event/salsa-on-2-level-3-11/2024-08-22/
LOCATION:Room 407\, located on 4th Floor of Pearl Studios:\, 500 8th Ave. between 35/36 Streets\, NYC\, NY\, 10018\, United States
CATEGORIES:Level 3 Intermediate
ATTACH;FMTTYPE=image/jpeg:https://pielcaneladancers.com/wp-content/uploads/2024/08/Lou_Thursdays.jpg
END:VEVENT
BEGIN:VEVENT
DTSTART;TZID=UTC:20240822T193000
DTEND;TZID=UTC:20240822T203000
DTSTAMP:20260421T070720
CREATED:20240814T202307Z
LAST-MODIFIED:20240923T164357Z
UID:10011244-1724355000-1724358600@pielcaneladancers.com
SUMMARY:Hustle: Level 2 and 3
DESCRIPTION:Curriculum Class: 6 week series: Every Thursday\, Aug 22 – Sept 26
URL:https://pielcaneladancers.com/event/hustle-level-2-and-3-7/2024-08-22/
LOCATION:Room 407\, located on 4th Floor of Pearl Studios:\, 500 8th Ave. between 35/36 Streets\, NYC\, NY\, 10018\, United States
CATEGORIES:Level 2 Advance Beginner,Level 3 Intermediate
ATTACH;FMTTYPE=image/jpeg:https://pielcaneladancers.com/wp-content/uploads/2024/08/Ron_Thursdays.jpg
END:VEVENT
BEGIN:VEVENT
DTSTART;TZID=UTC:20240822T183000
DTEND;TZID=UTC:20240822T193000
DTSTAMP:20260421T070720
CREATED:20240815T142847Z
LAST-MODIFIED:20240919T223341Z
UID:10011310-1724351400-1724355000@pielcaneladancers.com
SUMMARY:Bachata: Level 3
DESCRIPTION:Curriculum Class: 6 week series: Every Thursday\, Aug 22 – Sept 26
URL:https://pielcaneladancers.com/event/bachata-level-3-8/2024-08-22/
LOCATION:Room 407\, located on 4th Floor of Pearl Studios:\, 500 8th Ave. between 35/36 Streets\, NYC\, NY\, 10018\, United States
CATEGORIES:Level 3 Intermediate
ATTACH;FMTTYPE=image/jpeg:https://pielcaneladancers.com/wp-content/uploads/2024/08/Lou_Thursdays.jpg
END:VEVENT
BEGIN:VEVENT
DTSTART;TZID=UTC:20240822T183000
DTEND;TZID=UTC:20240822T193000
DTSTAMP:20260421T070720
CREATED:20240814T202253Z
LAST-MODIFIED:20240923T164331Z
UID:10011238-1724351400-1724355000@pielcaneladancers.com
SUMMARY:Swing: Levels 2 and 3
DESCRIPTION:Curriculum Class: 6 week series: Every Thursday\, Aug 22 – Sept 26
URL:https://pielcaneladancers.com/event/swing-levels-2-and-3-7/2024-08-22/
LOCATION:Room 407\, located on 4th Floor of Pearl Studios:\, 500 8th Ave. between 35/36 Streets\, NYC\, NY\, 10018\, United States
CATEGORIES:Level 2 Advance Beginner,Level 3 Intermediate
ATTACH;FMTTYPE=image/jpeg:https://pielcaneladancers.com/wp-content/uploads/2024/08/Ron_Thursdays.jpg
END:VEVENT
BEGIN:VEVENT
DTSTART;TZID=America/New_York:20240821T203000
DTEND;TZID=America/New_York:20240821T213000
DTSTAMP:20260421T070720
CREATED:20240807T124917Z
LAST-MODIFIED:20240807T124917Z
UID:10011045-1724272200-1724275800@pielcaneladancers.com
SUMMARY:Reggaeton
DESCRIPTION:Open Class: 4 week series: Wednesdays\, Aug 7 – 28
URL:https://pielcaneladancers.com/event/reggaeton-14/2024-08-21/
LOCATION:Room 407\, located on 4th Floor of Pearl Studios:\, 500 8th Ave. between 35/36 Streets\, NYC\, NY\, 10018\, United States
CATEGORIES:Open Level Class
ATTACH;FMTTYPE=image/jpeg:https://pielcaneladancers.com/wp-content/uploads/2024/08/Anyelina_Wednesdays.jpg
END:VEVENT
BEGIN:VEVENT
DTSTART;TZID=America/New_York:20240821T193000
DTEND;TZID=America/New_York:20240821T203000
DTSTAMP:20260421T070720
CREATED:20240807T124716Z
LAST-MODIFIED:20240807T124716Z
UID:10011037-1724268600-1724272200@pielcaneladancers.com
SUMMARY:Dembow
DESCRIPTION:Open Class: 4 week series: Wednesdays\, Aug 7 – 28
URL:https://pielcaneladancers.com/event/dembow-7/2024-08-21/
LOCATION:Room 407\, located on 4th Floor of Pearl Studios:\, 500 8th Ave. between 35/36 Streets\, NYC\, NY\, 10018\, United States
CATEGORIES:Open Level Class
ATTACH;FMTTYPE=image/jpeg:https://pielcaneladancers.com/wp-content/uploads/2024/08/Anyelina_Wednesdays.jpg
END:VEVENT
BEGIN:VEVENT
DTSTART;TZID=UTC:20240821T183000
DTEND;TZID=UTC:20240821T193000
DTSTAMP:20260421T070720
CREATED:20240807T124606Z
LAST-MODIFIED:20240807T125423Z
UID:10011030-1724265000-1724268600@pielcaneladancers.com
SUMMARY:Zumba
DESCRIPTION:Open Class: 4 week series: Wednesdays\, Aug 7 – 28
URL:https://pielcaneladancers.com/event/zumba-7/2024-08-21/
LOCATION:Room 407\, located on 4th Floor of Pearl Studios:\, 500 8th Ave. between 35/36 Streets\, NYC\, NY\, 10018\, United States
CATEGORIES:Open Level Class
ATTACH;FMTTYPE=image/jpeg:https://pielcaneladancers.com/wp-content/uploads/2024/08/Anyelina_Wednesdays.jpg
END:VEVENT
BEGIN:VEVENT
DTSTART;TZID=America/New_York:20240820T203000
DTEND;TZID=America/New_York:20240820T213000
DTSTAMP:20260421T070720
CREATED:20240814T200450Z
LAST-MODIFIED:20240910T162121Z
UID:10011176-1724185800-1724189400@pielcaneladancers.com
SUMMARY:Hip Hop
DESCRIPTION:Open Class: 4 week series: Tuesdays\, Aug 20 – Sept 3
URL:https://pielcaneladancers.com/event/hip-hop-17/2024-08-20/
LOCATION:Room 407\, located on 4th Floor of Pearl Studios:\, 500 8th Ave. between 35/36 Streets\, NYC\, NY\, 10018\, United States
CATEGORIES:Open Level Class
ATTACH;FMTTYPE=image/jpeg:https://pielcaneladancers.com/wp-content/uploads/2024/08/Spex_HipHop.jpg
END:VEVENT
BEGIN:VEVENT
DTSTART;TZID=UTC:20240820T193000
DTEND;TZID=UTC:20240820T203000
DTSTAMP:20260421T070720
CREATED:20240820T184620Z
LAST-MODIFIED:20240820T184621Z
UID:10010844-1724182200-1724185800@pielcaneladancers.com
SUMMARY:Salsa Ladies Styling: Level 3.5
DESCRIPTION:Curriculum Class: 6 week series: Every Tuesday\, July 16 – Aug 20
URL:https://pielcaneladancers.com/event/salsa-ladies-styling-level-3-5-4-2/
LOCATION:Room 407\, located on 4th Floor of Pearl Studios:\, 500 8th Ave. between 35/36 Streets\, NYC\, NY\, 10018\, United States
CATEGORIES:Level 3 Intermediate
ATTACH;FMTTYPE=image/jpeg:https://pielcaneladancers.com/wp-content/uploads/2024/07/Bianca_Tuesdays.jpg
END:VEVENT
BEGIN:VEVENT
DTSTART;TZID=UTC:20240820T193000
DTEND;TZID=UTC:20240820T203000
DTSTAMP:20260421T070720
CREATED:20240709T171231Z
LAST-MODIFIED:20240820T184837Z
UID:10010808-1724182200-1724185800@pielcaneladancers.com
SUMMARY:Salsa "On 2": Level 2
DESCRIPTION:Curriculum Class: 6 week series: Every Tuesday\, July 16 – Aug 20
URL:https://pielcaneladancers.com/event/salsa-on-2-level-2-22/2024-08-20/
LOCATION:Room 407\, located on 4th Floor of Pearl Studios:\, 500 8th Ave. between 35/36 Streets\, NYC\, NY\, 10018\, United States
CATEGORIES:Level 2 Advance Beginner
ATTACH;FMTTYPE=image/jpeg:https://pielcaneladancers.com/wp-content/uploads/2024/07/Lisnerva_Tuesdays.jpg
END:VEVENT
BEGIN:VEVENT
DTSTART;TZID=America/New_York:20240820T193000
DTEND;TZID=America/New_York:20240820T203000
DTSTAMP:20260421T070720
CREATED:20240709T165754Z
LAST-MODIFIED:20240827T200549Z
UID:10010972-1724182200-1724185800@pielcaneladancers.com
SUMMARY:Merengue: Level 2
DESCRIPTION:Open Class: 4 week series: Tuesdays\, Aug 6 – Aug 27
URL:https://pielcaneladancers.com/event/merengue-level-2-8/2024-08-20/
LOCATION:Room 407\, located on 4th Floor of Pearl Studios:\, 500 8th Ave. between 35/36 Streets\, NYC\, NY\, 10018\, United States
CATEGORIES:Level 2 Advance Beginner
ATTACH;FMTTYPE=image/jpeg:https://pielcaneladancers.com/wp-content/uploads/2024/07/Elizabeth_Merengue-2.jpg
END:VEVENT
BEGIN:VEVENT
DTSTART;TZID=UTC:20240820T183000
DTEND;TZID=UTC:20240820T193000
DTSTAMP:20260421T070720
CREATED:20240820T184606Z
LAST-MODIFIED:20240820T184607Z
UID:10010838-1724178600-1724182200@pielcaneladancers.com
SUMMARY:Salsa Ladies Styling: Level 2.5
DESCRIPTION:Curriculum Class: 6 week series: Every Tuesday\, July 16 – Aug 20
URL:https://pielcaneladancers.com/event/salsa-ladies-styling-level-2-5-4-2/
LOCATION:Room 407\, located on 4th Floor of Pearl Studios:\, 500 8th Ave. between 35/36 Streets\, NYC\, NY\, 10018\, United States
CATEGORIES:Level 2 Advance Beginner
ATTACH;FMTTYPE=image/jpeg:https://pielcaneladancers.com/wp-content/uploads/2024/07/Bianca_Tuesdays.jpg
END:VEVENT
BEGIN:VEVENT
DTSTART;TZID=UTC:20240820T183000
DTEND;TZID=UTC:20240820T193000
DTSTAMP:20260421T070720
CREATED:20240709T171205Z
LAST-MODIFIED:20240820T184830Z
UID:10010802-1724178600-1724182200@pielcaneladancers.com
SUMMARY:Salsa "On 2": Level 1
DESCRIPTION:Curriculum Class: 6 week series: Every Tuesday\, July 16 – Aug 20
URL:https://pielcaneladancers.com/event/salsa-on-2-level-1-26/2024-08-20/
LOCATION:Room 407\, located on 4th Floor of Pearl Studios:\, 500 8th Ave. between 35/36 Streets\, NYC\, NY\, 10018\, United States
CATEGORIES:Level 1 Beginner
ATTACH;FMTTYPE=image/jpeg:https://pielcaneladancers.com/wp-content/uploads/2024/07/Lisnerva_Tuesdays.jpg
END:VEVENT
BEGIN:VEVENT
DTSTART;TZID=America/New_York:20240820T183000
DTEND;TZID=America/New_York:20240820T193000
DTSTAMP:20260421T070720
CREATED:20240709T165731Z
LAST-MODIFIED:20240827T200543Z
UID:10010974-1724178600-1724182200@pielcaneladancers.com
SUMMARY:Merengue: Level 1
DESCRIPTION:Open Class: 4 week series: Tuesdays\, Aug 6 – Aug 27
URL:https://pielcaneladancers.com/event/merengue-level-1-7/2024-08-20/
LOCATION:Room 407\, located on 4th Floor of Pearl Studios:\, 500 8th Ave. between 35/36 Streets\, NYC\, NY\, 10018\, United States
CATEGORIES:Level 1 Beginner
ATTACH;FMTTYPE=image/jpeg:https://pielcaneladancers.com/wp-content/uploads/2024/07/Elizabeth_Merengue-2.jpg
END:VEVENT
BEGIN:VEVENT
DTSTART;TZID=UTC:20240819T203000
DTEND;TZID=UTC:20240819T213000
DTSTAMP:20260421T070720
CREATED:20240805T145749Z
LAST-MODIFIED:20240826T182858Z
UID:10011011-1724099400-1724103000@pielcaneladancers.com
SUMMARY:Samba: Level 2
DESCRIPTION:Curriculum Class: 4 week series: Mondays\, Aug 5 – 26
URL:https://pielcaneladancers.com/event/samba-level-2-6/2024-08-19/
LOCATION:Room 407\, located on 4th Floor of Pearl Studios:\, 500 8th Ave. between 35/36 Streets\, NYC\, NY\, 10018\, United States
CATEGORIES:Level 2 Advance Beginner
ATTACH;FMTTYPE=image/jpeg:https://pielcaneladancers.com/wp-content/uploads/2024/08/Eileen_Samba.jpg
END:VEVENT
BEGIN:VEVENT
DTSTART;TZID=America/New_York:20240819T203000
DTEND;TZID=America/New_York:20240819T213000
DTSTAMP:20260421T070720
CREATED:20240708T172345Z
LAST-MODIFIED:20240812T233913Z
UID:10010676-1724099400-1724103000@pielcaneladancers.com
SUMMARY:Salsa "On1": Level 2
DESCRIPTION:Curriculum Class: 6 week series: Every Monday\, July 15 – Aug 19
URL:https://pielcaneladancers.com/event/salsa-on1-level-2-4/2024-08-19/
LOCATION:Room 407\, located on 4th Floor of Pearl Studios:\, 500 8th Ave. between 35/36 Streets\, NYC\, NY\, 10018\, United States
CATEGORIES:Level 2 Advance Beginner
ATTACH;FMTTYPE=image/jpeg:https://pielcaneladancers.com/wp-content/uploads/2024/07/Ed_Mondays.jpg
END:VEVENT
BEGIN:VEVENT
DTSTART;TZID=UTC:20240819T193000
DTEND;TZID=UTC:20240819T203000
DTSTAMP:20260421T070720
CREATED:20240812T144952Z
LAST-MODIFIED:20240923T155309Z
UID:10011109-1724095800-1724099400@pielcaneladancers.com
SUMMARY:Salsa "On 2": Level 4
DESCRIPTION:Curriculum Class: 6 week series: Every Monday\, Aug 12 – Sept 16
URL:https://pielcaneladancers.com/event/salsa-on-2-level-4-6/2024-08-19/
LOCATION:Room 407\, located on 4th Floor of Pearl Studios:\, 500 8th Ave. between 35/36 Streets\, NYC\, NY\, 10018\, United States
CATEGORIES:Level 4 Advance Intermediate
ATTACH;FMTTYPE=image/jpeg:https://pielcaneladancers.com/wp-content/uploads/2024/08/Joe_Mondays.jpg
END:VEVENT
BEGIN:VEVENT
DTSTART;TZID=UTC:20240819T193000
DTEND;TZID=UTC:20240819T203000
DTSTAMP:20260421T070720
CREATED:20240805T145329Z
LAST-MODIFIED:20240826T182851Z
UID:10011006-1724095800-1724099400@pielcaneladancers.com
SUMMARY:Samba: Level 1
DESCRIPTION:Curriculum Class: 4 week series: Mondays\, Aug 5 – 26
URL:https://pielcaneladancers.com/event/samba-level-1-6/2024-08-19/
LOCATION:Room 407\, located on 4th Floor of Pearl Studios:\, 500 8th Ave. between 35/36 Streets\, NYC\, NY\, 10018\, United States
CATEGORIES:Level 1 Beginner
ATTACH;FMTTYPE=image/jpeg:https://pielcaneladancers.com/wp-content/uploads/2024/08/Eileen_Samba.jpg
END:VEVENT
BEGIN:VEVENT
DTSTART;TZID=America/New_York:20240819T193000
DTEND;TZID=America/New_York:20240819T203000
DTSTAMP:20260421T070720
CREATED:20240708T172314Z
LAST-MODIFIED:20240812T233857Z
UID:10010664-1724095800-1724099400@pielcaneladancers.com
SUMMARY:Salsa "On1": Level 1
DESCRIPTION:Curriculum Class: 6 week series: Every Monday\, July 15 – Aug 19
URL:https://pielcaneladancers.com/event/salsa-on1-level-1-4/2024-08-19/
LOCATION:Room 407\, located on 4th Floor of Pearl Studios:\, 500 8th Ave. between 35/36 Streets\, NYC\, NY\, 10018\, United States
CATEGORIES:Level 1 Beginner
ATTACH;FMTTYPE=image/jpeg:https://pielcaneladancers.com/wp-content/uploads/2024/07/Ed_Mondays.jpg
END:VEVENT
BEGIN:VEVENT
DTSTART;TZID=UTC:20240819T183000
DTEND;TZID=UTC:20240819T193000
DTSTAMP:20260421T070720
CREATED:20240812T144802Z
LAST-MODIFIED:20240923T155300Z
UID:10011085-1724092200-1724095800@pielcaneladancers.com
SUMMARY:Salsa "On 2": Level 3
DESCRIPTION:Curriculum Class: 6 week series: Every Monday\, Aug 12 – Sept 16
URL:https://pielcaneladancers.com/event/salsa-on-2-level-3-10/2024-08-19/
LOCATION:Room 407\, located on 4th Floor of Pearl Studios:\, 500 8th Ave. between 35/36 Streets\, NYC\, NY\, 10018\, United States
CATEGORIES:Level 3 Intermediate
ATTACH;FMTTYPE=image/jpeg:https://pielcaneladancers.com/wp-content/uploads/2024/08/Joe_Mondays.jpg
END:VEVENT
BEGIN:VEVENT
DTSTART;TZID=UTC:20240819T183000
DTEND;TZID=UTC:20240819T193000
DTSTAMP:20260421T070720
CREATED:20240729T005831Z
LAST-MODIFIED:20240807T131323Z
UID:10010984-1724092200-1724095800@pielcaneladancers.com
SUMMARY:BellyDance: Level 1
DESCRIPTION:Curriculum Class: 4 week series: Mondays\, July 29 – Aug 19
URL:https://pielcaneladancers.com/event/bellydance-level-1-3/2024-08-19/
LOCATION:Room 407\, located on 4th Floor of Pearl Studios:\, 500 8th Ave. between 35/36 Streets\, NYC\, NY\, 10018\, United States
CATEGORIES:Level 1 Beginner
ATTACH;FMTTYPE=image/jpeg:https://pielcaneladancers.com/wp-content/uploads/2024/07/Dezere.jpg
END:VEVENT
BEGIN:VEVENT
DTSTART;TZID=UTC:20240815T193000
DTEND;TZID=UTC:20240815T203000
DTSTAMP:20260421T070720
CREATED:20240625T210233Z
LAST-MODIFIED:20240722T202343Z
UID:10010570-1723750200-1723753800@pielcaneladancers.com
SUMMARY:Salsa "On 2": Level 3
DESCRIPTION:Curriculum Class: 6 week series: Every Thursday\, July 11 – Aug 15
URL:https://pielcaneladancers.com/event/salsa-on-2-level-3-9/2024-08-15/
LOCATION:Room 407\, located on 4th Floor of Pearl Studios:\, 500 8th Ave. between 35/36 Streets\, NYC\, NY\, 10018\, United States
CATEGORIES:Level 3 Intermediate
ATTACH;FMTTYPE=image/jpeg:https://pielcaneladancers.com/wp-content/uploads/2024/06/Lou_Thursdays.jpg
END:VEVENT
END:VCALENDAR