BEGIN:VCALENDAR
VERSION:2.0
PRODID:-//PielCanela - ECPv6.15.20//NONSGML v1.0//EN
CALSCALE:GREGORIAN
METHOD:PUBLISH
X-ORIGINAL-URL:https://pielcaneladancers.com
X-WR-CALDESC:Events for PielCanela
REFRESH-INTERVAL;VALUE=DURATION:PT1H
X-Robots-Tag:noindex
X-PUBLISHED-TTL:PT1H
BEGIN:VTIMEZONE
TZID:UTC
BEGIN:STANDARD
TZOFFSETFROM:+0000
TZOFFSETTO:+0000
TZNAME:UTC
DTSTART:20230101T000000
END:STANDARD
END:VTIMEZONE
BEGIN:VTIMEZONE
TZID:America/New_York
BEGIN:DAYLIGHT
TZOFFSETFROM:-0500
TZOFFSETTO:-0400
TZNAME:EDT
DTSTART:20230312T070000
END:DAYLIGHT
BEGIN:STANDARD
TZOFFSETFROM:-0400
TZOFFSETTO:-0500
TZNAME:EST
DTSTART:20231105T060000
END:STANDARD
BEGIN:DAYLIGHT
TZOFFSETFROM:-0500
TZOFFSETTO:-0400
TZNAME:EDT
DTSTART:20240310T070000
END:DAYLIGHT
BEGIN:STANDARD
TZOFFSETFROM:-0400
TZOFFSETTO:-0500
TZNAME:EST
DTSTART:20241103T060000
END:STANDARD
BEGIN:DAYLIGHT
TZOFFSETFROM:-0500
TZOFFSETTO:-0400
TZNAME:EDT
DTSTART:20250309T070000
END:DAYLIGHT
BEGIN:STANDARD
TZOFFSETFROM:-0400
TZOFFSETTO:-0500
TZNAME:EST
DTSTART:20251102T060000
END:STANDARD
END:VTIMEZONE
BEGIN:VEVENT
DTSTART;TZID=UTC:20241118T193000
DTEND;TZID=UTC:20241118T203000
DTSTAMP:20260424T081422
CREATED:20241016T173334Z
LAST-MODIFIED:20241122T165003Z
UID:10012479-1731958200-1731961800@pielcaneladancers.com
SUMMARY:Tango: Level 2
DESCRIPTION:Curriculum Class: 6 week series: Every Monday\, Oct 21 – Nov 25
URL:https://pielcaneladancers.com/event/tango-level-2-8/2024-11-18/
LOCATION:Room 410\, located on 4th Floor of Pearl Studios:\, 500 8th Ave. between 35/36 Streets\, NYC\, NY\, 10018\, United States
CATEGORIES:Level 2 Advance Beginner
ATTACH;FMTTYPE=image/jpeg:https://pielcaneladancers.com/wp-content/uploads/2024/10/Jaime_Tango.jpg
END:VEVENT
BEGIN:VEVENT
DTSTART;TZID=UTC:20241118T183000
DTEND;TZID=UTC:20241118T193000
DTSTAMP:20260424T081422
CREATED:20241016T173306Z
LAST-MODIFIED:20241122T164953Z
UID:10013092-1731954600-1731958200@pielcaneladancers.com
SUMMARY:Tango: Level 1
DESCRIPTION:Curriculum Class: 6 week series: Every Monday\, Oct 21 – Nov 25
URL:https://pielcaneladancers.com/event/tango-level-1-8/2024-11-18/
LOCATION:Room 410\, located on 4th Floor of Pearl Studios:\, 500 8th Ave. between 35/36 Streets\, NYC\, NY\, 10018\, United States
CATEGORIES:Level 1 Beginner
ATTACH;FMTTYPE=image/jpeg:https://pielcaneladancers.com/wp-content/uploads/2024/10/Jaime_Tango.jpg
END:VEVENT
BEGIN:VEVENT
DTSTART;TZID=America/New_York:20241114T203000
DTEND;TZID=America/New_York:20241114T213000
DTSTAMP:20260424T081422
CREATED:20241101T191339Z
LAST-MODIFIED:20241122T165822Z
UID:10012782-1731616200-1731619800@pielcaneladancers.com
SUMMARY:Latin Fusion
DESCRIPTION:Open Class: 4 week series: Thursdays\, Nov 7 – 28
URL:https://pielcaneladancers.com/event/latin-fusion/2024-11-14/
LOCATION:Room 410\, located on 4th Floor of Pearl Studios:\, 500 8th Ave. between 35/36 Streets\, NYC\, NY\, 10018\, United States
CATEGORIES:Open Level Class
ATTACH;FMTTYPE=image/jpeg:https://pielcaneladancers.com/wp-content/uploads/2024/11/William_Thursdays.jpg
END:VEVENT
BEGIN:VEVENT
DTSTART;TZID=America/New_York:20241114T193000
DTEND;TZID=America/New_York:20241114T203000
DTSTAMP:20260424T081422
CREATED:20241101T191257Z
LAST-MODIFIED:20241122T165809Z
UID:10012774-1731612600-1731616200@pielcaneladancers.com
SUMMARY:Street Jazz
DESCRIPTION:Open Class: 4 week series: Thursdays\, Nov 7 – 28
URL:https://pielcaneladancers.com/event/street-jazz/2024-11-14/
LOCATION:Room 410\, located on 4th Floor of Pearl Studios:\, 500 8th Ave. between 35/36 Streets\, NYC\, NY\, 10018\, United States
CATEGORIES:Open Level Class
ATTACH;FMTTYPE=image/jpeg:https://pielcaneladancers.com/wp-content/uploads/2024/11/William_Thursdays.jpg
END:VEVENT
BEGIN:VEVENT
DTSTART;TZID=America/New_York:20241113T203000
DTEND;TZID=America/New_York:20241113T213000
DTSTAMP:20260424T081422
CREATED:20241001T165121Z
LAST-MODIFIED:20241113T183053Z
UID:10012208-1731529800-1731533400@pielcaneladancers.com
SUMMARY:Kizomba: Level 2
DESCRIPTION:Curriculum Class: 6 week series: Every Wednesday\, Oct 9 – Nov 13
URL:https://pielcaneladancers.com/event/kizomba-level-2-7/2024-11-13/
LOCATION:Room 410\, located on 4th Floor of Pearl Studios:\, 500 8th Ave. between 35/36 Streets\, NYC\, NY\, 10018\, United States
ATTACH;FMTTYPE=image/jpeg:https://pielcaneladancers.com/wp-content/uploads/2024/10/Steve_Kizomba.jpg
END:VEVENT
BEGIN:VEVENT
DTSTART;TZID=America/New_York:20241113T193000
DTEND;TZID=America/New_York:20241113T203000
DTSTAMP:20260424T081422
CREATED:20241001T165059Z
LAST-MODIFIED:20241113T183044Z
UID:10012202-1731526200-1731529800@pielcaneladancers.com
SUMMARY:Kizomba: Level 1
DESCRIPTION:Curriculum Class: 6 week series: Every Wednesday\, Oct 9 – Nov 13
URL:https://pielcaneladancers.com/event/kizomba-level-1-7/2024-11-13/
LOCATION:Room 410\, located on 4th Floor of Pearl Studios:\, 500 8th Ave. between 35/36 Streets\, NYC\, NY\, 10018\, United States
ATTACH;FMTTYPE=image/jpeg:https://pielcaneladancers.com/wp-content/uploads/2024/10/Steve_Kizomba.jpg
END:VEVENT
BEGIN:VEVENT
DTSTART;TZID=America/New_York:20241112T203000
DTEND;TZID=America/New_York:20241112T213000
DTSTAMP:20260424T081422
CREATED:20241112T180810Z
LAST-MODIFIED:20241112T180812Z
UID:10012596-1731443400-1731447000@pielcaneladancers.com
SUMMARY:Hip Hop
DESCRIPTION:Open Class: 4 week series: Tuesdays\, Oct 22 – Nov 12
URL:https://pielcaneladancers.com/event/hip-hop-21-2/
LOCATION:Room 410\, located on 4th Floor of Pearl Studios:\, 500 8th Ave. between 35/36 Streets\, NYC\, NY\, 10018\, United States
CATEGORIES:Open Level Class
ATTACH;FMTTYPE=image/jpeg:https://pielcaneladancers.com/wp-content/uploads/2024/10/Anyelina_Tuesdays.jpg
END:VEVENT
BEGIN:VEVENT
DTSTART;TZID=America/New_York:20241112T193000
DTEND;TZID=America/New_York:20241112T203000
DTSTAMP:20260424T081422
CREATED:20241112T180846Z
LAST-MODIFIED:20241112T180847Z
UID:10012589-1731439800-1731443400@pielcaneladancers.com
SUMMARY:Reggaeton
DESCRIPTION:Open Class: 4 week series: Tuesdays\, Oct 22 – Nov 12
URL:https://pielcaneladancers.com/event/reggaeton-19-2/
LOCATION:Room 410\, located on 4th Floor of Pearl Studios:\, 500 8th Ave. between 35/36 Streets\, NYC\, NY\, 10018\, United States
CATEGORIES:Open Level Class
ATTACH;FMTTYPE=image/jpeg:https://pielcaneladancers.com/wp-content/uploads/2024/10/Anyelina_Tuesdays.jpg
END:VEVENT
BEGIN:VEVENT
DTSTART;TZID=UTC:20241112T183000
DTEND;TZID=UTC:20241112T193000
DTSTAMP:20260424T081422
CREATED:20241022T171822Z
LAST-MODIFIED:20241105T184427Z
UID:10012583-1731436200-1731439800@pielcaneladancers.com
SUMMARY:BellyDance: Level 1
DESCRIPTION:Curriculum Class: 4 week series: Tuesdays\, Oct 22 – Nov 12
URL:https://pielcaneladancers.com/event/bellydance-level-1-5/2024-11-12/
LOCATION:Room 410\, located on 4th Floor of Pearl Studios:\, 500 8th Ave. between 35/36 Streets\, NYC\, NY\, 10018\, United States
ATTACH;FMTTYPE=image/jpeg:https://pielcaneladancers.com/wp-content/uploads/2024/10/Anyelina_Tuesdays.jpg
END:VEVENT
BEGIN:VEVENT
DTSTART;TZID=UTC:20241111T193000
DTEND;TZID=UTC:20241111T203000
DTSTAMP:20260424T081422
CREATED:20241016T173334Z
LAST-MODIFIED:20241122T165003Z
UID:10013109-1731353400-1731357000@pielcaneladancers.com
SUMMARY:Tango: Level 2
DESCRIPTION:Curriculum Class: 6 week series: Every Monday\, Oct 21 – Nov 25
URL:https://pielcaneladancers.com/event/tango-level-2-8/2024-11-11/
LOCATION:Room 410\, located on 4th Floor of Pearl Studios:\, 500 8th Ave. between 35/36 Streets\, NYC\, NY\, 10018\, United States
CATEGORIES:Level 2 Advance Beginner
ATTACH;FMTTYPE=image/jpeg:https://pielcaneladancers.com/wp-content/uploads/2024/10/Jaime_Tango.jpg
END:VEVENT
BEGIN:VEVENT
DTSTART;TZID=UTC:20241111T183000
DTEND;TZID=UTC:20241111T193000
DTSTAMP:20260424T081422
CREATED:20241016T173306Z
LAST-MODIFIED:20241122T164953Z
UID:10013091-1731349800-1731353400@pielcaneladancers.com
SUMMARY:Tango: Level 1
DESCRIPTION:Curriculum Class: 6 week series: Every Monday\, Oct 21 – Nov 25
URL:https://pielcaneladancers.com/event/tango-level-1-8/2024-11-11/
LOCATION:Room 410\, located on 4th Floor of Pearl Studios:\, 500 8th Ave. between 35/36 Streets\, NYC\, NY\, 10018\, United States
CATEGORIES:Level 1 Beginner
ATTACH;FMTTYPE=image/jpeg:https://pielcaneladancers.com/wp-content/uploads/2024/10/Jaime_Tango.jpg
END:VEVENT
BEGIN:VEVENT
DTSTART;TZID=America/New_York:20241107T203000
DTEND;TZID=America/New_York:20241107T213000
DTSTAMP:20260424T081422
CREATED:20241101T191339Z
LAST-MODIFIED:20241122T165822Z
UID:10012781-1731011400-1731015000@pielcaneladancers.com
SUMMARY:Latin Fusion
DESCRIPTION:Open Class: 4 week series: Thursdays\, Nov 7 – 28
URL:https://pielcaneladancers.com/event/latin-fusion/2024-11-07/
LOCATION:Room 410\, located on 4th Floor of Pearl Studios:\, 500 8th Ave. between 35/36 Streets\, NYC\, NY\, 10018\, United States
CATEGORIES:Open Level Class
ATTACH;FMTTYPE=image/jpeg:https://pielcaneladancers.com/wp-content/uploads/2024/11/William_Thursdays.jpg
END:VEVENT
BEGIN:VEVENT
DTSTART;TZID=America/New_York:20241107T193000
DTEND;TZID=America/New_York:20241107T203000
DTSTAMP:20260424T081422
CREATED:20241101T191257Z
LAST-MODIFIED:20241122T165809Z
UID:10012773-1731007800-1731011400@pielcaneladancers.com
SUMMARY:Street Jazz
DESCRIPTION:Open Class: 4 week series: Thursdays\, Nov 7 – 28
URL:https://pielcaneladancers.com/event/street-jazz/2024-11-07/
LOCATION:Room 410\, located on 4th Floor of Pearl Studios:\, 500 8th Ave. between 35/36 Streets\, NYC\, NY\, 10018\, United States
CATEGORIES:Open Level Class
ATTACH;FMTTYPE=image/jpeg:https://pielcaneladancers.com/wp-content/uploads/2024/11/William_Thursdays.jpg
END:VEVENT
BEGIN:VEVENT
DTSTART;TZID=America/New_York:20241106T203000
DTEND;TZID=America/New_York:20241106T213000
DTSTAMP:20260424T081422
CREATED:20241001T165121Z
LAST-MODIFIED:20241113T183053Z
UID:10012207-1730925000-1730928600@pielcaneladancers.com
SUMMARY:Kizomba: Level 2
DESCRIPTION:Curriculum Class: 6 week series: Every Wednesday\, Oct 9 – Nov 13
URL:https://pielcaneladancers.com/event/kizomba-level-2-7/2024-11-06/
LOCATION:Room 410\, located on 4th Floor of Pearl Studios:\, 500 8th Ave. between 35/36 Streets\, NYC\, NY\, 10018\, United States
ATTACH;FMTTYPE=image/jpeg:https://pielcaneladancers.com/wp-content/uploads/2024/10/Steve_Kizomba.jpg
END:VEVENT
BEGIN:VEVENT
DTSTART;TZID=America/New_York:20241106T193000
DTEND;TZID=America/New_York:20241106T203000
DTSTAMP:20260424T081422
CREATED:20241001T165059Z
LAST-MODIFIED:20241113T183044Z
UID:10012201-1730921400-1730925000@pielcaneladancers.com
SUMMARY:Kizomba: Level 1
DESCRIPTION:Curriculum Class: 6 week series: Every Wednesday\, Oct 9 – Nov 13
URL:https://pielcaneladancers.com/event/kizomba-level-1-7/2024-11-06/
LOCATION:Room 410\, located on 4th Floor of Pearl Studios:\, 500 8th Ave. between 35/36 Streets\, NYC\, NY\, 10018\, United States
ATTACH;FMTTYPE=image/jpeg:https://pielcaneladancers.com/wp-content/uploads/2024/10/Steve_Kizomba.jpg
END:VEVENT
BEGIN:VEVENT
DTSTART;TZID=America/New_York:20241105T203000
DTEND;TZID=America/New_York:20241105T213000
DTSTAMP:20260424T081422
CREATED:20241022T172235Z
LAST-MODIFIED:20241105T184518Z
UID:10012595-1730838600-1730842200@pielcaneladancers.com
SUMMARY:Hip Hop
DESCRIPTION:Open Class: 4 week series: Tuesdays\, Oct 22 – Nov 12
URL:https://pielcaneladancers.com/event/hip-hop-21/2024-11-05/
LOCATION:Room 410\, located on 4th Floor of Pearl Studios:\, 500 8th Ave. between 35/36 Streets\, NYC\, NY\, 10018\, United States
CATEGORIES:Open Level Class
ATTACH;FMTTYPE=image/jpeg:https://pielcaneladancers.com/wp-content/uploads/2024/10/Anyelina_Tuesdays.jpg
END:VEVENT
BEGIN:VEVENT
DTSTART;TZID=America/New_York:20241105T193000
DTEND;TZID=America/New_York:20241105T203000
DTSTAMP:20260424T081422
CREATED:20241022T172121Z
LAST-MODIFIED:20241105T184452Z
UID:10012588-1730835000-1730838600@pielcaneladancers.com
SUMMARY:Reggaeton
DESCRIPTION:Open Class: 4 week series: Tuesdays\, Oct 22 – Nov 12
URL:https://pielcaneladancers.com/event/reggaeton-19/2024-11-05/
LOCATION:Room 410\, located on 4th Floor of Pearl Studios:\, 500 8th Ave. between 35/36 Streets\, NYC\, NY\, 10018\, United States
CATEGORIES:Open Level Class
ATTACH;FMTTYPE=image/jpeg:https://pielcaneladancers.com/wp-content/uploads/2024/10/Anyelina_Tuesdays.jpg
END:VEVENT
BEGIN:VEVENT
DTSTART;TZID=UTC:20241105T183000
DTEND;TZID=UTC:20241105T193000
DTSTAMP:20260424T081422
CREATED:20241022T171822Z
LAST-MODIFIED:20241105T184427Z
UID:10012582-1730831400-1730835000@pielcaneladancers.com
SUMMARY:BellyDance: Level 1
DESCRIPTION:Curriculum Class: 4 week series: Tuesdays\, Oct 22 – Nov 12
URL:https://pielcaneladancers.com/event/bellydance-level-1-5/2024-11-05/
LOCATION:Room 410\, located on 4th Floor of Pearl Studios:\, 500 8th Ave. between 35/36 Streets\, NYC\, NY\, 10018\, United States
ATTACH;FMTTYPE=image/jpeg:https://pielcaneladancers.com/wp-content/uploads/2024/10/Anyelina_Tuesdays.jpg
END:VEVENT
BEGIN:VEVENT
DTSTART;TZID=UTC:20241104T193000
DTEND;TZID=UTC:20241104T203000
DTSTAMP:20260424T081422
CREATED:20241016T173334Z
LAST-MODIFIED:20241122T165003Z
UID:10012477-1730748600-1730752200@pielcaneladancers.com
SUMMARY:Tango: Level 2
DESCRIPTION:Curriculum Class: 6 week series: Every Monday\, Oct 21 – Nov 25
URL:https://pielcaneladancers.com/event/tango-level-2-8/2024-11-04/
LOCATION:Room 410\, located on 4th Floor of Pearl Studios:\, 500 8th Ave. between 35/36 Streets\, NYC\, NY\, 10018\, United States
CATEGORIES:Level 2 Advance Beginner
ATTACH;FMTTYPE=image/jpeg:https://pielcaneladancers.com/wp-content/uploads/2024/10/Jaime_Tango.jpg
END:VEVENT
BEGIN:VEVENT
DTSTART;TZID=UTC:20241104T183000
DTEND;TZID=UTC:20241104T193000
DTSTAMP:20260424T081422
CREATED:20241016T173306Z
LAST-MODIFIED:20241122T164953Z
UID:10012471-1730745000-1730748600@pielcaneladancers.com
SUMMARY:Tango: Level 1
DESCRIPTION:Curriculum Class: 6 week series: Every Monday\, Oct 21 – Nov 25
URL:https://pielcaneladancers.com/event/tango-level-1-8/2024-11-04/
LOCATION:Room 410\, located on 4th Floor of Pearl Studios:\, 500 8th Ave. between 35/36 Streets\, NYC\, NY\, 10018\, United States
CATEGORIES:Level 1 Beginner
ATTACH;FMTTYPE=image/jpeg:https://pielcaneladancers.com/wp-content/uploads/2024/10/Jaime_Tango.jpg
END:VEVENT
BEGIN:VEVENT
DTSTART;TZID=America/New_York:20241030T203000
DTEND;TZID=America/New_York:20241030T213000
DTSTAMP:20260424T081422
CREATED:20241001T165121Z
LAST-MODIFIED:20241113T183053Z
UID:10012206-1730320200-1730323800@pielcaneladancers.com
SUMMARY:Kizomba: Level 2
DESCRIPTION:Curriculum Class: 6 week series: Every Wednesday\, Oct 9 – Nov 13
URL:https://pielcaneladancers.com/event/kizomba-level-2-7/2024-10-30/
LOCATION:Room 410\, located on 4th Floor of Pearl Studios:\, 500 8th Ave. between 35/36 Streets\, NYC\, NY\, 10018\, United States
ATTACH;FMTTYPE=image/jpeg:https://pielcaneladancers.com/wp-content/uploads/2024/10/Steve_Kizomba.jpg
END:VEVENT
BEGIN:VEVENT
DTSTART;TZID=America/New_York:20241030T193000
DTEND;TZID=America/New_York:20241030T203000
DTSTAMP:20260424T081422
CREATED:20241001T165059Z
LAST-MODIFIED:20241113T183044Z
UID:10012200-1730316600-1730320200@pielcaneladancers.com
SUMMARY:Kizomba: Level 1
DESCRIPTION:Curriculum Class: 6 week series: Every Wednesday\, Oct 9 – Nov 13
URL:https://pielcaneladancers.com/event/kizomba-level-1-7/2024-10-30/
LOCATION:Room 410\, located on 4th Floor of Pearl Studios:\, 500 8th Ave. between 35/36 Streets\, NYC\, NY\, 10018\, United States
ATTACH;FMTTYPE=image/jpeg:https://pielcaneladancers.com/wp-content/uploads/2024/10/Steve_Kizomba.jpg
END:VEVENT
BEGIN:VEVENT
DTSTART;TZID=America/New_York:20241029T203000
DTEND;TZID=America/New_York:20241029T213000
DTSTAMP:20260424T081422
CREATED:20241022T172235Z
LAST-MODIFIED:20241105T184518Z
UID:10012594-1730233800-1730237400@pielcaneladancers.com
SUMMARY:Hip Hop
DESCRIPTION:Open Class: 4 week series: Tuesdays\, Oct 22 – Nov 12
URL:https://pielcaneladancers.com/event/hip-hop-21/2024-10-29/
LOCATION:Room 410\, located on 4th Floor of Pearl Studios:\, 500 8th Ave. between 35/36 Streets\, NYC\, NY\, 10018\, United States
CATEGORIES:Open Level Class
ATTACH;FMTTYPE=image/jpeg:https://pielcaneladancers.com/wp-content/uploads/2024/10/Anyelina_Tuesdays.jpg
END:VEVENT
BEGIN:VEVENT
DTSTART;TZID=America/New_York:20241029T193000
DTEND;TZID=America/New_York:20241029T203000
DTSTAMP:20260424T081422
CREATED:20241022T172121Z
LAST-MODIFIED:20241105T184452Z
UID:10012587-1730230200-1730233800@pielcaneladancers.com
SUMMARY:Reggaeton
DESCRIPTION:Open Class: 4 week series: Tuesdays\, Oct 22 – Nov 12
URL:https://pielcaneladancers.com/event/reggaeton-19/2024-10-29/
LOCATION:Room 410\, located on 4th Floor of Pearl Studios:\, 500 8th Ave. between 35/36 Streets\, NYC\, NY\, 10018\, United States
CATEGORIES:Open Level Class
ATTACH;FMTTYPE=image/jpeg:https://pielcaneladancers.com/wp-content/uploads/2024/10/Anyelina_Tuesdays.jpg
END:VEVENT
BEGIN:VEVENT
DTSTART;TZID=UTC:20241029T183000
DTEND;TZID=UTC:20241029T193000
DTSTAMP:20260424T081422
CREATED:20241022T171822Z
LAST-MODIFIED:20241105T184427Z
UID:10012581-1730226600-1730230200@pielcaneladancers.com
SUMMARY:BellyDance: Level 1
DESCRIPTION:Curriculum Class: 4 week series: Tuesdays\, Oct 22 – Nov 12
URL:https://pielcaneladancers.com/event/bellydance-level-1-5/2024-10-29/
LOCATION:Room 410\, located on 4th Floor of Pearl Studios:\, 500 8th Ave. between 35/36 Streets\, NYC\, NY\, 10018\, United States
ATTACH;FMTTYPE=image/jpeg:https://pielcaneladancers.com/wp-content/uploads/2024/10/Anyelina_Tuesdays.jpg
END:VEVENT
BEGIN:VEVENT
DTSTART;TZID=UTC:20241028T193000
DTEND;TZID=UTC:20241028T203000
DTSTAMP:20260424T081422
CREATED:20241016T173334Z
LAST-MODIFIED:20241122T165003Z
UID:10012476-1730143800-1730147400@pielcaneladancers.com
SUMMARY:Tango: Level 2
DESCRIPTION:Curriculum Class: 6 week series: Every Monday\, Oct 21 – Nov 25
URL:https://pielcaneladancers.com/event/tango-level-2-8/2024-10-28/
LOCATION:Room 410\, located on 4th Floor of Pearl Studios:\, 500 8th Ave. between 35/36 Streets\, NYC\, NY\, 10018\, United States
CATEGORIES:Level 2 Advance Beginner
ATTACH;FMTTYPE=image/jpeg:https://pielcaneladancers.com/wp-content/uploads/2024/10/Jaime_Tango.jpg
END:VEVENT
BEGIN:VEVENT
DTSTART;TZID=UTC:20241028T183000
DTEND;TZID=UTC:20241028T193000
DTSTAMP:20260424T081422
CREATED:20241016T173306Z
LAST-MODIFIED:20241122T164953Z
UID:10012470-1730140200-1730143800@pielcaneladancers.com
SUMMARY:Tango: Level 1
DESCRIPTION:Curriculum Class: 6 week series: Every Monday\, Oct 21 – Nov 25
URL:https://pielcaneladancers.com/event/tango-level-1-8/2024-10-28/
LOCATION:Room 410\, located on 4th Floor of Pearl Studios:\, 500 8th Ave. between 35/36 Streets\, NYC\, NY\, 10018\, United States
CATEGORIES:Level 1 Beginner
ATTACH;FMTTYPE=image/jpeg:https://pielcaneladancers.com/wp-content/uploads/2024/10/Jaime_Tango.jpg
END:VEVENT
BEGIN:VEVENT
DTSTART;TZID=America/New_York:20241023T203000
DTEND;TZID=America/New_York:20241023T213000
DTSTAMP:20260424T081422
CREATED:20241001T165121Z
LAST-MODIFIED:20241113T183053Z
UID:10012205-1729715400-1729719000@pielcaneladancers.com
SUMMARY:Kizomba: Level 2
DESCRIPTION:Curriculum Class: 6 week series: Every Wednesday\, Oct 9 – Nov 13
URL:https://pielcaneladancers.com/event/kizomba-level-2-7/2024-10-23/
LOCATION:Room 410\, located on 4th Floor of Pearl Studios:\, 500 8th Ave. between 35/36 Streets\, NYC\, NY\, 10018\, United States
ATTACH;FMTTYPE=image/jpeg:https://pielcaneladancers.com/wp-content/uploads/2024/10/Steve_Kizomba.jpg
END:VEVENT
BEGIN:VEVENT
DTSTART;TZID=America/New_York:20241023T193000
DTEND;TZID=America/New_York:20241023T203000
DTSTAMP:20260424T081422
CREATED:20241001T165059Z
LAST-MODIFIED:20241113T183044Z
UID:10012199-1729711800-1729715400@pielcaneladancers.com
SUMMARY:Kizomba: Level 1
DESCRIPTION:Curriculum Class: 6 week series: Every Wednesday\, Oct 9 – Nov 13
URL:https://pielcaneladancers.com/event/kizomba-level-1-7/2024-10-23/
LOCATION:Room 410\, located on 4th Floor of Pearl Studios:\, 500 8th Ave. between 35/36 Streets\, NYC\, NY\, 10018\, United States
ATTACH;FMTTYPE=image/jpeg:https://pielcaneladancers.com/wp-content/uploads/2024/10/Steve_Kizomba.jpg
END:VEVENT
BEGIN:VEVENT
DTSTART;TZID=America/New_York:20241022T203000
DTEND;TZID=America/New_York:20241022T213000
DTSTAMP:20260424T081422
CREATED:20241022T172235Z
LAST-MODIFIED:20241105T184518Z
UID:10012593-1729629000-1729632600@pielcaneladancers.com
SUMMARY:Hip Hop
DESCRIPTION:Open Class: 4 week series: Tuesdays\, Oct 22 – Nov 12
URL:https://pielcaneladancers.com/event/hip-hop-21/2024-10-22/
LOCATION:Room 410\, located on 4th Floor of Pearl Studios:\, 500 8th Ave. between 35/36 Streets\, NYC\, NY\, 10018\, United States
CATEGORIES:Open Level Class
ATTACH;FMTTYPE=image/jpeg:https://pielcaneladancers.com/wp-content/uploads/2024/10/Anyelina_Tuesdays.jpg
END:VEVENT
END:VCALENDAR