BEGIN:VCALENDAR
VERSION:2.0
PRODID:-//PielCanela - ECPv6.15.20//NONSGML v1.0//EN
CALSCALE:GREGORIAN
METHOD:PUBLISH
X-WR-CALNAME:PielCanela
X-ORIGINAL-URL:https://pielcaneladancers.com
X-WR-CALDESC:Events for PielCanela
REFRESH-INTERVAL;VALUE=DURATION:PT1H
X-Robots-Tag:noindex
X-PUBLISHED-TTL:PT1H
BEGIN:VTIMEZONE
TZID:UTC
BEGIN:STANDARD
TZOFFSETFROM:+0000
TZOFFSETTO:+0000
TZNAME:UTC
DTSTART:20230101T000000
END:STANDARD
END:VTIMEZONE
BEGIN:VTIMEZONE
TZID:America/New_York
BEGIN:DAYLIGHT
TZOFFSETFROM:-0500
TZOFFSETTO:-0400
TZNAME:EDT
DTSTART:20230312T070000
END:DAYLIGHT
BEGIN:STANDARD
TZOFFSETFROM:-0400
TZOFFSETTO:-0500
TZNAME:EST
DTSTART:20231105T060000
END:STANDARD
BEGIN:DAYLIGHT
TZOFFSETFROM:-0500
TZOFFSETTO:-0400
TZNAME:EDT
DTSTART:20240310T070000
END:DAYLIGHT
BEGIN:STANDARD
TZOFFSETFROM:-0400
TZOFFSETTO:-0500
TZNAME:EST
DTSTART:20241103T060000
END:STANDARD
BEGIN:DAYLIGHT
TZOFFSETFROM:-0500
TZOFFSETTO:-0400
TZNAME:EDT
DTSTART:20250309T070000
END:DAYLIGHT
BEGIN:STANDARD
TZOFFSETFROM:-0400
TZOFFSETTO:-0500
TZNAME:EST
DTSTART:20251102T060000
END:STANDARD
END:VTIMEZONE
BEGIN:VEVENT
DTSTART;TZID=UTC:20240425T203000
DTEND;TZID=UTC:20240425T213000
DTSTAMP:20260424T133503
CREATED:20240417T181427Z
LAST-MODIFIED:20240513T231040Z
UID:10008947-1714077000-1714080600@pielcaneladancers.com
SUMMARY:Pilates
DESCRIPTION:Curriculum Class: 4 week series: Thursdays\, Apr 25 – May 16
URL:https://pielcaneladancers.com/event/pilates-4/2024-04-25/
LOCATION:Room 410\, located on 4th Floor of Pearl Studios:\, 500 8th Ave. between 35/36 Streets\, NYC\, NY\, 10018\, United States
CATEGORIES:Open Level Class
END:VEVENT
BEGIN:VEVENT
DTSTART;TZID=UTC:20240425T193000
DTEND;TZID=UTC:20240425T203000
DTSTAMP:20260424T133503
CREATED:20240417T181341Z
LAST-MODIFIED:20240513T230819Z
UID:10008939-1714073400-1714077000@pielcaneladancers.com
SUMMARY:Flamenco: Level 1
DESCRIPTION:Curriculum Class: 4 week series: Thursdays\, Apr 25 – May 16
URL:https://pielcaneladancers.com/event/flamenco-level-1-3/2024-04-25/
LOCATION:Room 410\, located on 4th Floor of Pearl Studios:\, 500 8th Ave. between 35/36 Streets\, NYC\, NY\, 10018\, United States
CATEGORIES:Level 1 Beginner
END:VEVENT
BEGIN:VEVENT
DTSTART;TZID=UTC:20240424T183000
DTEND;TZID=UTC:20240424T193000
DTSTAMP:20260424T133503
CREATED:20240403T170606Z
LAST-MODIFIED:20240513T203524Z
UID:10008471-1713983400-1713987000@pielcaneladancers.com
SUMMARY:Bachata: Level 3
DESCRIPTION:Curriculum Class: 6 week series: Every Wednesday\, Apr 10 – May 15
URL:https://pielcaneladancers.com/event/bachata-level-3-3/2024-04-24/
LOCATION:Room 410\, located on 4th Floor of Pearl Studios:\, 500 8th Ave. between 35/36 Streets\, NYC\, NY\, 10018\, United States
CATEGORIES:Level 3 Intermediate
END:VEVENT
BEGIN:VEVENT
DTSTART;TZID=UTC:20240423T183000
DTEND;TZID=UTC:20240423T193000
DTSTAMP:20260424T133503
CREATED:20240408T144710Z
LAST-MODIFIED:20240514T213931Z
UID:10008786-1713897000-1713900600@pielcaneladancers.com
SUMMARY:Salsa Ladies Styling:  Level 1.5
DESCRIPTION:Curriculum Class: 6 week series: Every Tuesday\, Apr 9 – May 14
URL:https://pielcaneladancers.com/event/salsa-ladies-styling-level-1-5-4/2024-04-23/
LOCATION:Room 410\, located on 4th Floor of Pearl Studios:\, 500 8th Ave. between 35/36 Streets\, NYC\, NY\, 10018\, United States
CATEGORIES:Level 1 Beginner
ATTACH;FMTTYPE=image/jpeg:https://pielcaneladancers.com/wp-content/uploads/2024/04/Veronica_Tuesdays.jpg
END:VEVENT
BEGIN:VEVENT
DTSTART;TZID=UTC:20240418T203000
DTEND;TZID=UTC:20240418T213000
DTSTAMP:20260424T133503
CREATED:20240327T190612Z
LAST-MODIFIED:20240417T191743Z
UID:10008057-1713472200-1713475800@pielcaneladancers.com
SUMMARY:Pilates
DESCRIPTION:Curriculum Class: 4 week series: Thursdays\, Mar 28 – Apr 18 \nCheck it out:
URL:https://pielcaneladancers.com/event/pilates-3/2024-04-18/
LOCATION:Room 410\, located on 4th Floor of Pearl Studios:\, 500 8th Ave. between 35/36 Streets\, NYC\, NY\, 10018\, United States
CATEGORIES:Open Level Class
END:VEVENT
BEGIN:VEVENT
DTSTART;TZID=UTC:20240418T193000
DTEND;TZID=UTC:20240418T203000
DTSTAMP:20260424T133503
CREATED:20240327T190409Z
LAST-MODIFIED:20240416T173831Z
UID:10008062-1713468600-1713472200@pielcaneladancers.com
SUMMARY:Flamenco: Level 1
DESCRIPTION:Curriculum Class: 4 week series: Thursdays\, Mar 28 – Apr 18
URL:https://pielcaneladancers.com/event/flamenco-level-1-2-2/2024-04-18/
LOCATION:Room 410\, located on 4th Floor of Pearl Studios:\, 500 8th Ave. between 35/36 Streets\, NYC\, NY\, 10018\, United States
CATEGORIES:Level 1 Beginner
END:VEVENT
BEGIN:VEVENT
DTSTART;TZID=UTC:20240417T183000
DTEND;TZID=UTC:20240417T193000
DTSTAMP:20260424T133503
CREATED:20240403T170606Z
LAST-MODIFIED:20240513T203524Z
UID:10008470-1713378600-1713382200@pielcaneladancers.com
SUMMARY:Bachata: Level 3
DESCRIPTION:Curriculum Class: 6 week series: Every Wednesday\, Apr 10 – May 15
URL:https://pielcaneladancers.com/event/bachata-level-3-3/2024-04-17/
LOCATION:Room 410\, located on 4th Floor of Pearl Studios:\, 500 8th Ave. between 35/36 Streets\, NYC\, NY\, 10018\, United States
CATEGORIES:Level 3 Intermediate
END:VEVENT
BEGIN:VEVENT
DTSTART;TZID=UTC:20240416T183000
DTEND;TZID=UTC:20240416T193000
DTSTAMP:20260424T133503
CREATED:20240408T144710Z
LAST-MODIFIED:20240514T213931Z
UID:10008785-1713292200-1713295800@pielcaneladancers.com
SUMMARY:Salsa Ladies Styling:  Level 1.5
DESCRIPTION:Curriculum Class: 6 week series: Every Tuesday\, Apr 9 – May 14
URL:https://pielcaneladancers.com/event/salsa-ladies-styling-level-1-5-4/2024-04-16/
LOCATION:Room 410\, located on 4th Floor of Pearl Studios:\, 500 8th Ave. between 35/36 Streets\, NYC\, NY\, 10018\, United States
CATEGORIES:Level 1 Beginner
ATTACH;FMTTYPE=image/jpeg:https://pielcaneladancers.com/wp-content/uploads/2024/04/Veronica_Tuesdays.jpg
END:VEVENT
BEGIN:VEVENT
DTSTART;TZID=UTC:20240411T203000
DTEND;TZID=UTC:20240411T213000
DTSTAMP:20260424T133503
CREATED:20240327T190612Z
LAST-MODIFIED:20240417T191743Z
UID:10008056-1712867400-1712871000@pielcaneladancers.com
SUMMARY:Pilates
DESCRIPTION:Curriculum Class: 4 week series: Thursdays\, Mar 28 – Apr 18 \nCheck it out:
URL:https://pielcaneladancers.com/event/pilates-3/2024-04-11/
LOCATION:Room 410\, located on 4th Floor of Pearl Studios:\, 500 8th Ave. between 35/36 Streets\, NYC\, NY\, 10018\, United States
CATEGORIES:Open Level Class
END:VEVENT
BEGIN:VEVENT
DTSTART;TZID=UTC:20240411T193000
DTEND;TZID=UTC:20240411T203000
DTSTAMP:20260424T133503
CREATED:20240327T190409Z
LAST-MODIFIED:20240416T173831Z
UID:10008061-1712863800-1712867400@pielcaneladancers.com
SUMMARY:Flamenco: Level 1
DESCRIPTION:Curriculum Class: 4 week series: Thursdays\, Mar 28 – Apr 18
URL:https://pielcaneladancers.com/event/flamenco-level-1-2-2/2024-04-11/
LOCATION:Room 410\, located on 4th Floor of Pearl Studios:\, 500 8th Ave. between 35/36 Streets\, NYC\, NY\, 10018\, United States
CATEGORIES:Level 1 Beginner
END:VEVENT
BEGIN:VEVENT
DTSTART;TZID=UTC:20240410T183000
DTEND;TZID=UTC:20240410T193000
DTSTAMP:20260424T133503
CREATED:20240403T170606Z
LAST-MODIFIED:20240513T203524Z
UID:10008469-1712773800-1712777400@pielcaneladancers.com
SUMMARY:Bachata: Level 3
DESCRIPTION:Curriculum Class: 6 week series: Every Wednesday\, Apr 10 – May 15
URL:https://pielcaneladancers.com/event/bachata-level-3-3/2024-04-10/
LOCATION:Room 410\, located on 4th Floor of Pearl Studios:\, 500 8th Ave. between 35/36 Streets\, NYC\, NY\, 10018\, United States
CATEGORIES:Level 3 Intermediate
END:VEVENT
BEGIN:VEVENT
DTSTART;TZID=UTC:20240409T183000
DTEND;TZID=UTC:20240409T193000
DTSTAMP:20260424T133503
CREATED:20240408T144710Z
LAST-MODIFIED:20240514T213931Z
UID:10008784-1712687400-1712691000@pielcaneladancers.com
SUMMARY:Salsa Ladies Styling:  Level 1.5
DESCRIPTION:Curriculum Class: 6 week series: Every Tuesday\, Apr 9 – May 14
URL:https://pielcaneladancers.com/event/salsa-ladies-styling-level-1-5-4/2024-04-09/
LOCATION:Room 410\, located on 4th Floor of Pearl Studios:\, 500 8th Ave. between 35/36 Streets\, NYC\, NY\, 10018\, United States
CATEGORIES:Level 1 Beginner
ATTACH;FMTTYPE=image/jpeg:https://pielcaneladancers.com/wp-content/uploads/2024/04/Veronica_Tuesdays.jpg
END:VEVENT
BEGIN:VEVENT
DTSTART;TZID=UTC:20240404T203000
DTEND;TZID=UTC:20240404T213000
DTSTAMP:20260424T133503
CREATED:20240327T190612Z
LAST-MODIFIED:20240417T191743Z
UID:10008055-1712262600-1712266200@pielcaneladancers.com
SUMMARY:Pilates
DESCRIPTION:Curriculum Class: 4 week series: Thursdays\, Mar 28 – Apr 18 \nCheck it out:
URL:https://pielcaneladancers.com/event/pilates-3/2024-04-04/
LOCATION:Room 410\, located on 4th Floor of Pearl Studios:\, 500 8th Ave. between 35/36 Streets\, NYC\, NY\, 10018\, United States
CATEGORIES:Open Level Class
END:VEVENT
BEGIN:VEVENT
DTSTART;TZID=UTC:20240404T193000
DTEND;TZID=UTC:20240404T203000
DTSTAMP:20260424T133503
CREATED:20240327T190409Z
LAST-MODIFIED:20240416T173831Z
UID:10008060-1712259000-1712262600@pielcaneladancers.com
SUMMARY:Flamenco: Level 1
DESCRIPTION:Curriculum Class: 4 week series: Thursdays\, Mar 28 – Apr 18
URL:https://pielcaneladancers.com/event/flamenco-level-1-2-2/2024-04-04/
LOCATION:Room 410\, located on 4th Floor of Pearl Studios:\, 500 8th Ave. between 35/36 Streets\, NYC\, NY\, 10018\, United States
CATEGORIES:Level 1 Beginner
END:VEVENT
BEGIN:VEVENT
DTSTART;TZID=UTC:20240328T203000
DTEND;TZID=UTC:20240328T213000
DTSTAMP:20260424T133503
CREATED:20240327T190612Z
LAST-MODIFIED:20240417T191743Z
UID:10008054-1711657800-1711661400@pielcaneladancers.com
SUMMARY:Pilates
DESCRIPTION:Curriculum Class: 4 week series: Thursdays\, Mar 28 – Apr 18 \nCheck it out:
URL:https://pielcaneladancers.com/event/pilates-3/2024-03-28/
LOCATION:Room 410\, located on 4th Floor of Pearl Studios:\, 500 8th Ave. between 35/36 Streets\, NYC\, NY\, 10018\, United States
CATEGORIES:Open Level Class
END:VEVENT
BEGIN:VEVENT
DTSTART;TZID=UTC:20240328T193000
DTEND;TZID=UTC:20240328T203000
DTSTAMP:20260424T133503
CREATED:20240327T190409Z
LAST-MODIFIED:20240416T173831Z
UID:10005566-1711654200-1711657800@pielcaneladancers.com
SUMMARY:Flamenco: Level 1
DESCRIPTION:Curriculum Class: 4 week series: Thursdays\, Mar 28 – Apr 18
URL:https://pielcaneladancers.com/event/flamenco-level-1-2-2/2024-03-28/
LOCATION:Room 410\, located on 4th Floor of Pearl Studios:\, 500 8th Ave. between 35/36 Streets\, NYC\, NY\, 10018\, United States
CATEGORIES:Level 1 Beginner
END:VEVENT
BEGIN:VEVENT
DTSTART;TZID=America/New_York:20240215T183000
DTEND;TZID=America/New_York:20240215T193000
DTSTAMP:20260424T133503
CREATED:20240103T112139Z
LAST-MODIFIED:20240212T212611Z
UID:10004451-1708021800-1708025400@pielcaneladancers.com
SUMMARY:Cumbia: Level 1
DESCRIPTION:Curriculum Class: 6 week series: Every Thursday\, Jan 11 – Feb 15
URL:https://pielcaneladancers.com/event/cumbia-level-1-2/2024-02-15/
LOCATION:Room 410\, located on 4th Floor of Pearl Studios:\, 500 8th Ave. between 35/36 Streets\, NYC\, NY\, 10018\, United States
CATEGORIES:Level 1 Beginner
ATTACH;FMTTYPE=image/jpeg:https://pielcaneladancers.com/wp-content/uploads/2024/01/Joe_Thursdays.jpg
END:VEVENT
BEGIN:VEVENT
DTSTART;TZID=America/New_York:20240208T183000
DTEND;TZID=America/New_York:20240208T193000
DTSTAMP:20260424T133503
CREATED:20240103T112139Z
LAST-MODIFIED:20240212T212611Z
UID:10004450-1707417000-1707420600@pielcaneladancers.com
SUMMARY:Cumbia: Level 1
DESCRIPTION:Curriculum Class: 6 week series: Every Thursday\, Jan 11 – Feb 15
URL:https://pielcaneladancers.com/event/cumbia-level-1-2/2024-02-08/
LOCATION:Room 410\, located on 4th Floor of Pearl Studios:\, 500 8th Ave. between 35/36 Streets\, NYC\, NY\, 10018\, United States
CATEGORIES:Level 1 Beginner
ATTACH;FMTTYPE=image/jpeg:https://pielcaneladancers.com/wp-content/uploads/2024/01/Joe_Thursdays.jpg
END:VEVENT
BEGIN:VEVENT
DTSTART;TZID=America/New_York:20240201T183000
DTEND;TZID=America/New_York:20240201T193000
DTSTAMP:20260424T133503
CREATED:20240103T112139Z
LAST-MODIFIED:20240212T212611Z
UID:10004449-1706812200-1706815800@pielcaneladancers.com
SUMMARY:Cumbia: Level 1
DESCRIPTION:Curriculum Class: 6 week series: Every Thursday\, Jan 11 – Feb 15
URL:https://pielcaneladancers.com/event/cumbia-level-1-2/2024-02-01/
LOCATION:Room 410\, located on 4th Floor of Pearl Studios:\, 500 8th Ave. between 35/36 Streets\, NYC\, NY\, 10018\, United States
CATEGORIES:Level 1 Beginner
ATTACH;FMTTYPE=image/jpeg:https://pielcaneladancers.com/wp-content/uploads/2024/01/Joe_Thursdays.jpg
END:VEVENT
BEGIN:VEVENT
DTSTART;TZID=America/New_York:20240125T183000
DTEND;TZID=America/New_York:20240125T193000
DTSTAMP:20260424T133503
CREATED:20240103T112139Z
LAST-MODIFIED:20240212T212611Z
UID:10004448-1706207400-1706211000@pielcaneladancers.com
SUMMARY:Cumbia: Level 1
DESCRIPTION:Curriculum Class: 6 week series: Every Thursday\, Jan 11 – Feb 15
URL:https://pielcaneladancers.com/event/cumbia-level-1-2/2024-01-25/
LOCATION:Room 410\, located on 4th Floor of Pearl Studios:\, 500 8th Ave. between 35/36 Streets\, NYC\, NY\, 10018\, United States
CATEGORIES:Level 1 Beginner
ATTACH;FMTTYPE=image/jpeg:https://pielcaneladancers.com/wp-content/uploads/2024/01/Joe_Thursdays.jpg
END:VEVENT
BEGIN:VEVENT
DTSTART;TZID=America/New_York:20240118T183000
DTEND;TZID=America/New_York:20240118T193000
DTSTAMP:20260424T133503
CREATED:20240103T112139Z
LAST-MODIFIED:20240212T212611Z
UID:10004447-1705602600-1705606200@pielcaneladancers.com
SUMMARY:Cumbia: Level 1
DESCRIPTION:Curriculum Class: 6 week series: Every Thursday\, Jan 11 – Feb 15
URL:https://pielcaneladancers.com/event/cumbia-level-1-2/2024-01-18/
LOCATION:Room 410\, located on 4th Floor of Pearl Studios:\, 500 8th Ave. between 35/36 Streets\, NYC\, NY\, 10018\, United States
CATEGORIES:Level 1 Beginner
ATTACH;FMTTYPE=image/jpeg:https://pielcaneladancers.com/wp-content/uploads/2024/01/Joe_Thursdays.jpg
END:VEVENT
BEGIN:VEVENT
DTSTART;TZID=America/New_York:20240111T183000
DTEND;TZID=America/New_York:20240111T193000
DTSTAMP:20260424T133503
CREATED:20240103T112139Z
LAST-MODIFIED:20240212T212611Z
UID:10004446-1704997800-1705001400@pielcaneladancers.com
SUMMARY:Cumbia: Level 1
DESCRIPTION:Curriculum Class: 6 week series: Every Thursday\, Jan 11 – Feb 15
URL:https://pielcaneladancers.com/event/cumbia-level-1-2/2024-01-11/
LOCATION:Room 410\, located on 4th Floor of Pearl Studios:\, 500 8th Ave. between 35/36 Streets\, NYC\, NY\, 10018\, United States
CATEGORIES:Level 1 Beginner
ATTACH;FMTTYPE=image/jpeg:https://pielcaneladancers.com/wp-content/uploads/2024/01/Joe_Thursdays.jpg
END:VEVENT
END:VCALENDAR